BEGIN:VCALENDAR
VERSION:2.0
PRODID:icalendar-ruby
CALSCALE:GREGORIAN
BEGIN:VTIMEZONE
TZID:America/Chicago
BEGIN:DAYLIGHT
DTSTART:20260308T030000
TZOFFSETFROM:-0600
TZOFFSETTO:-0500
RRULE:FREQ=YEARLY;BYDAY=2SU;BYMONTH=3
TZNAME:CDT
END:DAYLIGHT
BEGIN:STANDARD
DTSTART:20261101T010000
TZOFFSETFROM:-0500
TZOFFSETTO:-0600
RRULE:FREQ=YEARLY;BYDAY=1SU;BYMONTH=11
TZNAME:CST
END:STANDARD
END:VTIMEZONE
BEGIN:VEVENT
DTSTAMP:20260419T175919Z
UID:5360b8a3-1df7-4c43-899c-66c150dea2c8
DTSTART:20260420T163000
DTEND:20260420T173000
DESCRIPTION:
LOCATION:
SUMMARY:HS Slow Pitch Vs Norman/Lawton 3 way
END:VEVENT
BEGIN:VEVENT
DTSTAMP:20260419T175919Z
UID:0d5af45c-fe63-4458-b4c3-97ac836ebd6b
DTSTART:20260422T163000
DTEND:20260422T173000
DESCRIPTION:
LOCATION:2201 SE 22nd St\, Oklahoma City\, OK 73129\, USA
SUMMARY:HS Slow Pitch vs Western Heights (Home)
END:VEVENT
END:VCALENDAR
