BEGIN:VCALENDAR
VERSION:2.0
PRODID:icalendar-ruby
CALSCALE:GREGORIAN
BEGIN:VTIMEZONE
TZID:America/Chicago
BEGIN:DAYLIGHT
DTSTART:20260308T030000
TZOFFSETFROM:-0600
TZOFFSETTO:-0500
RRULE:FREQ=YEARLY;BYDAY=2SU;BYMONTH=3
TZNAME:CDT
END:DAYLIGHT
BEGIN:STANDARD
DTSTART:20261101T010000
TZOFFSETFROM:-0500
TZOFFSETTO:-0600
RRULE:FREQ=YEARLY;BYDAY=1SU;BYMONTH=11
TZNAME:CST
END:STANDARD
END:VTIMEZONE
BEGIN:VEVENT
DTSTAMP:20260420T142043Z
UID:1afea78e-acc2-4978-aa80-5d674d47ad9c
DTSTART:20260420T150000
DTEND:20260420T234500
DESCRIPTION:
LOCATION:Bessemer\, MI 49911\, USA
SUMMARY:Gogebic Miners Baseball vs. Bayfield
END:VEVENT
BEGIN:VEVENT
DTSTAMP:20260420T142043Z
UID:12608f04-7047-462d-9588-3e44b51ed7e9
DTSTART:20260420T160000
DTEND:20260420T234500
DESCRIPTION:
LOCATION:Ashland\, WI\, USA
SUMMARY:Gogebic Miners Softball  vs. Hurley
END:VEVENT
BEGIN:VEVENT
DTSTAMP:20260420T142043Z
UID:db569c67-b880-4031-89af-11bcd5a891ea
DTSTART:20260421T033000
DTEND:20260421T170000
DESCRIPTION:<p>location:  MPR</p>
LOCATION:100 W Lead St\, Bessemer\, MI 49911\, USA
SUMMARY:Science Fair & Art Show
END:VEVENT
BEGIN:VEVENT
DTSTAMP:20260420T142043Z
UID:a7df1f84-9373-477d-84dc-80560d2fefd4
DTSTART:20260421T180000
DTEND:20260421T193000
DESCRIPTION:
LOCATION:100 W Lead St\, Bessemer\, MI 49911\, USA
SUMMARY:5-12 Spring Band Concert
END:VEVENT
BEGIN:VEVENT
DTSTAMP:20260420T142043Z
UID:f34f6972-a33d-45bb-b023-3e46580a6e4d
DTSTART:20260422T093000
DTEND:20260422T170000
DESCRIPTION:
LOCATION:Wakefield\, MI 49968\, USA
SUMMARY:Jr. High Track-Wakefield JH Invite
END:VEVENT
BEGIN:VEVENT
DTSTAMP:20260420T142043Z
UID:5328f72b-9315-40e8-8d22-7555fb7c65fa
DTSTART:20260422T170000
DTEND:20260422T234500
DESCRIPTION:
LOCATION:Ontonagon\, MI 49953\, USA
SUMMARY:Gogebic Miners Softball  vs. Ontonagon
END:VEVENT
BEGIN:VEVENT
DTSTAMP:20260420T142043Z
UID:31763e18-bc51-4847-9bbb-830d65c2e99e
DTSTART;VALUE=DATE:20260423
DTEND;VALUE=DATE:20260424
DESCRIPTION:
LOCATION:
SUMMARY:Half Day (11:17 dismissal)
END:VEVENT
BEGIN:VEVENT
DTSTAMP:20260420T142043Z
UID:afd03ca8-9f02-4c55-a839-82685e714ce6
DTSTART:20260423T120000
DTEND:20260423T170000
DESCRIPTION:
LOCATION:301 E Sellar St\, Bessemer\, MI 49911\, USA
SUMMARY:Kindergarten Round-Up 2026! 
END:VEVENT
BEGIN:VEVENT
DTSTAMP:20260420T142043Z
UID:19fe0d1c-fc0f-4f07-8ff7-30de81d40cf1
DTSTART:20260423T150000
DTEND:20260423T234500
DESCRIPTION:
LOCATION:Ramsay\, MI\, USA
SUMMARY:Gogebic Miners Softball  vs. Calumet
END:VEVENT
BEGIN:VEVENT
DTSTAMP:20260420T142043Z
UID:c375a7b5-9301-407d-a8a1-0fd3bed7e96d
DTSTART:20260423T150000
DTEND:20260423T170000
DESCRIPTION:<p>rescheduled from 4/2/26</p>
LOCATION:
SUMMARY:Parent-Teacher Conferences - Both Buildings
END:VEVENT
BEGIN:VEVENT
DTSTAMP:20260420T142043Z
UID:83daacd6-6cc9-4fc4-8819-95bb5381ab2d
DTSTART:20260424T150000
DTEND:20260424T234500
DESCRIPTION:
LOCATION:Bessemer\, MI 49911\, USA
SUMMARY:Gogebic Miners Baseball vs. Calumet
END:VEVENT
BEGIN:VEVENT
DTSTAMP:20260420T142043Z
UID:f9733955-272b-4e30-bcda-7321e2f0bf6a
DTSTART:20260424T160000
DTEND:20260424T234500
DESCRIPTION:
LOCATION:Eagle River\, WI 54521\, USA
SUMMARY:High School Track - Northland Pines Outdoor
END:VEVENT
BEGIN:VEVENT
DTSTAMP:20260420T142043Z
UID:371bff61-9e49-4e29-9579-04abe6c186e9
DTSTART;VALUE=DATE:20260425
DTEND;VALUE=DATE:20260426
DESCRIPTION:
LOCATION:Hancock\, MI 49930\, USA
SUMMARY:Gogebic Miners Softball - Copper Country Softball Invite
END:VEVENT
BEGIN:VEVENT
DTSTAMP:20260420T142043Z
UID:11289b56-cdd6-42a2-b861-0dbb63533a47
DTSTART:20260427T150000
DTEND:20260427T234500
DESCRIPTION:
LOCATION:Bessemer\, MI 49911\, USA
SUMMARY:Gogebic Miners Baseball vs. Hurley
END:VEVENT
BEGIN:VEVENT
DTSTAMP:20260420T142043Z
UID:5b93e5f1-166c-4b87-9090-d7889b8c45bd
DTSTART:20260427T160000
DTEND:20260427T234500
DESCRIPTION:
LOCATION:Ironwood\, MI 49938\, USA
SUMMARY: High School Track - Kramer
END:VEVENT
BEGIN:VEVENT
DTSTAMP:20260420T142043Z
UID:b8e514b6-26fb-4288-a44f-f8feea0de36a
DTSTART:20260428T093000
DTEND:20260428T170000
DESCRIPTION:
LOCATION:Hurley\, WI 54534\, USA
SUMMARY:Jr. High Track - Hurley JH Invite
END:VEVENT
BEGIN:VEVENT
DTSTAMP:20260420T142043Z
UID:50ea1e34-c0a8-40d1-9d0c-d5d3f05ca2cf
DTSTART:20260428T150000
DTEND:20260428T234500
DESCRIPTION:
LOCATION:Bessemer\, MI 49911\, USA
SUMMARY:Gogebic Miners Baseball vs. Ironwood
END:VEVENT
BEGIN:VEVENT
DTSTAMP:20260420T142043Z
UID:385b66b0-5687-4113-9ddb-79455909b3b2
DTSTART:20260428T160000
DTEND:20260428T234500
DESCRIPTION:
LOCATION:Ramsay\, MI\, USA
SUMMARY:Gogebic Miners Softball  vs. Ironwood (JV/V)
END:VEVENT
BEGIN:VEVENT
DTSTAMP:20260420T142043Z
UID:6956b80c-7276-4c64-a545-cdc40cef4a15
DTSTART:20260429T000000
DTEND:20260429T234500
DESCRIPTION:
LOCATION:Baraga\, MI 49908\, USA
SUMMARY:Golf - Baraga Invite (Time TBD)
END:VEVENT
BEGIN:VEVENT
DTSTAMP:20260420T142043Z
UID:f3bab760-3f8d-4fb3-92a6-698a8ead908b
DTSTART:20260429T150000
DTEND:20260429T234500
DESCRIPTION:
LOCATION:Houghton\, MI\, USA
SUMMARY:Gogebic Miners Softball  vs. Houghton 
END:VEVENT
BEGIN:VEVENT
DTSTAMP:20260420T142043Z
UID:1d96dd3d-8dda-45aa-be0f-944277dbd1db
DTSTART:20260430T143000
DTEND:20260430T234500
DESCRIPTION:
LOCATION:Ontonagon\, MI 49953\, USA
SUMMARY:High School Track - Ontonagon
END:VEVENT
BEGIN:VEVENT
DTSTAMP:20260420T142043Z
UID:783c3e11-109e-4fff-bb93-4deccfde171b
DTSTART:20260430T150000
DTEND:20260430T234500
DESCRIPTION:
LOCATION:Bessemer\, MI 49911\, USA
SUMMARY:Gogebic Miners Baseball vs. Jeffers
END:VEVENT
BEGIN:VEVENT
DTSTAMP:20260420T142043Z
UID:3fd9e847-d981-494e-994b-7ddb8429214f
DTSTART;VALUE=DATE:20260501
DTEND;VALUE=DATE:20260502
DESCRIPTION:
LOCATION:100 W Lead St\, Bessemer\, MI 49911\, USA
SUMMARY:Annual Sports Physicals
END:VEVENT
BEGIN:VEVENT
DTSTAMP:20260420T142043Z
UID:4262e2a0-c3d8-43f6-a63d-72dbc4b3d0f8
DTSTART:20260501T150000
DTEND:20260501T234500
DESCRIPTION:
LOCATION:L'Anse\, MI 49946\, USA
SUMMARY:Gogebic Miners Baseball vs. L'Anse
END:VEVENT
BEGIN:VEVENT
DTSTAMP:20260420T142043Z
UID:ce066141-f826-4280-8bfe-71de3ae218df
DTSTART:20260501T150000
DTEND:20260501T234500
DESCRIPTION:
LOCATION:L'Anse\, MI 49946\, USA
SUMMARY:Gogebic Miners Softball  vs. L'Anse
END:VEVENT
BEGIN:VEVENT
DTSTAMP:20260420T142043Z
UID:dc64e299-420f-4fc7-bb17-26816c4e75c8
DTSTART:20260504T150000
DTEND:20260504T234500
DESCRIPTION:
LOCATION:Calumet\, MI 49913\, USA
SUMMARY:Gogebic Miners Baseball vs. Calumet
END:VEVENT
BEGIN:VEVENT
DTSTAMP:20260420T142043Z
UID:a5ab3108-b027-4bd1-bf10-7a15abd00779
DTSTART:20260504T160000
DTEND:20260504T234500
DESCRIPTION:
LOCATION:Ashland\, WI\, USA
SUMMARY:High School Track - Ashland Invite
END:VEVENT
BEGIN:VEVENT
DTSTAMP:20260420T142043Z
UID:6717c718-316a-4b5a-a047-b7eb9535dea4
DTSTART:20260505T150000
DTEND:20260505T234500
DESCRIPTION:
LOCATION:Bessemer\, MI 49911\, USA
SUMMARY:Gogebic Miners Baseball vs. Ewen-Trout Creek
END:VEVENT
BEGIN:VEVENT
DTSTAMP:20260420T142043Z
UID:bb8a7036-860a-4ef8-b138-960a3e046688
DTSTART:20260505T150000
DTEND:20260505T234500
DESCRIPTION:
LOCATION:Painesdale\, MI 49905\, USA
SUMMARY:Gogebic Miners Softball  vs. Jeffers
END:VEVENT
BEGIN:VEVENT
DTSTAMP:20260420T142043Z
UID:59651046-eca4-4ac9-8dea-5230cb495982
DTSTART:20260505T160000
DTEND:20260505T234500
DESCRIPTION:
LOCATION:Minocqua\, WI 54548\, USA
SUMMARY:High School Track - Lakeland Invite
END:VEVENT
BEGIN:VEVENT
DTSTAMP:20260420T142043Z
UID:cf941b87-b30c-421a-a41e-1991757914d0
DTSTART:20260506T090000
DTEND:20260506T150000
DESCRIPTION:
LOCATION:Ironwood\, MI 49938\, USA
SUMMARY:Golf - Ironwood Invite
END:VEVENT
BEGIN:VEVENT
DTSTAMP:20260420T142043Z
UID:8b1f4df0-5e6b-471f-bf38-ba9616f83ca2
DTSTART:20260506T093000
DTEND:20260506T170000
DESCRIPTION:
LOCATION:Bessemer\, MI 49911\, USA
SUMMARY:Junior High Track - Bessemer JH Invite
END:VEVENT
BEGIN:VEVENT
DTSTAMP:20260420T142043Z
UID:c741920b-e977-4afe-bf2c-60f1e8883765
DTSTART:20260506T150000
DTEND:20260506T234500
DESCRIPTION:
LOCATION:Ramsay\, MI\, USA
SUMMARY:Gogebic Miners Softball  vs. Ontonagon (JV)
END:VEVENT
BEGIN:VEVENT
DTSTAMP:20260420T142043Z
UID:8d25db30-48dc-43a7-b956-798e56c6c5b1
DTSTART;VALUE=DATE:20260507
DTEND;VALUE=DATE:20260509
DESCRIPTION:
LOCATION:
SUMMARY:Smile Dental Program visit-Washington Elementary
END:VEVENT
BEGIN:VEVENT
DTSTAMP:20260420T142043Z
UID:2f8f4b47-08a4-4524-8b54-0b1a8c878297
DTSTART:20260507T130000
DTEND:20260507T234500
DESCRIPTION:
LOCATION:Bessemer\, MI 49911\, USA
SUMMARY:High School Track - Marcy Bracket Invite
END:VEVENT
BEGIN:VEVENT
DTSTAMP:20260420T142043Z
UID:d2c67ff7-9cbb-4feb-9ba3-e26b97ac847c
DTSTART:20260507T140000
DTEND:20260507T234500
DESCRIPTION:
LOCATION:Lake Linden\, MI 49945\, USA
SUMMARY:High School Track - MHSAA Regionals
END:VEVENT
BEGIN:VEVENT
DTSTAMP:20260420T142043Z
UID:19f64791-3212-47b0-8a5a-15da9b68b2dd
DTSTART:20260507T150000
DTEND:20260507T234500
DESCRIPTION:
LOCATION:Calumet\, MI
SUMMARY:Gogebic Miners Baseball  vs. Calumet
END:VEVENT
BEGIN:VEVENT
DTSTAMP:20260420T142043Z
UID:a4e1b6b4-4cff-4330-b9aa-fd918777c5fe
DTSTART:20260508T090000
DTEND:20260508T150000
DESCRIPTION:
LOCATION:Ontonagon\, MI 49953\, USA
SUMMARY:Golf - Ontonagon
END:VEVENT
BEGIN:VEVENT
DTSTAMP:20260420T142043Z
UID:79aefd3d-2809-4845-8fbe-05b79e3dacdb
DTSTART:20260508T150000
DTEND:20260508T234500
DESCRIPTION:
LOCATION:Lake Linden\, MI 49945\, USA
SUMMARY:Gogebic Miners Baseball vs. Lake Linden-Hubbell
END:VEVENT
BEGIN:VEVENT
DTSTAMP:20260420T142043Z
UID:4425c3be-806c-457d-bece-2eaae1e8fba1
DTSTART:20260508T150000
DTEND:20260508T234500
DESCRIPTION:
LOCATION:Lake Linden\, MI 49945\, USA
SUMMARY:Gogebic Miners Softball  vs. Lake Linden-Hubbell
END:VEVENT
BEGIN:VEVENT
DTSTAMP:20260420T142043Z
UID:2e25494c-1702-482f-aea6-ee4779ccf139
DTSTART;VALUE=DATE:20260509
DTEND;VALUE=DATE:20260510
DESCRIPTION:
LOCATION:213 S Marquette St # 1\, Ironwood\, MI 49938\, USA
SUMMARY:PROM
END:VEVENT
BEGIN:VEVENT
DTSTAMP:20260420T142043Z
UID:617c447d-d852-4fa6-ab58-a2990cd5ff91
DTSTART:20260511T093000
DTEND:20260511T170000
DESCRIPTION:
LOCATION:Ironwood\, MI 49938\, USA
SUMMARY:Jr. High Track - Ironwood JH Invite
END:VEVENT
BEGIN:VEVENT
DTSTAMP:20260420T142043Z
UID:f8456970-0c15-4f5b-b60e-7cb9f745cab7
DTSTART:20260511T150000
DTEND:20260511T234500
DESCRIPTION:
LOCATION:Ramsay\, MI\, USA
SUMMARY:Gogebic Miners Softball  vs. Hancock
END:VEVENT
BEGIN:VEVENT
DTSTAMP:20260420T142043Z
UID:9918f80a-b9c3-48d1-a759-ae8661a21544
DTSTART:20260512T150000
DTEND:20260512T234500
DESCRIPTION:
LOCATION:Ontonagon\, MI 49953\, USA
SUMMARY:Gogebic Miners Baseball vs. Ontonagon
END:VEVENT
BEGIN:VEVENT
DTSTAMP:20260420T142043Z
UID:2be609dd-de8c-4ba5-8c42-64f6529c19e2
DTSTART:20260512T153000
DTEND:20260512T234500
DESCRIPTION:
LOCATION:Ramsay\, MI\, USA
SUMMARY:Gogebic Miners Softball  vs. Ontonagon
END:VEVENT
BEGIN:VEVENT
DTSTAMP:20260420T142043Z
UID:d811ae02-b570-46a4-8b23-213467d8f7a0
DTSTART:20260513T150000
DTEND:20260513T234500
DESCRIPTION:
LOCATION:Bayfield\, WI 54814\, USA
SUMMARY:Gogebic Miners Baseball vs. Bayfield
END:VEVENT
BEGIN:VEVENT
DTSTAMP:20260420T142043Z
UID:8f1cd5df-d579-4acf-861d-bb72f3b96730
DTSTART:20260513T150000
DTEND:20260513T234500
DESCRIPTION:
LOCATION:Ramsay\, MI\, USA
SUMMARY:Gogebic Miners Softball  vs. Copper Island Academy (JV)
END:VEVENT
BEGIN:VEVENT
DTSTAMP:20260420T142043Z
UID:51743687-264f-4f6c-97cd-df065b2c26a6
DTSTART:20260514T150000
DTEND:20260514T234500
DESCRIPTION:
LOCATION:Painesdale\, MI 49905\, USA
SUMMARY:Gogebic Miners Baseball vs. Jeffers
END:VEVENT
BEGIN:VEVENT
DTSTAMP:20260420T142043Z
UID:ea7c194d-d8f8-4bfe-8e87-52c1e0d81745
DTSTART:20260515T000000
DTEND:20260515T170000
DESCRIPTION:
LOCATION:Calumet\, MI 49913\, USA
SUMMARY:Golf - Lake Linden Meet (time TBD)
END:VEVENT
BEGIN:VEVENT
DTSTAMP:20260420T142043Z
UID:f7c954ef-dc0c-4a5f-8985-a56a11c7a8fc
DTSTART:20260515T180000
DTEND:20260515T193000
DESCRIPTION:
LOCATION:100 W Lead St\, Bessemer\, MI 49911\, USA
SUMMARY:5-12 Choir Concert
END:VEVENT
BEGIN:VEVENT
DTSTAMP:20260420T142043Z
UID:7c123e7d-7445-4cec-b2f9-b48a7a777559
DTSTART:20260517T170000
DTEND:20260517T200000
DESCRIPTION:
LOCATION:605 W Lead St\, Bessemer\, MI 49911\, USA
SUMMARY:Athletics Award Banquet at VFW
END:VEVENT
BEGIN:VEVENT
DTSTAMP:20260420T142043Z
UID:2cf9ea6b-fb97-4dc3-8e7c-19e22af74749
DTSTART:20260518T110000
DTEND:20260518T234500
DESCRIPTION:
LOCATION:Wakefield\, MI 49968\, USA
SUMMARY:High School Track - CMC Meet
END:VEVENT
BEGIN:VEVENT
DTSTAMP:20260420T142043Z
UID:42629621-1862-4d79-ab27-ad1dda4a5d03
DTSTART:20260518T150000
DTEND:20260518T234500
DESCRIPTION:
LOCATION:Bessemer\, MI 49911\, USA
SUMMARY:Gogebic Miners Baseball vs. Drummond
END:VEVENT
BEGIN:VEVENT
DTSTAMP:20260420T142043Z
UID:f0de207f-42cb-42e3-9aeb-010255937459
DTSTART:20260518T150000
DTEND:20260518T234500
DESCRIPTION:
LOCATION:Hurley\, WI 54534\, USA
SUMMARY:Gogebic Miners Softball  vs. Hurley
END:VEVENT
BEGIN:VEVENT
DTSTAMP:20260420T142043Z
UID:d040b896-9973-4d62-a9a1-57d5ebb59bff
DTSTART:20260519T140000
DTEND:20260519T234500
DESCRIPTION:
LOCATION:Lake Linden\, MI 49945\, USA
SUMMARY:Jr. High Track - CMC JH Conf Meet
END:VEVENT
BEGIN:VEVENT
DTSTAMP:20260420T142043Z
UID:072d04c9-19ce-48b4-b2cc-9031f59310cd
DTSTART:20260519T150000
DTEND:20260519T234500
DESCRIPTION:
LOCATION:Ramsay\, MI\, USA
SUMMARY:Gogebic Miners Softball  vs. Baraga
END:VEVENT
BEGIN:VEVENT
DTSTAMP:20260420T142043Z
UID:75f77656-fa45-4b9b-b8cf-07e80f931ccd
DTSTART:20260520T000000
DTEND:20260520T170000
DESCRIPTION:
LOCATION:Watersmeet\, MI 49969\, USA
SUMMARY:Golf - CMC Meet - (time TBD)
END:VEVENT
BEGIN:VEVENT
DTSTAMP:20260420T142043Z
UID:511fd4a6-9709-4ee2-9654-0e3786c67435
DTSTART:20260520T131500
DTEND:20260520T141500
DESCRIPTION:
LOCATION:100 W Lead St\, Bessemer\, MI 49911\, USA
SUMMARY:k-4 Spring Concert @ADJ
END:VEVENT
BEGIN:VEVENT
DTSTAMP:20260420T142043Z
UID:82d76a62-b873-4ff7-8266-bc1862493e3c
DTSTART:20260521T130000
DTEND:20260521T143000
DESCRIPTION:
LOCATION:100 W Lead St\, Bessemer\, MI 49911\, USA
SUMMARY:Academic Awards Assembly @ADJ
END:VEVENT
BEGIN:VEVENT
DTSTAMP:20260420T142043Z
UID:55fed42d-0b53-4d75-9374-b3cff205e169
DTSTART:20260521T150000
DTEND:20260521T234500
DESCRIPTION:
LOCATION:Ironwood\, MI 49938\, USA
SUMMARY:Gogebic Miners Baseball vs. Ironwood
END:VEVENT
BEGIN:VEVENT
DTSTAMP:20260420T142043Z
UID:8b2b0b88-3988-4961-bc49-d070d8e0809f
DTSTART:20260521T150000
DTEND:20260521T234500
DESCRIPTION:
LOCATION:Ramsay\, MI\, USA
SUMMARY:Gogebic Miners Softball  vs. Norway
END:VEVENT
BEGIN:VEVENT
DTSTAMP:20260420T142043Z
UID:59af0419-f8b3-427e-bdd3-4ae76d763db1
DTSTART:20260521T153000
DTEND:20260521T170000
DESCRIPTION:
LOCATION:411 S Sophie St\, Bessemer\, MI 49911\, USA
SUMMARY:Senior Tea  @ City Hall
END:VEVENT
BEGIN:VEVENT
DTSTAMP:20260420T142043Z
UID:712385be-c845-43f5-bb37-6cbb9767c8d6
DTSTART:20260521T180000
DTEND:20260521T193000
DESCRIPTION:
LOCATION:100 W Lead St\, Bessemer\, MI 49911\, USA
SUMMARY:8th Grade Banquet @ ADJ
END:VEVENT
BEGIN:VEVENT
DTSTAMP:20260420T142043Z
UID:b84691a5-d8c7-412c-8aa6-faee935bb699
DTSTART:20260522T084000
DTEND:20260522T091000
DESCRIPTION:
LOCATION:301 E Sellar St\, Bessemer\, MI 49911\, USA
SUMMARY:Graduate Walk at WES
END:VEVENT
BEGIN:VEVENT
DTSTAMP:20260420T142043Z
UID:407d79de-cb3f-46ab-bda2-925e349fb621
DTSTART:20260522T093000
DTEND:20260522T100000
DESCRIPTION:
LOCATION:100 W Lead St\, Bessemer\, MI 49911\, USA
SUMMARY:Graduate Walk at ADJ
END:VEVENT
BEGIN:VEVENT
DTSTAMP:20260420T142043Z
UID:29d7de0e-dbdf-4306-8810-3b6bf317981a
DTSTART:20260522T100000
DTEND:20260522T111500
DESCRIPTION:
LOCATION:100 W Lead St\, Bessemer\, MI 49911\, USA
SUMMARY:Graduation Practice
END:VEVENT
BEGIN:VEVENT
DTSTAMP:20260420T142043Z
UID:76ef2366-5b31-4e78-9a1d-82308adcf657
DTSTART:20260522T113000
DTEND:20260522T123000
DESCRIPTION:
LOCATION:100 W Lead St\, Bessemer\, MI 49911\, USA
SUMMARY:Senior Lunch in MPR
END:VEVENT
BEGIN:VEVENT
DTSTAMP:20260420T142043Z
UID:acdaedbf-7a97-4ad6-a146-b84c26685a11
DTSTART:20260522T180000
DTEND:20260522T181500
DESCRIPTION:
LOCATION:100 W Lead St\, Bessemer\, MI 49911\, USA
SUMMARY:Senior Pictures at ADJ
END:VEVENT
BEGIN:VEVENT
DTSTAMP:20260420T142043Z
UID:1435dd9a-0b66-4925-a418-464548a6cc2c
DTSTART:20260522T183000
DTEND:20260522T203000
DESCRIPTION:
LOCATION:100 W Lead St\, Bessemer\, MI 49911\, USA
SUMMARY:Graduation
END:VEVENT
BEGIN:VEVENT
DTSTAMP:20260420T142043Z
UID:3a501031-c67b-4e03-8bc0-fd76d5a24f4c
DTSTART;VALUE=DATE:20260525
DTEND;VALUE=DATE:20260526
DESCRIPTION:
LOCATION:
SUMMARY:No School
END:VEVENT
BEGIN:VEVENT
DTSTAMP:20260420T142043Z
UID:e10b6fa8-78cf-47e0-a840-affd56f339e7
DTSTART:20260526T150000
DTEND:20260526T234500
DESCRIPTION:
LOCATION:Hurley\, WI 54534\, USA
SUMMARY:Gogebic Miners Baseball vs. Hurley
END:VEVENT
BEGIN:VEVENT
DTSTAMP:20260420T142043Z
UID:3b06f1b0-8933-444e-9bc3-ba4dbfb890a1
DTSTART:20260526T150000
DTEND:20260526T234500
DESCRIPTION:
LOCATION:Lake Linden\, MI 49945\, USA
SUMMARY:Gogebic Miners Softball  vs. Lake Linden (JV)
END:VEVENT
BEGIN:VEVENT
DTSTAMP:20260420T142043Z
UID:b1f8e046-55ee-466d-b0d9-1742d86dad67
DTSTART:20260527T000000
DTEND:20260527T170000
DESCRIPTION:
LOCATION:Watersmeet\, MI 49969\, USA
SUMMARY:Golf - U.P. Finals (time TBD)
END:VEVENT
BEGIN:VEVENT
DTSTAMP:20260420T142043Z
UID:5c5fd640-edec-42d3-abf5-475e207a25fb
DTSTART:20260527T143000
DTEND:20260527T234500
DESCRIPTION:
LOCATION:Calumet\, MI 49913\, USA
SUMMARY:Jr. High Track - JH Regional
END:VEVENT
BEGIN:VEVENT
DTSTAMP:20260420T142043Z
UID:ad4de8a8-89d5-4f05-969b-cac94e07805f
DTSTART;VALUE=DATE:20260528
DTEND;VALUE=DATE:20260529
DESCRIPTION:
LOCATION:Lake Linden\, MI 49945\, USA
SUMMARY:Gogebic Miners Softball  vs. MHSAA Distric Tournament
END:VEVENT
BEGIN:VEVENT
DTSTAMP:20260420T142043Z
UID:ed51db97-800a-446e-a743-0bbe927fde6f
DTSTART;VALUE=DATE:20260529
DTEND;VALUE=DATE:20260530
DESCRIPTION:
LOCATION:Lake Linden\, MI 49945\, USA
SUMMARY:Gogebic Miners Softball  vs. MHSAA District Tournament
END:VEVENT
BEGIN:VEVENT
DTSTAMP:20260420T142043Z
UID:ae49e8b7-d615-4ebd-8f58-ff83558100bc
DTSTART;VALUE=DATE:20260530
DTEND;VALUE=DATE:20260531
DESCRIPTION:
LOCATION:Bessemer\, MI 49911\, USA
SUMMARY:Gogebic Miners Baseball - District Tournament
END:VEVENT
BEGIN:VEVENT
DTSTAMP:20260420T142043Z
UID:a90027f8-82f9-4121-be03-568ee4cf8887
DTSTART;VALUE=DATE:20260530
DTEND;VALUE=DATE:20260531
DESCRIPTION:
LOCATION:Kingsford\, MI 49802\, USA
SUMMARY:High School Track - UP Finals
END:VEVENT
BEGIN:VEVENT
DTSTAMP:20260420T142043Z
UID:f351d577-14bb-47cc-8d6c-7cd59f3f445c
DTSTART;VALUE=DATE:20260605
DTEND;VALUE=DATE:20260606
DESCRIPTION:
LOCATION:
SUMMARY:LAST DAY OF SCHOO L -Half Day (11:17 dismissal)
END:VEVENT
END:VCALENDAR
