BEGIN:VCALENDAR
VERSION:2.0
PRODID:icalendar-ruby
CALSCALE:GREGORIAN
BEGIN:VTIMEZONE
TZID:America/Chicago
BEGIN:DAYLIGHT
DTSTART:20260308T030000
TZOFFSETFROM:-0600
TZOFFSETTO:-0500
RRULE:FREQ=YEARLY;BYDAY=2SU;BYMONTH=3
TZNAME:CDT
END:DAYLIGHT
BEGIN:STANDARD
DTSTART:20261101T010000
TZOFFSETFROM:-0500
TZOFFSETTO:-0600
RRULE:FREQ=YEARLY;BYDAY=1SU;BYMONTH=11
TZNAME:CST
END:STANDARD
END:VTIMEZONE
BEGIN:VEVENT
DTSTAMP:20260425T155922Z
UID:00ddda2e-bb77-4470-8ff3-44dc21283865
DTSTART:20260425T170000
DTEND:20260425T220000
DESCRIPTION:<p>Grand March at SFHS - 5 p.m.</p><p>Dinner &amp\; Dancing at 
 Courtyards of Andover - 7-10 p.m.</p><p><a href="https://gofan.co/app/scho
 ol/MN19657" target="_blank" rel="noopener noreferrer nofollow" path-prefix
 ="">Tickets at GoFan</a> (beginning Feb. 17)</p>
LOCATION:
SUMMARY:SFHS Prom 2026
END:VEVENT
BEGIN:VEVENT
DTSTAMP:20260425T155922Z
UID:7347d73c-afcf-4bb6-8ad3-d6ee7379c6eb
DTSTART:20260514T153000
DTEND:20260514T183000
DESCRIPTION:
LOCATION:22919 St Francis Blvd NW\, St Francis\, MN 55070\, USA
SUMMARY:T15 Open House
END:VEVENT
BEGIN:VEVENT
DTSTAMP:20260425T155922Z
UID:7d98591f-ce27-4425-82c4-182605ccee51
DTSTART:20260520T091500
DTEND:20260520T142100
DESCRIPTION:
LOCATION:4111 Ambassador Blvd NW\, St Francis\, MN 55070\, USA
SUMMARY:90 Minute Late Start-Staff Development
END:VEVENT
BEGIN:VEVENT
DTSTAMP:20260425T155922Z
UID:6d87ebbb-5458-4ae2-90f6-7dcc243d9f20
DTSTART;VALUE=DATE:20260525
DTEND;VALUE=DATE:20260526
DESCRIPTION:
LOCATION:
SUMMARY:No School-District Holiday-all district buildings and offices-Close
 d
END:VEVENT
BEGIN:VEVENT
DTSTAMP:20260425T155922Z
UID:0fa5d51c-1632-454e-8502-e6e8d51de71d
DTSTART;VALUE=DATE:20260603
DTEND;VALUE=DATE:20260604
DESCRIPTION:
LOCATION:
SUMMARY:Third Trimester ends
END:VEVENT
BEGIN:VEVENT
DTSTAMP:20260425T155922Z
UID:cf309fd7-7170-4ed2-8832-31091eb2c2ac
DTSTART:20260603T170000
DTEND:20260603T200000
DESCRIPTION:
LOCATION:4111 Ambassador Blvd NW\, St Francis\, MN 55070\, USA
SUMMARY:Saints Academy Graduation Ceremony @ SFLC
END:VEVENT
BEGIN:VEVENT
DTSTAMP:20260425T155922Z
UID:ac7913f3-aa6e-473f-aa06-aefd029a53ec
DTSTART;VALUE=DATE:20260619
DTEND;VALUE=DATE:20260620
DESCRIPTION:
LOCATION:
SUMMARY:District Holiday-all district buildings and offices-Closed
END:VEVENT
BEGIN:VEVENT
DTSTAMP:20260425T155922Z
UID:38127983-13e5-4512-9064-0cc32ca91381
DTSTART;VALUE=DATE:20260703
DTEND;VALUE=DATE:20260704
DESCRIPTION:
LOCATION:
SUMMARY:District Holiday-all district buildings and offices-Closed
END:VEVENT
BEGIN:VEVENT
DTSTAMP:20260425T155922Z
UID:9350c546-7131-4c17-9919-9b12c45c5977
DTSTART;VALUE=DATE:20260704
DTEND;VALUE=DATE:20260705
DESCRIPTION:
LOCATION:
SUMMARY:Independence Day
END:VEVENT
BEGIN:VEVENT
DTSTAMP:20260425T155922Z
UID:c4389c50-e2c7-4260-b13c-35e69be88038
DTSTART:20260901T160000
DTEND:20260901T190000
DESCRIPTION:
LOCATION:4111 Ambassador Blvd NW\, St Francis\, MN 55070\, USA
SUMMARY:Open House
END:VEVENT
BEGIN:VEVENT
DTSTAMP:20260425T155922Z
UID:7b5881b8-ea49-4f6f-9d01-8cd4ec501454
DTSTART;VALUE=DATE:20260907
DTEND;VALUE=DATE:20260908
DESCRIPTION:
LOCATION:4111 Ambassador Blvd NW\, St Francis\, MN 55070\, USA
SUMMARY:District Holiday-Labor Day-all buildings and offices CLOSED
END:VEVENT
BEGIN:VEVENT
DTSTAMP:20260425T155922Z
UID:a3615448-82e8-4a16-be84-0389cc9d7246
DTSTART;VALUE=DATE:20260908
DTEND;VALUE=DATE:20260909
DESCRIPTION:
LOCATION:4111 Ambassador Blvd NW\, St Francis\, MN 55070\, USA
SUMMARY:First Trimester begings
END:VEVENT
BEGIN:VEVENT
DTSTAMP:20260425T155922Z
UID:2882cbbd-9715-4827-837e-b974f5765925
DTSTART:20260908T074500
DTEND:20260908T142100
DESCRIPTION:
LOCATION:4111 Ambassador Blvd NW\, St Francis\, MN 55070\, USA
SUMMARY:School beings for Saints Academy
END:VEVENT
BEGIN:VEVENT
DTSTAMP:20260425T155922Z
UID:f4ead672-b21e-4e14-b54f-aa14ef8e9423
DTSTART:20260923T091500
DTEND:20260923T142100
DESCRIPTION:
LOCATION:4111 Ambassador Blvd NW\, St Francis\, MN 55070\, USA
SUMMARY:90 Minute Late Start-Staff Development
END:VEVENT
BEGIN:VEVENT
DTSTAMP:20260425T155922Z
UID:8d5231f7-ce64-4fe9-8139-9ee4d96022a4
DTSTART;VALUE=DATE:20261015
DTEND;VALUE=DATE:20261016
DESCRIPTION:
LOCATION:4111 Ambassador Blvd NW\, St Francis\, MN 55070\, USA
SUMMARY:No School-Education Minnesota
END:VEVENT
BEGIN:VEVENT
DTSTAMP:20260425T155922Z
UID:694f3dae-2ae7-4a1d-a6ac-7139a519d391
DTSTART;VALUE=DATE:20261016
DTEND;VALUE=DATE:20261017
DESCRIPTION:
LOCATION:4111 Ambassador Blvd NW\, St Francis\, MN 55070\, USA
SUMMARY:No School-Education Minnesota
END:VEVENT
BEGIN:VEVENT
DTSTAMP:20260425T155922Z
UID:36c94cb4-3ade-4ff1-b778-76695391cc1c
DTSTART:20261019T074500
DTEND:20261019T142100
DESCRIPTION:
LOCATION:4111 Ambassador Blvd NW\, St Francis\, MN 55070\, USA
SUMMARY:School Resumes
END:VEVENT
BEGIN:VEVENT
DTSTAMP:20260425T155922Z
UID:576826d2-41e9-4f1c-9884-76c6d7a84032
DTSTART:20261021T091500
DTEND:20261021T142100
DESCRIPTION:
LOCATION:4111 Ambassador Blvd NW\, St Francis\, MN 55070\, USA
SUMMARY:90 Minute Late Start-Staff Development
END:VEVENT
BEGIN:VEVENT
DTSTAMP:20260425T155922Z
UID:341af5b1-2169-4d85-aac4-4ed167bc57a8
DTSTART;VALUE=DATE:20261109
DTEND;VALUE=DATE:20261110
DESCRIPTION:
LOCATION:4111 Ambassador Blvd NW\, St Francis\, MN 55070\, USA
SUMMARY:No School-Staff Development
END:VEVENT
BEGIN:VEVENT
DTSTAMP:20260425T155922Z
UID:58af7568-9d69-4a08-ac3c-03c2c3dcffd5
DTSTART:20261110T074500
DTEND:20261110T142100
DESCRIPTION:
LOCATION:4111 Ambassador Blvd NW\, St Francis\, MN 55070\, USA
SUMMARY:School resumes
END:VEVENT
BEGIN:VEVENT
DTSTAMP:20260425T155922Z
UID:356b2f33-a7cf-4029-b681-7871b8903b85
DTSTART:20261118T091500
DTEND:20261118T142100
DESCRIPTION:
LOCATION:4111 Ambassador Blvd NW\, St Francis\, MN 55070\, USA
SUMMARY:90 Minute Late Start-Staff Development
END:VEVENT
BEGIN:VEVENT
DTSTAMP:20260425T155922Z
UID:9f1a8fff-9c5f-4e9d-a007-2c7afcd409f2
DTSTART;VALUE=DATE:20261126
DTEND;VALUE=DATE:20261127
DESCRIPTION:
LOCATION:4111 Ambassador Blvd NW\, St Francis\, MN 55070\, USA
SUMMARY:No School-Thanksgiving-District Holiday-all buildings and offices C
 LOSED
END:VEVENT
BEGIN:VEVENT
DTSTAMP:20260425T155922Z
UID:912825be-e83b-4251-a85e-4227edfebbf9
DTSTART;VALUE=DATE:20261127
DTEND;VALUE=DATE:20261128
DESCRIPTION:
LOCATION:4111 Ambassador Blvd NW\, St Francis\, MN 55070\, USA
SUMMARY:No School-District Holiday-all buildings and offices CLOSED
END:VEVENT
BEGIN:VEVENT
DTSTAMP:20260425T155922Z
UID:a83558c8-0dec-44a8-a591-59daf2b192de
DTSTART:20261130T074500
DTEND:20261130T142100
DESCRIPTION:
LOCATION:4111 Ambassador Blvd NW\, St Francis\, MN 55070\, USA
SUMMARY:School Resumes
END:VEVENT
BEGIN:VEVENT
DTSTAMP:20260425T155922Z
UID:141be67c-7060-47ed-8fce-af6a3e5f3f02
DTSTART;VALUE=DATE:20261203
DTEND;VALUE=DATE:20261204
DESCRIPTION:
LOCATION:4111 Ambassador Blvd NW\, St Francis\, MN 55070\, USA
SUMMARY:First Trimester ends
END:VEVENT
BEGIN:VEVENT
DTSTAMP:20260425T155922Z
UID:6e4e689b-efcb-4578-8d19-88f7471256ce
DTSTART;VALUE=DATE:20261204
DTEND;VALUE=DATE:20261205
DESCRIPTION:
LOCATION:4111 Ambassador Blvd NW\, St Francis\, MN 55070\, USA
SUMMARY:No School-Grading Day
END:VEVENT
BEGIN:VEVENT
DTSTAMP:20260425T155922Z
UID:a9d3c5e7-a6ea-4ba5-896e-52b68841638c
DTSTART:20261207T074500
DTEND:20261207T142100
DESCRIPTION:
LOCATION:4111 Ambassador Blvd NW\, St Francis\, MN 55070\, USA
SUMMARY:School Resumes
END:VEVENT
BEGIN:VEVENT
DTSTAMP:20260425T155922Z
UID:5635edb4-b3eb-45d0-8ed6-e38775ec6c69
DTSTART:20261216T091500
DTEND:20261216T142100
DESCRIPTION:
LOCATION:4111 Ambassador Blvd NW\, St Francis\, MN 55070\, USA
SUMMARY:90 Minute Late Start-Staff Development
END:VEVENT
BEGIN:VEVENT
DTSTAMP:20260425T155922Z
UID:e51d5580-739b-490f-baf8-729c65ec6dea
DTSTART;VALUE=DATE:20261224
DTEND;VALUE=DATE:20261225
DESCRIPTION:
LOCATION:4111 Ambassador Blvd NW\, St Francis\, MN 55070\, USA
SUMMARY:No School-District Holiday-all buildings and offices CLOSED
END:VEVENT
BEGIN:VEVENT
DTSTAMP:20260425T155922Z
UID:cdc6b017-0714-440a-9eab-a10228574f14
DTSTART;VALUE=DATE:20261225
DTEND;VALUE=DATE:20261226
DESCRIPTION:
LOCATION:4111 Ambassador Blvd NW\, St Francis\, MN 55070\, USA
SUMMARY:No School-District Holiday-all buildings and offices CLOSED
END:VEVENT
BEGIN:VEVENT
DTSTAMP:20260425T155922Z
UID:407ef169-d2fa-493e-926e-7b76238d6f24
DTSTART;VALUE=DATE:20261228
DTEND;VALUE=DATE:20261229
DESCRIPTION:
LOCATION:4111 Ambassador Blvd NW\, St Francis\, MN 55070\, USA
SUMMARY:No School-Winter Break
END:VEVENT
BEGIN:VEVENT
DTSTAMP:20260425T155922Z
UID:f4e5eb0a-e85a-4520-b3f0-4847cf790e2b
DTSTART;VALUE=DATE:20261229
DTEND;VALUE=DATE:20261230
DESCRIPTION:
LOCATION:4111 Ambassador Blvd NW\, St Francis\, MN 55070\, USA
SUMMARY:No School-Winter Break
END:VEVENT
BEGIN:VEVENT
DTSTAMP:20260425T155922Z
UID:7ba6774f-196f-49d1-a121-a9cd52cc4e5f
DTSTART;VALUE=DATE:20261230
DTEND;VALUE=DATE:20261231
DESCRIPTION:
LOCATION:4111 Ambassador Blvd NW\, St Francis\, MN 55070\, USA
SUMMARY:No School-Winter Break
END:VEVENT
BEGIN:VEVENT
DTSTAMP:20260425T155922Z
UID:338d084d-6bc8-400a-a618-a2f7c6a167be
DTSTART;VALUE=DATE:20261231
DTEND;VALUE=DATE:20270101
DESCRIPTION:
LOCATION:4111 Ambassador Blvd NW\, St Francis\, MN 55070\, USA
SUMMARY:No School-Winter Break
END:VEVENT
BEGIN:VEVENT
DTSTAMP:20260425T155922Z
UID:fce3907e-ea13-4e79-aef5-1580cf5bf1a0
DTSTART;VALUE=DATE:20270101
DTEND;VALUE=DATE:20270102
DESCRIPTION:
LOCATION:4111 Ambassador Blvd NW\, St Francis\, MN 55070\, USA
SUMMARY:No School-District Holiday-all buildings and offices CLOSED
END:VEVENT
BEGIN:VEVENT
DTSTAMP:20260425T155922Z
UID:8cfce504-36bf-4509-b61d-5dc0bcd5f43f
DTSTART:20270104T074500
DTEND:20270104T142100
DESCRIPTION:
LOCATION:4111 Ambassador Blvd NW\, St Francis\, MN 55070\, USA
SUMMARY:School Resumes
END:VEVENT
BEGIN:VEVENT
DTSTAMP:20260425T155922Z
UID:1db6acc9-50d5-48d9-95b7-4d1d0e0c3bac
DTSTART;VALUE=DATE:20270118
DTEND;VALUE=DATE:20270119
DESCRIPTION:
LOCATION:22919 St Francis Blvd NW\, St Francis\, MN 55070\, USA
SUMMARY:No School-Martin Luther King Jr. Day
END:VEVENT
BEGIN:VEVENT
DTSTAMP:20260425T155922Z
UID:afe40352-ae6f-49b8-8a98-bf98d9eb9299
DTSTART:20270119T074500
DTEND:20270119T142100
DESCRIPTION:
LOCATION:4111 Ambassador Blvd NW\, St Francis\, MN 55070\, USA
SUMMARY:School Resumes
END:VEVENT
BEGIN:VEVENT
DTSTAMP:20260425T155922Z
UID:a3a64882-d5e0-4314-879f-e145e7f03c58
DTSTART:20270120T091500
DTEND:20270120T142100
DESCRIPTION:
LOCATION:4111 Ambassador Blvd NW\, St Francis\, MN 55070\, USA
SUMMARY:90 Minute Late Start-Staff Development
END:VEVENT
BEGIN:VEVENT
DTSTAMP:20260425T155922Z
UID:3f579a4a-b01a-47b4-82ce-563e2659a8e7
DTSTART;VALUE=DATE:20270215
DTEND;VALUE=DATE:20270216
DESCRIPTION:
LOCATION:4111 Ambassador Blvd NW\, St Francis\, MN 55070\, USA
SUMMARY:No School-Presidents Day
END:VEVENT
BEGIN:VEVENT
DTSTAMP:20260425T155922Z
UID:2dfd7bc7-11ee-4616-9d1b-8932dbe4b1f5
DTSTART:20270216T074500
DTEND:20270216T142100
DESCRIPTION:
LOCATION:4111 Ambassador Blvd NW\, St Francis\, MN 55070\, USA
SUMMARY:School Resumes
END:VEVENT
BEGIN:VEVENT
DTSTAMP:20260425T155922Z
UID:527db65b-dd1a-48c5-b089-38d72a7ff5b5
DTSTART:20270217T091500
DTEND:20270217T142100
DESCRIPTION:
LOCATION:4111 Ambassador Blvd NW\, St Francis\, MN 55070\, USA
SUMMARY:90 Minute Late Start-Staff Development
END:VEVENT
BEGIN:VEVENT
DTSTAMP:20260425T155922Z
UID:bdd1645f-8c84-495e-bcbd-1c7f89725974
DTSTART;VALUE=DATE:20270305
DTEND;VALUE=DATE:20270306
DESCRIPTION:
LOCATION:4111 Ambassador Blvd NW\, St Francis\, MN 55070\, USA
SUMMARY:Second Trimester ends
END:VEVENT
BEGIN:VEVENT
DTSTAMP:20260425T155922Z
UID:94568b77-27a4-46ab-a402-00e1db67b768
DTSTART;VALUE=DATE:20270308
DTEND;VALUE=DATE:20270309
DESCRIPTION:
LOCATION:4111 Ambassador Blvd NW\, St Francis\, MN 55070\, USA
SUMMARY:No School-Grading Day
END:VEVENT
BEGIN:VEVENT
DTSTAMP:20260425T155922Z
UID:3aee3dd6-a1c0-414c-b452-1b4accb52485
DTSTART;VALUE=DATE:20270309
DTEND;VALUE=DATE:20270310
DESCRIPTION:
LOCATION:4111 Ambassador Blvd NW\, St Francis\, MN 55070\, USA
SUMMARY:No School-Spring Break
END:VEVENT
BEGIN:VEVENT
DTSTAMP:20260425T155922Z
UID:68e3957c-ddf3-4cd5-8b5a-6b26c12fbb73
DTSTART;VALUE=DATE:20270310
DTEND;VALUE=DATE:20270311
DESCRIPTION:
LOCATION:4111 Ambassador Blvd NW\, St Francis\, MN 55070\, USA
SUMMARY:No School-Spring Break
END:VEVENT
BEGIN:VEVENT
DTSTAMP:20260425T155922Z
UID:35f20cf3-a376-4e31-b439-c072a1b734e2
DTSTART;VALUE=DATE:20270311
DTEND;VALUE=DATE:20270312
DESCRIPTION:
LOCATION:4111 Ambassador Blvd NW\, St Francis\, MN 55070\, USA
SUMMARY:No School-Spring Break
END:VEVENT
BEGIN:VEVENT
DTSTAMP:20260425T155922Z
UID:d1cc7476-7d5c-4c87-bb84-7749d376af02
DTSTART;VALUE=DATE:20270312
DTEND;VALUE=DATE:20270313
DESCRIPTION:
LOCATION:4111 Ambassador Blvd NW\, St Francis\, MN 55070\, USA
SUMMARY:No School-Spring Break
END:VEVENT
BEGIN:VEVENT
DTSTAMP:20260425T155922Z
UID:63bee62e-cd87-4be6-8dbc-2b868142b002
DTSTART;VALUE=DATE:20270315
DTEND;VALUE=DATE:20270316
DESCRIPTION:
LOCATION:4111 Ambassador Blvd NW\, St Francis\, MN 55070\, USA
SUMMARY:Third Trimester begins
END:VEVENT
BEGIN:VEVENT
DTSTAMP:20260425T155922Z
UID:5c4e249f-1aed-4371-8345-e6020706628e
DTSTART:20270315T074500
DTEND:20270315T142100
DESCRIPTION:
LOCATION:4111 Ambassador Blvd NW\, St Francis\, MN 55070\, USA
SUMMARY:School Resumes
END:VEVENT
BEGIN:VEVENT
DTSTAMP:20260425T155922Z
UID:900b8faa-126c-454c-8fa0-4f89630877d1
DTSTART:20270317T091500
DTEND:20270317T142100
DESCRIPTION:
LOCATION:4111 Ambassador Blvd NW\, St Francis\, MN 55070\, USA
SUMMARY:90 Minute Late Start-Staff Development
END:VEVENT
BEGIN:VEVENT
DTSTAMP:20260425T155922Z
UID:8a4a903d-0297-467f-ab43-e4d268c6cb2d
DTSTART;VALUE=DATE:20270326
DTEND;VALUE=DATE:20270327
DESCRIPTION:
LOCATION:st francis learning center
SUMMARY:No School-District Holiday-all buildings and offices CLOSED
END:VEVENT
BEGIN:VEVENT
DTSTAMP:20260425T155922Z
UID:b4e1f34f-d3fe-4af3-81cd-02ee3ca7d4c1
DTSTART:20270329T074500
DTEND:20270329T142100
DESCRIPTION:
LOCATION:4111 Ambassador Blvd NW\, St Francis\, MN 55070\, USA
SUMMARY:School Resumes
END:VEVENT
BEGIN:VEVENT
DTSTAMP:20260425T155922Z
UID:a37940b1-7f69-4db7-a8e2-5f5e07e550d0
DTSTART:20270421T091500
DTEND:20270421T142100
DESCRIPTION:
LOCATION:4111 Ambassador Blvd NW\, St Francis\, MN 55070\, USA
SUMMARY:90 Minute Late Start-Staff Development
END:VEVENT
BEGIN:VEVENT
DTSTAMP:20260425T155922Z
UID:b359841e-a7ca-4d64-a1b6-a6c45e77a508
DTSTART:20270519T091500
DTEND:20270519T142100
DESCRIPTION:
LOCATION:4111 Ambassador Blvd NW\, St Francis\, MN 55070\, USA
SUMMARY:90 Minute Late Start-Staff Development
END:VEVENT
BEGIN:VEVENT
DTSTAMP:20260425T155922Z
UID:1774e144-988d-452e-bc66-6a688ed5950c
DTSTART;VALUE=DATE:20270531
DTEND;VALUE=DATE:20270601
DESCRIPTION:
LOCATION:4111 Ambassador Blvd NW\, St Francis\, MN 55070\, USA
SUMMARY:No School-Memorial Day-District Holiday-all buildings and offices C
 LOSED
END:VEVENT
BEGIN:VEVENT
DTSTAMP:20260425T155922Z
UID:980979e7-e229-4e21-90cc-28cf27ba2278
DTSTART:20270601T074500
DTEND:20270601T142100
DESCRIPTION:
LOCATION:4111 Ambassador Blvd NW\, St Francis\, MN 55070\, USA
SUMMARY:School Resumes
END:VEVENT
BEGIN:VEVENT
DTSTAMP:20260425T155922Z
UID:bc394d39-7d30-4f7f-b00f-4f2de8f02bf0
DTSTART;VALUE=DATE:20270603
DTEND;VALUE=DATE:20270604
DESCRIPTION:
LOCATION:4111 Ambassador Blvd NW\, St Francis\, MN 55070\, USA
SUMMARY:Third Trimester ends
END:VEVENT
BEGIN:VEVENT
DTSTAMP:20260425T155922Z
UID:5a41d98d-ce41-46e3-b77b-cad777ad4a7a
DTSTART;VALUE=DATE:20270604
DTEND;VALUE=DATE:20270605
DESCRIPTION:
LOCATION:4111 Ambassador Blvd NW\, St Francis\, MN 55070\, USA
SUMMARY:No School-Grading Day
END:VEVENT
BEGIN:VEVENT
DTSTAMP:20260425T155922Z
UID:643bbdf2-8d97-45bc-8d03-ac933c005565
DTSTART;VALUE=DATE:20270618
DTEND;VALUE=DATE:20270619
DESCRIPTION:
LOCATION:4111 Ambassador Blvd NW\, St Francis\, MN 55070\, USA
SUMMARY:District Holiday-Juneteenth-all buildings and offices CLOSED
END:VEVENT
END:VCALENDAR
