BEGIN:VCALENDAR
VERSION:2.0
PRODID:icalendar-ruby
CALSCALE:GREGORIAN
BEGIN:VTIMEZONE
TZID:America/Chicago
BEGIN:DAYLIGHT
DTSTART:20260308T030000
TZOFFSETFROM:-0600
TZOFFSETTO:-0500
RRULE:FREQ=YEARLY;BYDAY=2SU;BYMONTH=3
TZNAME:CDT
END:DAYLIGHT
BEGIN:STANDARD
DTSTART:20261101T010000
TZOFFSETFROM:-0500
TZOFFSETTO:-0600
RRULE:FREQ=YEARLY;BYDAY=1SU;BYMONTH=11
TZNAME:CST
END:STANDARD
END:VTIMEZONE
BEGIN:VEVENT
DTSTAMP:20260425T145706Z
UID:56b4a141-58dd-4fae-a02d-55e99fa684c6
DTSTART:20260504T181500
DTEND:20260504T201500
DESCRIPTION:
LOCATION:21210 Polk St NE\, East Bethel\, MN 55011\, USA
SUMMARY:PTO Meeting @ EBES
END:VEVENT
BEGIN:VEVENT
DTSTAMP:20260425T145706Z
UID:5647e423-32f3-4e14-addd-ce455b902632
DTSTART:20260505T180000
DTEND:20260505T183000
DESCRIPTION:<p>Concert held in the Performing Arts Center @ St. Francis Hig
 h School.  Please park on the west side of the building and enter door num
 ber 10.</p>
LOCATION:3325 Bridge St NW\, St Francis\, MN 55070\, USA
SUMMARY:Kindergarten Choir Concert @ SFHS PAC
END:VEVENT
BEGIN:VEVENT
DTSTAMP:20260425T145706Z
UID:e82e88ae-a349-4bad-9402-0b2d1047a769
DTSTART:20260505T183000
DTEND:20260505T193000
DESCRIPTION:<p>Concert held in the Performing Arts Center @ St. Francis Hig
 h School.  Please park on the west side of the building and enter door num
 ber 10.</p>
LOCATION:3325 Bridge St NW\, St Francis\, MN 55070\, USA
SUMMARY:1st Grade Concert @ SFHS PAC
END:VEVENT
BEGIN:VEVENT
DTSTAMP:20260425T145706Z
UID:d6bc0a21-99ea-4941-a70e-2d959d5cc4ca
DTSTART:20260505T191500
DTEND:20260505T200000
DESCRIPTION:<p>Concert held in the Performing Arts Center @ St. Francis Hig
 h School.  Please park on the west side of the building and enter door num
 ber 10.</p>
LOCATION:3325 Bridge St NW\, St Francis\, MN 55070\, USA
SUMMARY:2nd Grade Concert @ SFHS PAC
END:VEVENT
BEGIN:VEVENT
DTSTAMP:20260425T145706Z
UID:3e55706e-f58e-4c56-9d3d-d15f02bc861e
DTSTART:20260520T104000
DTEND:20260520T154000
DESCRIPTION:
LOCATION:21210 Polk St NE\, East Bethel\, MN 55011\, USA
SUMMARY:90 Minute Late Start-Staff Development
END:VEVENT
BEGIN:VEVENT
DTSTAMP:20260425T145706Z
UID:fff6b5b4-1be9-4743-b62c-a04e54b07470
DTSTART;VALUE=DATE:20260525
DTEND;VALUE=DATE:20260526
DESCRIPTION:
LOCATION:
SUMMARY:No School-District Holiday-all district buildings and offices-Close
 d
END:VEVENT
BEGIN:VEVENT
DTSTAMP:20260425T145706Z
UID:8463b09e-6f06-4d22-8e59-8b1b67469956
DTSTART;VALUE=DATE:20260525
DTEND;VALUE=DATE:20260526
DESCRIPTION:
LOCATION:
SUMMARY:Kids Connection-Closed
END:VEVENT
BEGIN:VEVENT
DTSTAMP:20260425T145706Z
UID:a4e962b4-8314-40e3-9312-33dc478c1903
DTSTART;VALUE=DATE:20260603
DTEND;VALUE=DATE:20260604
DESCRIPTION:
LOCATION:
SUMMARY:Third Trimester ends
END:VEVENT
BEGIN:VEVENT
DTSTAMP:20260425T145706Z
UID:0a7a8219-8508-4812-9a79-44c48f83d89f
DTSTART;VALUE=DATE:20260604
DTEND;VALUE=DATE:20260605
DESCRIPTION:
LOCATION:
SUMMARY:Kids Connection-Closed
END:VEVENT
BEGIN:VEVENT
DTSTAMP:20260425T145706Z
UID:7f5f61a3-7372-46db-92cb-975a6387701f
DTSTART;VALUE=DATE:20260605
DTEND;VALUE=DATE:20260606
DESCRIPTION:
LOCATION:
SUMMARY:Kids Connection-Closed
END:VEVENT
BEGIN:VEVENT
DTSTAMP:20260425T145706Z
UID:7d5d6c68-44dd-461f-9e39-4ea1f872c799
DTSTART;VALUE=DATE:20260619
DTEND;VALUE=DATE:20260620
DESCRIPTION:
LOCATION:
SUMMARY:District Holiday-all district buildings and offices-Closed
END:VEVENT
BEGIN:VEVENT
DTSTAMP:20260425T145706Z
UID:23e0257b-5f0d-491c-b01b-389c8ebb3b4a
DTSTART;VALUE=DATE:20260619
DTEND;VALUE=DATE:20260620
DESCRIPTION:
LOCATION:
SUMMARY:Kids Connection-Closed
END:VEVENT
BEGIN:VEVENT
DTSTAMP:20260425T145706Z
UID:38270964-db0d-447a-8f1c-810fff5ff3cb
DTSTART;VALUE=DATE:20260703
DTEND;VALUE=DATE:20260704
DESCRIPTION:
LOCATION:
SUMMARY:District Holiday-all district buildings and offices-Closed
END:VEVENT
BEGIN:VEVENT
DTSTAMP:20260425T145706Z
UID:693ab0ec-f6cb-407f-9327-86312bbbe217
DTSTART;VALUE=DATE:20260703
DTEND;VALUE=DATE:20260704
DESCRIPTION:
LOCATION:
SUMMARY:Kids Connection-Closed
END:VEVENT
BEGIN:VEVENT
DTSTAMP:20260425T145706Z
UID:2fcb6899-40c2-4ce2-9694-ddfb85c2b8e1
DTSTART:20260811T140000
DTEND:20260811T190000
DESCRIPTION:<p><span><em>Appointments will be available Spring of 2026 thro
 ugh&nbsp\;</em></span><a target="_blank" rel="noopener noreferrer nofollow
 " href="http://myconferencetime.com"><span><em>myconferencetime.com</em></
 span></a><span><em>. Find your child's school and choose a time that works
  for your family. </em><strong><em>If your family is unable to make an app
 ointment at your child's school&nbsp\;</em></strong></span><strong><em>on 
 either of the days listed\, please call the school at the beginning of Aug
 ust to make other arrangements.</em></strong></p>
LOCATION:21210 Polk St NE\, East Bethel\, MN 55011\, USA
SUMMARY:Kindergarten Connect
END:VEVENT
BEGIN:VEVENT
DTSTAMP:20260425T145706Z
UID:221772c4-0d22-421b-a448-848aa9689356
DTSTART:20260812T140000
DTEND:20260812T190000
DESCRIPTION:<p><span><em>Appointments will be available Spring of 2026 thro
 ugh&nbsp\;</em></span><a target="_blank" rel="noopener noreferrer nofollow
 " href="http://myconferencetime.com"><span><em>myconferencetime.com</em></
 span></a><span><em>. Find your child's school and choose a time that works
  for your family. </em><strong><em>If your family is unable to make an app
 ointment at your child's school&nbsp\;</em></strong></span><strong><em>on 
 either of the days listed\, please call the school at the beginning of Aug
 ust to make other arrangements.</em></strong></p>
LOCATION:21210 Polk St NE\, East Bethel\, MN 55011\, USA
SUMMARY:Kindergarten Connect
END:VEVENT
BEGIN:VEVENT
DTSTAMP:20260425T145706Z
UID:6405bfb9-ef45-4e85-9001-5bc3bebbfd83
DTSTART;VALUE=DATE:20260902
DTEND;VALUE=DATE:20260903
DESCRIPTION:
LOCATION:21210 Polk St NE\, East Bethel\, MN 55011\, USA
SUMMARY:Kids Connection-CLOSED
END:VEVENT
BEGIN:VEVENT
DTSTAMP:20260425T145706Z
UID:9f1b7398-d4e5-433b-be2a-1038516d1a76
DTSTART:20260902T170000
DTEND:20260902T183000
DESCRIPTION:
LOCATION:21210 Polk St NE\, East Bethel\, MN 55011\, USA
SUMMARY:Open House
END:VEVENT
BEGIN:VEVENT
DTSTAMP:20260425T145706Z
UID:48a74127-1529-4515-abb6-ae719283b43a
DTSTART;VALUE=DATE:20260903
DTEND;VALUE=DATE:20260904
DESCRIPTION:
LOCATION:21210 Polk St NE\, East Bethel\, MN 55011\, USA
SUMMARY:Kids Connection-CLOSED
END:VEVENT
BEGIN:VEVENT
DTSTAMP:20260425T145706Z
UID:39c1c725-85e4-4af7-9738-bb6205bab99d
DTSTART;VALUE=DATE:20260904
DTEND;VALUE=DATE:20260905
DESCRIPTION:
LOCATION:21210 Polk St NE\, East Bethel\, MN 55011\, USA
SUMMARY:Kids Connection-CLOSED
END:VEVENT
BEGIN:VEVENT
DTSTAMP:20260425T145706Z
UID:c5b062cf-e96e-4904-9822-93d498bbd082
DTSTART;VALUE=DATE:20260905
DTEND;VALUE=DATE:20260906
DESCRIPTION:
LOCATION:21210 Polk St NE\, East Bethel\, MN 55011\, USA
SUMMARY:Kids Connection-CLOSED
END:VEVENT
BEGIN:VEVENT
DTSTAMP:20260425T145706Z
UID:077cc2db-aeb7-48a7-bc48-40990e70b4cd
DTSTART;VALUE=DATE:20260906
DTEND;VALUE=DATE:20260907
DESCRIPTION:
LOCATION:21210 Polk St NE\, East Bethel\, MN 55011\, USA
SUMMARY:Kids Connection-CLOSED
END:VEVENT
BEGIN:VEVENT
DTSTAMP:20260425T145706Z
UID:94b2d1ad-58d8-40c1-85f6-7cc4a0b0b583
DTSTART;VALUE=DATE:20260907
DTEND;VALUE=DATE:20260908
DESCRIPTION:
LOCATION:
SUMMARY:District Holiday-Labor Day all district buildings and offices close
 d
END:VEVENT
BEGIN:VEVENT
DTSTAMP:20260425T145706Z
UID:05c9ae28-9956-4fe9-bace-04bdde4d9fc6
DTSTART;VALUE=DATE:20260907
DTEND;VALUE=DATE:20260908
DESCRIPTION:
LOCATION:21210 Polk St NE\, East Bethel\, MN 55011\, USA
SUMMARY:Kids Connection-CLOSED
END:VEVENT
BEGIN:VEVENT
DTSTAMP:20260425T145706Z
UID:b9daecb2-ded2-4c43-ad89-4d33718808e6
DTSTART;VALUE=DATE:20260908
DTEND;VALUE=DATE:20260909
DESCRIPTION:
LOCATION:21210 Polk St NE\, East Bethel\, MN 55011\, USA
SUMMARY:First Trimester begins
END:VEVENT
BEGIN:VEVENT
DTSTAMP:20260425T145706Z
UID:7fea49d3-2524-42d6-8716-f8ee41bd4859
DTSTART:20260908T091000
DTEND:20260908T154000
DESCRIPTION:
LOCATION:21210 Polk St NE\, East Bethel\, MN 55011\, USA
SUMMARY:School begins for Kindergarten Students with last names beginning w
 ith A-L only. No school for Kindergarten students with last names beginnin
 g with M-Z.
END:VEVENT
BEGIN:VEVENT
DTSTAMP:20260425T145706Z
UID:ac2a7996-8a15-4eff-b6aa-194cfccceda3
DTSTART:20260908T091000
DTEND:20260908T154000
DESCRIPTION:
LOCATION:21210 Polk St NE\, East Bethel\, MN 55011\, USA
SUMMARY:School begins for Saints Online 
END:VEVENT
BEGIN:VEVENT
DTSTAMP:20260425T145706Z
UID:15e6edd3-8c45-4900-9925-fbdc59b8d3bc
DTSTART:20260908T091000
DTEND:20260908T154000
DESCRIPTION:
LOCATION:21210 Polk St NE\, East Bethel\, MN 55011\, USA
SUMMARY:School begins for Students Grades 1-5
END:VEVENT
BEGIN:VEVENT
DTSTAMP:20260425T145706Z
UID:92ebed35-dd09-4373-bce2-976406de3e9f
DTSTART:20260909T091000
DTEND:20260909T154000
DESCRIPTION:
LOCATION:21210 Polk St NE\, East Bethel\, MN 55011\, USA
SUMMARY:School begins for Kindergarten students with last names beginning w
 ith M-Z only. No school for Kindergarten students with last names beginnin
 g with A-L
END:VEVENT
BEGIN:VEVENT
DTSTAMP:20260425T145706Z
UID:e19316ed-48da-40cf-94f8-c07adc3adb66
DTSTART:20260909T091000
DTEND:20260909T154000
DESCRIPTION:
LOCATION:21210 Polk St NE\, East Bethel\, MN 55011\, USA
SUMMARY:School in session for all Students grades 1-5
END:VEVENT
BEGIN:VEVENT
DTSTAMP:20260425T145706Z
UID:494df644-b40a-4057-baf8-29f4edc247d7
DTSTART:20260910T091000
DTEND:20260910T154000
DESCRIPTION:
LOCATION:21210 Polk St NE\, East Bethel\, MN 55011\, USA
SUMMARY:School in session for all students grades Kindergarten-5
END:VEVENT
BEGIN:VEVENT
DTSTAMP:20260425T145706Z
UID:d251aaa1-24bf-43c7-8018-649888490b7e
DTSTART:20260923T104000
DTEND:20260923T154000
DESCRIPTION:
LOCATION:21210 Polk St NE\, East Bethel\, MN 55011\, USA
SUMMARY:90 Minute Late Start-Staff Development
END:VEVENT
BEGIN:VEVENT
DTSTAMP:20260425T145706Z
UID:3fdba414-9d7e-4766-bd78-7b00ad6bcc8c
DTSTART;VALUE=DATE:20261015
DTEND;VALUE=DATE:20261016
DESCRIPTION:
LOCATION:21210 Polk St NE\, East Bethel\, MN 55011\, USA
SUMMARY:No School-Education Minnesota
END:VEVENT
BEGIN:VEVENT
DTSTAMP:20260425T145706Z
UID:c489ed75-e825-41b1-ac4f-7837fa719d83
DTSTART:20261015T060000
DTEND:20261015T180000
DESCRIPTION:
LOCATION:21210 Polk St NE\, East Bethel\, MN 55011\, USA
SUMMARY:Kiids Connection-OPEN
END:VEVENT
BEGIN:VEVENT
DTSTAMP:20260425T145706Z
UID:20e04bb4-4da6-4193-b0d4-476421f7881b
DTSTART;VALUE=DATE:20261016
DTEND;VALUE=DATE:20261017
DESCRIPTION:
LOCATION:21210 Polk St NE\, East Bethel\, MN 55011\, USA
SUMMARY:No School-Education Minnesota
END:VEVENT
BEGIN:VEVENT
DTSTAMP:20260425T145706Z
UID:5da4af96-5b4e-409e-a2d6-878377017471
DTSTART:20261016T060000
DTEND:20261016T180000
DESCRIPTION:
LOCATION:21210 Polk St NE\, East Bethel\, MN 55011\, USA
SUMMARY:Kiids Connection-OPEN
END:VEVENT
BEGIN:VEVENT
DTSTAMP:20260425T145706Z
UID:c535bef4-618e-45c6-801a-ebb0578df01a
DTSTART:20261019T091000
DTEND:20261019T154000
DESCRIPTION:
LOCATION:21210 Polk St NE\, East Bethel\, MN 55011\, USA
SUMMARY:School Resumes
END:VEVENT
BEGIN:VEVENT
DTSTAMP:20260425T145706Z
UID:8db03cec-4ad1-4d43-91d3-d4d6e85f0092
DTSTART:20261021T104000
DTEND:20261021T154000
DESCRIPTION:
LOCATION:21210 Polk St NE\, East Bethel\, MN 55011\, USA
SUMMARY:90 Minute Late Start-Staff Development
END:VEVENT
BEGIN:VEVENT
DTSTAMP:20260425T145706Z
UID:83345a6e-d75d-4e45-b973-111639be9b14
DTSTART;VALUE=DATE:20261109
DTEND;VALUE=DATE:20261110
DESCRIPTION:
LOCATION:21210 Polk St NE\, East Bethel\, MN 55011\, USA
SUMMARY:No School-Staff Development
END:VEVENT
BEGIN:VEVENT
DTSTAMP:20260425T145706Z
UID:86ef3de0-f0ec-458f-96ba-32c6b1ba36d6
DTSTART:20261109T060000
DTEND:20261109T180000
DESCRIPTION:
LOCATION:21210 Polk St NE\, East Bethel\, MN 55011\, USA
SUMMARY:Kids Connection-OPEN
END:VEVENT
BEGIN:VEVENT
DTSTAMP:20260425T145706Z
UID:6209866f-76b9-485b-9189-cc3c5b318e25
DTSTART:20261110T091000
DTEND:20261110T154000
DESCRIPTION:
LOCATION:21210 Polk St NE\, East Bethel\, MN 55011\, USA
SUMMARY:School Resumes
END:VEVENT
BEGIN:VEVENT
DTSTAMP:20260425T145706Z
UID:cc2aed30-ecbf-4a95-a6a6-646a96560ff8
DTSTART:20261118T104000
DTEND:20261118T154000
DESCRIPTION:
LOCATION:21210 Polk St NE\, East Bethel\, MN 55011\, USA
SUMMARY:90 Minute Late Start-Staff Development
END:VEVENT
BEGIN:VEVENT
DTSTAMP:20260425T145706Z
UID:0f8cfeb9-5748-409c-9078-841eb34f1c11
DTSTART;VALUE=DATE:20261126
DTEND;VALUE=DATE:20261127
DESCRIPTION:
LOCATION:21210 Polk St NE\, East Bethel\, MN 55011\, USA
SUMMARY:No School-District Holiday-Thanksgiving Day all district buildings 
 and offices closed
END:VEVENT
BEGIN:VEVENT
DTSTAMP:20260425T145706Z
UID:da2c6447-7e5f-4401-9945-b0f601d159a3
DTSTART;VALUE=DATE:20261126
DTEND;VALUE=DATE:20261127
DESCRIPTION:
LOCATION:21210 Polk St NE\, East Bethel\, MN 55011\, USA
SUMMARY:Kids Connection-CLOSED
END:VEVENT
BEGIN:VEVENT
DTSTAMP:20260425T145706Z
UID:e54a9989-b128-4349-83cd-9edd5bebbafe
DTSTART;VALUE=DATE:20261127
DTEND;VALUE=DATE:20261128
DESCRIPTION:
LOCATION:21210 Polk St NE\, East Bethel\, MN 55011\, USA
SUMMARY:No School-District Holiday-all district buildings and office closed
END:VEVENT
BEGIN:VEVENT
DTSTAMP:20260425T145706Z
UID:3a973893-d416-4f2a-bcdc-cf95184b8bdf
DTSTART;VALUE=DATE:20261127
DTEND;VALUE=DATE:20261128
DESCRIPTION:
LOCATION:21210 Polk St NE\, East Bethel\, MN 55011\, USA
SUMMARY:Kids Connection-CLOSED
END:VEVENT
BEGIN:VEVENT
DTSTAMP:20260425T145706Z
UID:34bc544f-04e4-420d-a938-1523d9af394d
DTSTART:20261130T091000
DTEND:20261130T154000
DESCRIPTION:
LOCATION:21210 Polk St NE\, East Bethel\, MN 55011\, USA
SUMMARY:School Resumes
END:VEVENT
BEGIN:VEVENT
DTSTAMP:20260425T145706Z
UID:255a4d5d-605f-4bd7-ac82-30b7f533060c
DTSTART;VALUE=DATE:20261203
DTEND;VALUE=DATE:20261204
DESCRIPTION:
LOCATION:21210 Polk St NE\, East Bethel\, MN 55011\, USA
SUMMARY:First Trimester ends
END:VEVENT
BEGIN:VEVENT
DTSTAMP:20260425T145706Z
UID:59cd6ea8-561d-4b5c-a748-72c88c1851bb
DTSTART;VALUE=DATE:20261204
DTEND;VALUE=DATE:20261205
DESCRIPTION:
LOCATION:21210 Polk St NE\, East Bethel\, MN 55011\, USA
SUMMARY:No School-Grading Day
END:VEVENT
BEGIN:VEVENT
DTSTAMP:20260425T145706Z
UID:0b199b25-86d1-45a7-a2c4-36ad363fd41f
DTSTART:20261204T060000
DTEND:20261204T180000
DESCRIPTION:
LOCATION:21210 Polk St NE\, East Bethel\, MN 55011\, USA
SUMMARY:Kids Connection-OPEN
END:VEVENT
BEGIN:VEVENT
DTSTAMP:20260425T145706Z
UID:6a227f8d-cf8d-45b5-85e8-991c2b9de947
DTSTART;VALUE=DATE:20261207
DTEND;VALUE=DATE:20261208
DESCRIPTION:
LOCATION:21210 Polk St NE\, East Bethel\, MN 55011\, USA
SUMMARY:Second Trimester begins
END:VEVENT
BEGIN:VEVENT
DTSTAMP:20260425T145706Z
UID:e6f959d3-0bd9-4324-b0f4-cd2092a5850a
DTSTART:20261207T091000
DTEND:20261207T154000
DESCRIPTION:
LOCATION:21210 Polk St NE\, East Bethel\, MN 55011\, USA
SUMMARY:School Resumes
END:VEVENT
BEGIN:VEVENT
DTSTAMP:20260425T145706Z
UID:11fd88f4-bd8c-44ce-9242-f0dbf0d13d24
DTSTART:20261216T104000
DTEND:20261216T154000
DESCRIPTION:
LOCATION:21210 Polk St NE\, East Bethel\, MN 55011\, USA
SUMMARY:90 Minute Late Start-Staff Development
END:VEVENT
BEGIN:VEVENT
DTSTAMP:20260425T145706Z
UID:0f0e5e71-7e97-4fd5-b966-1500a5e6f4e2
DTSTART;VALUE=DATE:20261224
DTEND;VALUE=DATE:20261225
DESCRIPTION:
LOCATION:21210 Polk St NE\, East Bethel\, MN 55011\, USA
SUMMARY:No School-Winter break-District Holiday-All district buildings and 
 offices closed
END:VEVENT
BEGIN:VEVENT
DTSTAMP:20260425T145706Z
UID:959db7f7-28f0-48b5-8b7e-42d7ab2e2e93
DTSTART;VALUE=DATE:20261224
DTEND;VALUE=DATE:20261225
DESCRIPTION:
LOCATION:21210 Polk St NE\, East Bethel\, MN 55011\, USA
SUMMARY:Kids Connection-CLOSED
END:VEVENT
BEGIN:VEVENT
DTSTAMP:20260425T145706Z
UID:97599347-17cc-4354-8aef-78139a61a735
DTSTART;VALUE=DATE:20261225
DTEND;VALUE=DATE:20261226
DESCRIPTION:
LOCATION:21210 Polk St NE\, East Bethel\, MN 55011\, USA
SUMMARY:No School-Winter break-District Holiday-All district buildings and 
 offices closed
END:VEVENT
BEGIN:VEVENT
DTSTAMP:20260425T145706Z
UID:e9cef438-f64a-49ba-b1b9-163a4285c5c8
DTSTART;VALUE=DATE:20261225
DTEND;VALUE=DATE:20261226
DESCRIPTION:
LOCATION:21210 Polk St NE\, East Bethel\, MN 55011\, USA
SUMMARY:Kids Connection-CLOSED
END:VEVENT
BEGIN:VEVENT
DTSTAMP:20260425T145706Z
UID:5c856d18-c38f-4740-a217-ae35f52729ef
DTSTART;VALUE=DATE:20261228
DTEND;VALUE=DATE:20261229
DESCRIPTION:
LOCATION:21210 Polk St NE\, East Bethel\, MN 55011\, USA
SUMMARY:Winter Break 
END:VEVENT
BEGIN:VEVENT
DTSTAMP:20260425T145706Z
UID:3636331b-6a5e-410b-99e1-88fffc3a3c33
DTSTART:20261228T060000
DTEND:20261228T180000
DESCRIPTION:
LOCATION:22919 St Francis Blvd NW\, St Francis\, MN 55070\, USA
SUMMARY:Kids Connection-OPEN
END:VEVENT
BEGIN:VEVENT
DTSTAMP:20260425T145706Z
UID:c80c7a5b-b43d-4970-97f0-7d86528aef12
DTSTART;VALUE=DATE:20261229
DTEND;VALUE=DATE:20261230
DESCRIPTION:
LOCATION:21210 Polk St NE\, East Bethel\, MN 55011\, USA
SUMMARY:Winter Break 
END:VEVENT
BEGIN:VEVENT
DTSTAMP:20260425T145706Z
UID:c0a36cf6-d644-4ea2-8a86-efe5b053bd0f
DTSTART:20261229T060000
DTEND:20261229T180000
DESCRIPTION:
LOCATION:22919 St Francis Blvd NW\, St Francis\, MN 55070\, USA
SUMMARY:Kids Connection-OPEN
END:VEVENT
BEGIN:VEVENT
DTSTAMP:20260425T145706Z
UID:f0fcdf0f-22bb-4361-b973-142c8434bc98
DTSTART;VALUE=DATE:20261230
DTEND;VALUE=DATE:20261231
DESCRIPTION:
LOCATION:21210 Polk St NE\, East Bethel\, MN 55011\, USA
SUMMARY:Winter Break 
END:VEVENT
BEGIN:VEVENT
DTSTAMP:20260425T145706Z
UID:5f98dec1-7b19-4d6b-be37-a63382e06bb0
DTSTART:20261230T060000
DTEND:20261230T180000
DESCRIPTION:
LOCATION:22919 St Francis Blvd NW\, St Francis\, MN 55070\, USA
SUMMARY:Kids Connection-OPEN
END:VEVENT
BEGIN:VEVENT
DTSTAMP:20260425T145706Z
UID:f9a4c5ea-accd-4c27-8e89-8961732a6698
DTSTART;VALUE=DATE:20261231
DTEND;VALUE=DATE:20270101
DESCRIPTION:
LOCATION:21210 Polk St NE\, East Bethel\, MN 55011\, USA
SUMMARY:Winter Break 
END:VEVENT
BEGIN:VEVENT
DTSTAMP:20260425T145706Z
UID:2b4c2dc0-c0cf-45d6-b15e-926facf32e15
DTSTART:20261231T060000
DTEND:20261231T180000
DESCRIPTION:
LOCATION:22919 St Francis Blvd NW\, St Francis\, MN 55070\, USA
SUMMARY:Kids Connection-OPEN
END:VEVENT
BEGIN:VEVENT
DTSTAMP:20260425T145706Z
UID:f97001cc-d318-4623-813f-b6274a98ed3c
DTSTART;VALUE=DATE:20270101
DTEND;VALUE=DATE:20270102
DESCRIPTION:
LOCATION:21210 Polk St NE\, East Bethel\, MN 55011\, USA
SUMMARY:Winter break-District Holiday-All district buildings and offices cl
 osed
END:VEVENT
BEGIN:VEVENT
DTSTAMP:20260425T145706Z
UID:e991f096-e5ac-43a5-ad27-812f253b9eb0
DTSTART;VALUE=DATE:20270101
DTEND;VALUE=DATE:20270102
DESCRIPTION:
LOCATION:21210 Polk St NE\, East Bethel\, MN 55011\, USA
SUMMARY:Kiids Connection-CLOSED
END:VEVENT
BEGIN:VEVENT
DTSTAMP:20260425T145706Z
UID:997905cc-aba8-4270-a09c-419c474136d6
DTSTART:20270104T091000
DTEND:20270104T154000
DESCRIPTION:
LOCATION:21210 Polk St NE\, East Bethel\, MN 55011\, USA
SUMMARY:School Resumes
END:VEVENT
BEGIN:VEVENT
DTSTAMP:20260425T145706Z
UID:7e409b05-c5e7-4455-9ede-f5d5bed3fc61
DTSTART;VALUE=DATE:20270118
DTEND;VALUE=DATE:20270119
DESCRIPTION:
LOCATION:21210 Polk St NE\, East Bethel\, MN 55011\, USA
SUMMARY:No School-Martin Luther King Jr Day
END:VEVENT
BEGIN:VEVENT
DTSTAMP:20260425T145706Z
UID:bdf56aea-54bf-451f-bf8b-0fff392cf22e
DTSTART:20270119T091000
DTEND:20270119T154000
DESCRIPTION:
LOCATION:21210 Polk St NE\, East Bethel\, MN 55011\, USA
SUMMARY:School Resumes
END:VEVENT
BEGIN:VEVENT
DTSTAMP:20260425T145706Z
UID:6fd9334f-1bf9-404b-a44a-748568437f5c
DTSTART:20270120T104000
DTEND:20270120T154000
DESCRIPTION:
LOCATION:21210 Polk St NE\, East Bethel\, MN 55011\, USA
SUMMARY:90 Minute Late Start-Staff Development
END:VEVENT
BEGIN:VEVENT
DTSTAMP:20260425T145706Z
UID:72faadb7-6f63-4539-8324-003178e6e292
DTSTART;VALUE=DATE:20270215
DTEND;VALUE=DATE:20270216
DESCRIPTION:
LOCATION:21210 Polk St NE\, East Bethel\, MN 55011\, USA
SUMMARY:No School-Presidents Day
END:VEVENT
BEGIN:VEVENT
DTSTAMP:20260425T145706Z
UID:d28e0c4f-1d38-45b1-981d-cf6e756f63e3
DTSTART;VALUE=DATE:20270215
DTEND;VALUE=DATE:20270216
DESCRIPTION:
LOCATION:21210 Polk St NE\, East Bethel\, MN 55011\, USA
SUMMARY:Kids Connection-CLOSED
END:VEVENT
BEGIN:VEVENT
DTSTAMP:20260425T145706Z
UID:b111824c-f107-4592-976e-d6a23adb1a1a
DTSTART:20270216T091000
DTEND:20270216T154000
DESCRIPTION:
LOCATION:21210 Polk St NE\, East Bethel\, MN 55011\, USA
SUMMARY:School Resumes
END:VEVENT
BEGIN:VEVENT
DTSTAMP:20260425T145706Z
UID:b08a9f42-4308-409e-8c06-88db0dfe36f2
DTSTART:20270217T104000
DTEND:20270217T154000
DESCRIPTION:
LOCATION:21210 Polk St NE\, East Bethel\, MN 55011\, USA
SUMMARY:90 Minute Late Start-Staff Development
END:VEVENT
BEGIN:VEVENT
DTSTAMP:20260425T145706Z
UID:ecc9b5c2-58c3-44b3-8913-0716cca3a239
DTSTART;VALUE=DATE:20270305
DTEND;VALUE=DATE:20270306
DESCRIPTION:
LOCATION:21210 Polk St NE\, East Bethel\, MN 55011\, USA
SUMMARY:Second Trimester ends
END:VEVENT
BEGIN:VEVENT
DTSTAMP:20260425T145706Z
UID:60658940-3e27-4dac-a84a-a919ed07bf6c
DTSTART;VALUE=DATE:20270308
DTEND;VALUE=DATE:20270309
DESCRIPTION:
LOCATION:21210 Polk St NE\, East Bethel\, MN 55011\, USA
SUMMARY:No School-Spring Break-Grading Day
END:VEVENT
BEGIN:VEVENT
DTSTAMP:20260425T145706Z
UID:997974e6-13ed-44c1-9223-12b80093a4f5
DTSTART:20270308T060000
DTEND:20270308T180000
DESCRIPTION:
LOCATION:21210 Polk St NE\, East Bethel\, MN 55011\, USA
SUMMARY:Kids Connection-OPEN 
END:VEVENT
BEGIN:VEVENT
DTSTAMP:20260425T145706Z
UID:1576343f-3759-4748-9011-dca5027f67ff
DTSTART;VALUE=DATE:20270309
DTEND;VALUE=DATE:20270310
DESCRIPTION:
LOCATION:21210 Polk St NE\, East Bethel\, MN 55011\, USA
SUMMARY:No School-Spring Break
END:VEVENT
BEGIN:VEVENT
DTSTAMP:20260425T145706Z
UID:9b1350cd-a151-4551-84cd-9345ea862a4b
DTSTART:20270309T060000
DTEND:20270309T180000
DESCRIPTION:
LOCATION:21210 Polk St NE\, East Bethel\, MN 55011\, USA
SUMMARY:Kids Connection-OPEN 
END:VEVENT
BEGIN:VEVENT
DTSTAMP:20260425T145706Z
UID:97a994c2-7364-4b60-bb33-c50f476d3e39
DTSTART;VALUE=DATE:20270310
DTEND;VALUE=DATE:20270311
DESCRIPTION:
LOCATION:21210 Polk St NE\, East Bethel\, MN 55011\, USA
SUMMARY:No School-Spring Break
END:VEVENT
BEGIN:VEVENT
DTSTAMP:20260425T145706Z
UID:9a9dcfe7-a24f-4310-905e-644612022713
DTSTART:20270310T060000
DTEND:20270310T180000
DESCRIPTION:
LOCATION:21210 Polk St NE\, East Bethel\, MN 55011\, USA
SUMMARY:Kids Connection-OPEN 
END:VEVENT
BEGIN:VEVENT
DTSTAMP:20260425T145706Z
UID:427140c5-b6c2-4679-9362-60cd06256002
DTSTART;VALUE=DATE:20270311
DTEND;VALUE=DATE:20270312
DESCRIPTION:
LOCATION:21210 Polk St NE\, East Bethel\, MN 55011\, USA
SUMMARY:No School-Spring Break
END:VEVENT
BEGIN:VEVENT
DTSTAMP:20260425T145706Z
UID:1f0d4781-01f6-4908-9f69-f5de59940e03
DTSTART:20270311T060000
DTEND:20270311T180000
DESCRIPTION:
LOCATION:21210 Polk St NE\, East Bethel\, MN 55011\, USA
SUMMARY:Kids Connection-OPEN 
END:VEVENT
BEGIN:VEVENT
DTSTAMP:20260425T145706Z
UID:a515b348-c00c-4fc4-85b3-13e35a57bc05
DTSTART;VALUE=DATE:20270312
DTEND;VALUE=DATE:20270313
DESCRIPTION:
LOCATION:21210 Polk St NE\, East Bethel\, MN 55011\, USA
SUMMARY:No School-Spring Break
END:VEVENT
BEGIN:VEVENT
DTSTAMP:20260425T145706Z
UID:1750d603-8b8a-4d64-8970-941a1d2b978b
DTSTART:20270312T060000
DTEND:20270312T180000
DESCRIPTION:
LOCATION:21210 Polk St NE\, East Bethel\, MN 55011\, USA
SUMMARY:Kids Connection-OPEN 
END:VEVENT
BEGIN:VEVENT
DTSTAMP:20260425T145706Z
UID:91375743-2411-44ae-a0f1-6dad3b2da3cf
DTSTART;VALUE=DATE:20270315
DTEND;VALUE=DATE:20270316
DESCRIPTION:
LOCATION:21210 Polk St NE\, East Bethel\, MN 55011\, USA
SUMMARY:Third Trimester begins
END:VEVENT
BEGIN:VEVENT
DTSTAMP:20260425T145706Z
UID:bf4f4d6f-c2c3-408b-92c1-e31efc3683e5
DTSTART:20270315T091000
DTEND:20270315T154000
DESCRIPTION:
LOCATION:21210 Polk St NE\, East Bethel\, MN 55011\, USA
SUMMARY:School Resumes
END:VEVENT
BEGIN:VEVENT
DTSTAMP:20260425T145706Z
UID:d4b1ac62-31f0-4298-93b5-612f6854e730
DTSTART:20270317T104000
DTEND:20270317T154000
DESCRIPTION:
LOCATION:21210 Polk St NE\, East Bethel\, MN 55011\, USA
SUMMARY:90 Minute Late Start-Staff Development
END:VEVENT
BEGIN:VEVENT
DTSTAMP:20260425T145706Z
UID:5edf1dba-55ae-4734-9953-ecc9148a6190
DTSTART;VALUE=DATE:20270326
DTEND;VALUE=DATE:20270327
DESCRIPTION:
LOCATION:21210 Polk St NE\, East Bethel\, MN 55011\, USA
SUMMARY:No School-District Holiday-all buildings and offices closed
END:VEVENT
BEGIN:VEVENT
DTSTAMP:20260425T145706Z
UID:2a3c666a-a9bd-4cff-b79e-ba74f3d1f84a
DTSTART;VALUE=DATE:20270326
DTEND;VALUE=DATE:20270327
DESCRIPTION:
LOCATION:21210 Polk St NE\, East Bethel\, MN 55011\, USA
SUMMARY:Kids Connection-Closed
END:VEVENT
BEGIN:VEVENT
DTSTAMP:20260425T145706Z
UID:b86579af-63b5-4edc-ad54-2ca61ed3f61b
DTSTART:20270329T091000
DTEND:20270329T154000
DESCRIPTION:
LOCATION:21210 Polk St NE\, East Bethel\, MN 55011\, USA
SUMMARY:School Resumes
END:VEVENT
BEGIN:VEVENT
DTSTAMP:20260425T145706Z
UID:7d8c6b53-2f93-4204-9bdc-bc6bfdc54384
DTSTART:20270421T104000
DTEND:20270421T154000
DESCRIPTION:
LOCATION:21210 Polk St NE\, East Bethel\, MN 55011\, USA
SUMMARY:90 Minute Late Start-Staff Development
END:VEVENT
BEGIN:VEVENT
DTSTAMP:20260425T145706Z
UID:f48fa3b4-c85a-4159-b6ab-c6b054419262
DTSTART:20270519T104000
DTEND:20270519T154000
DESCRIPTION:
LOCATION:21210 Polk St NE\, East Bethel\, MN 55011\, USA
SUMMARY:90 Minute Late Start-Staff Development
END:VEVENT
BEGIN:VEVENT
DTSTAMP:20260425T145706Z
UID:c9eb1da7-2967-409c-afab-414bb30ce47d
DTSTART;VALUE=DATE:20270531
DTEND;VALUE=DATE:20270601
DESCRIPTION:
LOCATION:21210 Polk St NE\, East Bethel\, MN 55011\, USA
SUMMARY:No School-District Holiday-Memorial Day-all buildings and offices c
 losed
END:VEVENT
BEGIN:VEVENT
DTSTAMP:20260425T145706Z
UID:96792157-c161-481e-bf3e-191cdbc3642d
DTSTART;VALUE=DATE:20270531
DTEND;VALUE=DATE:20270601
DESCRIPTION:
LOCATION:21210 Polk St NE\, East Bethel\, MN 55011\, USA
SUMMARY:Kids Connection-CLOSED
END:VEVENT
BEGIN:VEVENT
DTSTAMP:20260425T145706Z
UID:8857d4ce-f9ba-4115-b520-88038be9b7ab
DTSTART:20270601T091000
DTEND:20270601T154000
DESCRIPTION:
LOCATION:21210 Polk St NE\, East Bethel\, MN 55011\, USA
SUMMARY:School Resumes
END:VEVENT
BEGIN:VEVENT
DTSTAMP:20260425T145706Z
UID:318d3a1a-244e-4993-b712-7148d3e9bd99
DTSTART;VALUE=DATE:20270603
DTEND;VALUE=DATE:20270604
DESCRIPTION:
LOCATION:21210 Polk St NE\, East Bethel\, MN 55011\, USA
SUMMARY:Third Trimester ends
END:VEVENT
BEGIN:VEVENT
DTSTAMP:20260425T145706Z
UID:a322f0f9-6789-491f-8814-e7211451c455
DTSTART;VALUE=DATE:20270604
DTEND;VALUE=DATE:20270605
DESCRIPTION:
LOCATION:21210 Polk St NE\, East Bethel\, MN 55011\, USA
SUMMARY:No School-Grading Day
END:VEVENT
BEGIN:VEVENT
DTSTAMP:20260425T145706Z
UID:7b4d7364-1125-4bca-82ce-b9eec7abd575
DTSTART;VALUE=DATE:20270618
DTEND;VALUE=DATE:20270619
DESCRIPTION:
LOCATION:21210 Polk St NE\, East Bethel\, MN 55011\, USA
SUMMARY:District Holiday-Juneteenth-All district buildings and offices clos
 ed
END:VEVENT
BEGIN:VEVENT
DTSTAMP:20260425T145706Z
UID:6314ffa8-50f1-49a4-bbc9-61b9ed19cdf6
DTSTART;VALUE=DATE:20270618
DTEND;VALUE=DATE:20270619
DESCRIPTION:
LOCATION:21210 Polk St NE\, East Bethel\, MN 55011\, USA
SUMMARY:Kids Connection-CLOSED
END:VEVENT
BEGIN:VEVENT
DTSTAMP:20260425T145706Z
UID:7ffb9561-0d07-41f1-9e24-80739fb28b5f
DTSTART;VALUE=DATE:20270705
DTEND;VALUE=DATE:20270706
DESCRIPTION:
LOCATION:21210 Polk St NE\, East Bethel\, MN 55011\, USA
SUMMARY:Kids Connection-CLOSED
END:VEVENT
END:VCALENDAR
