BEGIN:VCALENDAR
VERSION:2.0
PRODID:icalendar-ruby
CALSCALE:GREGORIAN
BEGIN:VTIMEZONE
TZID:America/Chicago
BEGIN:DAYLIGHT
DTSTART:20260308T030000
TZOFFSETFROM:-0600
TZOFFSETTO:-0500
RRULE:FREQ=YEARLY;BYDAY=2SU;BYMONTH=3
TZNAME:CDT
END:DAYLIGHT
BEGIN:STANDARD
DTSTART:20261101T010000
TZOFFSETFROM:-0500
TZOFFSETTO:-0600
RRULE:FREQ=YEARLY;BYDAY=1SU;BYMONTH=11
TZNAME:CST
END:STANDARD
END:VTIMEZONE
BEGIN:VEVENT
DTSTAMP:20260421T115745Z
UID:103795ce-e2ba-4a92-99f4-ba82e3e48ba2
DTSTART;VALUE=DATE:20260420
DTEND;VALUE=DATE:20260425
DESCRIPTION:
LOCATION:
SUMMARY:Book Fair 
END:VEVENT
BEGIN:VEVENT
DTSTAMP:20260421T115745Z
UID:b01b0cb7-81a2-4619-bd1a-7db93f0a327e
DTSTART:20260421T083000
DTEND:20260421T103000
DESCRIPTION:<p>Please have student(s) wear 'Make a Joyful Noise' shirts or 
 an all-black shirt </p>
LOCATION:
SUMMARY:All School/Class Pictures 
END:VEVENT
BEGIN:VEVENT
DTSTAMP:20260421T115745Z
UID:41bac3e3-103d-41e0-a38e-d33813271f56
DTSTART:20260421T153000
DTEND:20260421T163000
DESCRIPTION:
LOCATION:
SUMMARY:Musical Practice: Leads Only
END:VEVENT
BEGIN:VEVENT
DTSTAMP:20260421T115745Z
UID:cc102860-f26b-4698-a1e5-e2aa9dde9d2f
DTSTART:20260421T170000
DTEND:20260421T190000
DESCRIPTION:<p><span>5:00 Timothy Meet at Timothy\, Blue Springs</span></p>
LOCATION:
SUMMARY:Cross Country 
END:VEVENT
BEGIN:VEVENT
DTSTAMP:20260421T115745Z
UID:e47d7fc0-15d2-4249-ba5a-508d6700b96e
DTSTART:20260421T173000
DTEND:20260421T183000
DESCRIPTION:<p></p>
LOCATION:
SUMMARY:Art Show
END:VEVENT
BEGIN:VEVENT
DTSTAMP:20260421T115745Z
UID:27401fd4-0df2-4a45-820e-747a0d572373
DTSTART:20260422T153000
DTEND:20260422T163000
DESCRIPTION:<p>At the book fair in the Fellowship Hall! </p>
LOCATION:
SUMMARY:StuCo Pickle Sales 
END:VEVENT
BEGIN:VEVENT
DTSTAMP:20260421T115745Z
UID:f307b7bf-9455-4482-86dd-a01e11c6f4a2
DTSTART:20260422T153000
DTEND:20260422T170000
DESCRIPTION:<p>@St. Paul</p>
LOCATION:
SUMMARY:Track Practice 
END:VEVENT
BEGIN:VEVENT
DTSTAMP:20260421T115745Z
UID:76cb0cb5-5517-491e-9de8-eab02fb4aeb0
DTSTART:20260423T120000
DTEND:20260423T150000
DESCRIPTION:
LOCATION:
SUMMARY:Panther Store Open 
END:VEVENT
BEGIN:VEVENT
DTSTAMP:20260421T115745Z
UID:4e1ce3fc-745f-4f27-9619-f147f51dc22b
DTSTART:20260423T153000
DTEND:20260423T163000
DESCRIPTION:
LOCATION:
SUMMARY:Musical Practice: Lead Roles Only
END:VEVENT
BEGIN:VEVENT
DTSTAMP:20260421T115745Z
UID:ba20b380-a258-4d67-9679-e06e40f27804
DTSTART:20260424T170000
DTEND:20260424T200000
DESCRIPTION:
LOCATION:
SUMMARY:School Carnival 
END:VEVENT
BEGIN:VEVENT
DTSTAMP:20260421T115745Z
UID:6b23094e-72eb-45e1-bf11-bd8d23372a88
DTSTART:20260425T090000
DTEND:20260425T153000
DESCRIPTION:<p><span>Alma Track Meet at Santa Fe High School</span></p>
LOCATION:
SUMMARY:Track Meet 
END:VEVENT
BEGIN:VEVENT
DTSTAMP:20260421T115745Z
UID:b936a318-60cc-49a3-90c1-9b2f1774ca56
DTSTART:20260427T173000
DTEND:20260427T190000
DESCRIPTION:<p>@ Leblond</p>
LOCATION:
SUMMARY:Track Practice 
END:VEVENT
BEGIN:VEVENT
DTSTAMP:20260421T115745Z
UID:68f8fed3-5dc8-4463-84aa-a4b05bf510dc
DTSTART:20260428T153000
DTEND:20260428T163000
DESCRIPTION:
LOCATION:
SUMMARY:Musical Practice: Leads Only
END:VEVENT
BEGIN:VEVENT
DTSTAMP:20260421T115745Z
UID:fa627b73-e8ad-4adc-b37a-66882c9d7b67
DTSTART:20260428T183000
DTEND:20260428T193000
DESCRIPTION:<p>In the church</p>
LOCATION:
SUMMARY:Band Concert 
END:VEVENT
BEGIN:VEVENT
DTSTAMP:20260421T115745Z
UID:0021d104-12ed-47af-b96e-3ccc3ef10340
DTSTART:20260429T084500
DTEND:20260429T091500
DESCRIPTION:
LOCATION:
SUMMARY:Chapel Awards 
END:VEVENT
BEGIN:VEVENT
DTSTAMP:20260421T115745Z
UID:f810c6aa-de5f-4627-b02a-5d1f71ded426
DTSTART:20260429T153000
DTEND:20260429T170000
DESCRIPTION:<p>@ St. Paul</p>
LOCATION:
SUMMARY:Track Practice 
END:VEVENT
BEGIN:VEVENT
DTSTAMP:20260421T115745Z
UID:066e3461-826a-469e-b5ba-5f9d72b2059f
DTSTART:20260430T153000
DTEND:20260430T163000
DESCRIPTION:
LOCATION:
SUMMARY:Musical Practice: Lead Roles Only
END:VEVENT
BEGIN:VEVENT
DTSTAMP:20260421T115745Z
UID:5e2db9fe-373c-4e06-8fcf-3009e921448b
DTSTART:20260502T090000
DTEND:20260502T153000
DESCRIPTION:<p><span>Lutheran High Track Meet at Blue Valley Complex\, 1331
 0 Switzer Rd\, Overland Park\, KS</span></p>
LOCATION:
SUMMARY:Track Meet 
END:VEVENT
BEGIN:VEVENT
DTSTAMP:20260421T115745Z
UID:13a15d48-dd6e-4ca4-a335-b7e8ba96e2cb
DTSTART:20260505T153000
DTEND:20260505T163000
DESCRIPTION:
LOCATION:
SUMMARY:Musical Practice: Leads Only
END:VEVENT
BEGIN:VEVENT
DTSTAMP:20260421T115745Z
UID:5e40172a-cfb9-4771-afeb-8fa946bf214b
DTSTART:20260505T170000
DTEND:20260505T190000
DESCRIPTION:<p><span>5:00 Hope Meet at Shawnee Mission Park\, Lenexa\, KS</
 span></p>
LOCATION:
SUMMARY:Cross Country 
END:VEVENT
BEGIN:VEVENT
DTSTAMP:20260421T115745Z
UID:95c1cbc9-2f1f-4494-b45b-223e2c03860e
DTSTART:20260505T170000
DTEND:20260505T180000
DESCRIPTION:<p>YMC Concessions </p>
LOCATION:
SUMMARY:PTL Meeting 
END:VEVENT
BEGIN:VEVENT
DTSTAMP:20260421T115745Z
UID:04189780-300b-4660-bb95-572ae5048bf4
DTSTART:20260507T063000
DTEND:20260507T093000
DESCRIPTION:<p>Taking church van. </p><p>Ms. Kendall and Mrs. Macrander </p
 ><p>Civic Arena</p>
LOCATION:
SUMMARY:Mayors Prayer Breakfast 
END:VEVENT
BEGIN:VEVENT
DTSTAMP:20260421T115745Z
UID:efcd2d42-4589-4420-a496-e34d9fc54416
DTSTART:20260507T153000
DTEND:20260507T163000
DESCRIPTION:
LOCATION:
SUMMARY:Musical Practice: Lead Roles Only
END:VEVENT
BEGIN:VEVENT
DTSTAMP:20260421T115745Z
UID:57000f61-e8ad-46ab-8895-3e68ffce1ac0
DTSTART;VALUE=DATE:20260509
DTEND;VALUE=DATE:20260510
DESCRIPTION:<p><span>Hope Track Meet at Shawnee Mission South High School</
 span></p>
LOCATION:
SUMMARY:Track Meet 
END:VEVENT
BEGIN:VEVENT
DTSTAMP:20260421T115745Z
UID:b30a45c3-60ed-4a7f-a840-8976d8257df3
DTSTART:20260512T153000
DTEND:20260512T163000
DESCRIPTION:
LOCATION:
SUMMARY:Musical Practice: Leads Only
END:VEVENT
BEGIN:VEVENT
DTSTAMP:20260421T115745Z
UID:cef5293b-9a46-4fa6-aea4-1a5592462917
DTSTART:20260514T190000
DTEND:20260514T203000
DESCRIPTION:
LOCATION:
SUMMARY:School Musical 
END:VEVENT
BEGIN:VEVENT
DTSTAMP:20260421T115745Z
UID:f6b3beda-6041-4078-8c25-b972ff70de3f
DTSTART;VALUE=DATE:20260518
DTEND;VALUE=DATE:20260519
DESCRIPTION:<p>Time: TBD</p>
LOCATION:
SUMMARY:Kindergarten Program 
END:VEVENT
BEGIN:VEVENT
DTSTAMP:20260421T115745Z
UID:c53b7c8e-dd09-40af-b30e-f8a8facab60f
DTSTART;VALUE=DATE:20260519
DTEND;VALUE=DATE:20260520
DESCRIPTION:<p>Time: TBD</p>
LOCATION:
SUMMARY:8th Grade Graduation 
END:VEVENT
BEGIN:VEVENT
DTSTAMP:20260421T115745Z
UID:8f965b00-59c2-4b9d-bcd3-24516089a1e4
DTSTART;VALUE=DATE:20260521
DTEND;VALUE=DATE:20260522
DESCRIPTION:<p>4th Qtr. Report Cards Go Home </p>
LOCATION:
SUMMARY:4th Qtr. Report Cards Go Home 
END:VEVENT
BEGIN:VEVENT
DTSTAMP:20260421T115745Z
UID:908d5706-c8a4-4208-b3ee-3fb865849386
DTSTART;VALUE=DATE:20260521
DTEND;VALUE=DATE:20260522
DESCRIPTION:<p>Last Day of 4th Qtr. </p>
LOCATION:
SUMMARY:Last Day of 4th Qtr. 
END:VEVENT
BEGIN:VEVENT
DTSTAMP:20260421T115745Z
UID:6ed4e6a2-2918-456a-bcff-b9475c530633
DTSTART:20260521T082000
DTEND:20260521T120000
DESCRIPTION:<p>Early Out  - Last Day of School </p>
LOCATION:
SUMMARY:Early Out  - Last Day of School 
END:VEVENT
END:VCALENDAR
