BEGIN:VCALENDAR
VERSION:2.0
PRODID:icalendar-ruby
CALSCALE:GREGORIAN
BEGIN:VTIMEZONE
TZID:America/Denver
BEGIN:DAYLIGHT
DTSTART:20260308T030000
TZOFFSETFROM:-0700
TZOFFSETTO:-0600
RRULE:FREQ=YEARLY;BYDAY=2SU;BYMONTH=3
TZNAME:MDT
END:DAYLIGHT
BEGIN:STANDARD
DTSTART:20261101T010000
TZOFFSETFROM:-0600
TZOFFSETTO:-0700
RRULE:FREQ=YEARLY;BYDAY=1SU;BYMONTH=11
TZNAME:MST
END:STANDARD
END:VTIMEZONE
BEGIN:VEVENT
DTSTAMP:20260423T124537Z
UID:40bcefae-9508-481a-8b36-e2ddaf3b0848
DTSTART:20260427T140000
DTEND:20260427T170000
DESCRIPTION:
LOCATION:165 N Collison Ave\, Cimarron\, NM 87714\, USA
SUMMARY:Varsity Track & Field @ Cimarron High School
END:VEVENT
BEGIN:VEVENT
DTSTAMP:20260423T124537Z
UID:a3754c8d-8e9d-4930-bf14-bc522a26c4b8
DTSTART;VALUE=DATE:20260502
DTEND;VALUE=DATE:20260503
DESCRIPTION:<html><head><meta http-equiv="Content-Type" content="text/html\
 ; charset=utf-8"></head><body><p>Families of Deaf and hard of hearing chil
 dren are invited to spend a fun-filled day participating in workshops and 
 fun family activities. Breakfast and lunch will be provided and an onsite 
 children/youth program is available for 18 mos-17 years. Come and share ex
 periences and create new memories!</p></body></html>
LOCATION:1060 Cerrillos Rd\, Santa Fe\, NM 87505\, USA
SUMMARY:Outreach - Family to Family Event
END:VEVENT
BEGIN:VEVENT
DTSTAMP:20260423T124537Z
UID:bc46685d-9ed2-4eef-997b-6275f49fe641
DTSTART:20260502T073000
DTEND:20260502T103000
DESCRIPTION:<html><head><meta http-equiv="Content-Type" content="text/html\
 ; charset=utf-8"></head><body><p>District 5-A</p></body></html>
LOCATION:165 N Collison Ave\, Cimarron\, NM 87714\, USA
SUMMARY:Varsity Track & Field @ Cimarron High School
END:VEVENT
BEGIN:VEVENT
DTSTAMP:20260423T124537Z
UID:257213cb-39fb-4d51-9558-cf7bfe66e83a
DTSTART:20260508T070000
DTEND:20260508T180000
DESCRIPTION:
LOCATION:1155 University Blvd SE\, Albuquerque\, NM 87106\, USA
SUMMARY:State Track & Field @ UNM (State Championships)
END:VEVENT
BEGIN:VEVENT
DTSTAMP:20260423T124537Z
UID:73ada9c8-42b4-4550-a4d1-613091036195
DTSTART:20260509T070000
DTEND:20260509T180000
DESCRIPTION:
LOCATION:1155 University Blvd SE\, Albuquerque\, NM 87106\, USA
SUMMARY:State Track & Field @ UNM (State Championships) 
END:VEVENT
BEGIN:VEVENT
DTSTAMP:20260423T124537Z
UID:546fdd28-64fc-4b06-9300-42055e804d45
DTSTART;VALUE=DATE:20260608
DTEND;VALUE=DATE:20260612
DESCRIPTION:<html><head><meta http-equiv="Content-Type" content="text/html\
 ; charset=utf-8"></head><body><p>This immersive program is a voice-off spa
 ce where participants learn naturally through interaction\, activites\, an
 d real-world communication. Guided by Deaf instructors. Build confidence a
 nd develop greater fluency in everday ASL use.</p></body></html>
LOCATION:1060 Cerrillos Rd\, Santa Fe\, NM 87505\, USA
SUMMARY:ASL Immersion
END:VEVENT
BEGIN:VEVENT
DTSTAMP:20260423T124537Z
UID:67c68361-11db-4ca5-bf33-dd9270883e59
DTSTART:20260615T080000
DTEND:20260618T150000
DESCRIPTION:<html><head><meta http-equiv="Content-Type" content="text/html\
 ; charset=utf-8"></head><body><p>This immersive program is a voice-off spa
 ce where participants learn naturally through interaction\, activites\, an
 d real-world communication. Guided by Deaf instructors. Build confidence a
 nd develop greater fluency in everday ASL use.</p></body></html>
LOCATION:1060 Cerrillos Rd\, Santa Fe\, NM 87505\, USA
SUMMARY:ASL Immersion
END:VEVENT
END:VCALENDAR
