BEGIN:VCALENDAR
VERSION:2.0
PRODID:icalendar-ruby
CALSCALE:GREGORIAN
BEGIN:VTIMEZONE
TZID:America/Chicago
BEGIN:DAYLIGHT
DTSTART:20260308T030000
TZOFFSETFROM:-0600
TZOFFSETTO:-0500
RRULE:FREQ=YEARLY;BYDAY=2SU;BYMONTH=3
TZNAME:CDT
END:DAYLIGHT
BEGIN:STANDARD
DTSTART:20261101T010000
TZOFFSETFROM:-0500
TZOFFSETTO:-0600
RRULE:FREQ=YEARLY;BYDAY=1SU;BYMONTH=11
TZNAME:CST
END:STANDARD
END:VTIMEZONE
BEGIN:VEVENT
DTSTAMP:20260422T162639Z
UID:b7fe7062-663f-45f3-abdb-5e8e8d0b7d7f
DTSTART:20260422T084500
DTEND:20260422T130000
DESCRIPTION:
LOCATION:1901 SE J St\, Bentonville\, AR 72712\, USA\, Gateway-Gateway-Mast
 er Calendar
SUMMARY:Atlas Testing
END:VEVENT
BEGIN:VEVENT
DTSTAMP:20260422T162639Z
UID:a73b3271-6287-46e2-96cb-6878f12fee07
DTSTART:20260425T200000
DTEND:20260425T230000
DESCRIPTION:
LOCATION:Gateway-Gateway-Master Calendar
SUMMARY:BWHS PROM
END:VEVENT
BEGIN:VEVENT
DTSTAMP:20260422T162639Z
UID:a6d72e1d-9829-41cc-abc8-0be1a2b1412b
DTSTART;VALUE=DATE:20260427
DTEND;VALUE=DATE:20260428
DESCRIPTION:
LOCATION:Gateway-Gateway-Master Calendar
SUMMARY:No School - Staff Development	
END:VEVENT
BEGIN:VEVENT
DTSTAMP:20260422T162639Z
UID:9efcae1e-b4e3-4610-942e-d3f7837b5a5c
DTSTART:20260428T084500
DTEND:20260428T130000
DESCRIPTION:
LOCATION:1901 SE J St\, Bentonville\, AR 72712\, USA\, Gateway-Gateway-Mast
 er Calendar
SUMMARY:Atlas Testing
END:VEVENT
BEGIN:VEVENT
DTSTAMP:20260422T162639Z
UID:a87b3f13-cdf6-47ec-bf35-899dbdf2b22f
DTSTART:20260429T084500
DTEND:20260429T130000
DESCRIPTION:
LOCATION:1901 SE J St\, Bentonville\, AR 72712\, USA\, Gateway-Gateway-Mast
 er Calendar
SUMMARY:Atlas Testing
END:VEVENT
BEGIN:VEVENT
DTSTAMP:20260422T162639Z
UID:1e561fb2-b38e-47be-b1ba-0353dc3ccc54
DTSTART:20260507T144500
DTEND:20260507T155500
DESCRIPTION:This event will be held in BHS' LEcture Hall. Please check in t
 hrough the Gateway office and we will happily escort you there.
LOCATION:1901 SE J St\, Bentonville\, AR 72712\, USA\, Gateway-Gateway-Mast
 er Calendar
SUMMARY:Distinguished Citizen Gateway Award
END:VEVENT
BEGIN:VEVENT
DTSTAMP:20260422T162639Z
UID:dbb2f9bd-2a5e-4738-a701-4ea01615dc1a
DTSTART:20260508T180000
DTEND:20260508T200000
DESCRIPTION:
LOCATION:1901 SE J St\, Bentonville\, AR 72712\, USA South Commons\, Gatewa
 y-Gateway-Master Calendar
SUMMARY:Gateway Senior Celebration
END:VEVENT
BEGIN:VEVENT
DTSTAMP:20260422T162639Z
UID:3fea5384-bc8d-4cbf-80ac-3d8178eae862
DTSTART:20260511T090000
DTEND:20260511T160000
DESCRIPTION:
LOCATION:Gateway-Gateway-Master Calendar
SUMMARY:Senior Final Exams
END:VEVENT
BEGIN:VEVENT
DTSTAMP:20260422T162639Z
UID:0fafddb0-87ba-4725-92cf-393e4714c8c4
DTSTART:20260512T090000
DTEND:20260512T160000
DESCRIPTION:
LOCATION:Gateway-Gateway-Master Calendar
SUMMARY:Senior Exam Make ups
END:VEVENT
BEGIN:VEVENT
DTSTAMP:20260422T162639Z
UID:90ffdd38-34c2-4e71-b8f5-be2b42e2124f
DTSTART:20260515T180000
DTEND:20260515T210000
DESCRIPTION:
LOCATION:Bentonville West High School\, 1351 Gamble Rd\, Centerton\, AR 727
 19\, USA\, Gateway-Gateway-Master Calendar
SUMMARY:BWHS Graduation
END:VEVENT
BEGIN:VEVENT
DTSTAMP:20260422T162639Z
UID:3f0c88f4-aefe-4818-8d6c-61b4c9682921
DTSTART:20260516T080000
DTEND:20260516T110000
DESCRIPTION:
LOCATION:Tiger Stadium\, Bentonville\, AR 72712\, USA\, Gateway-Gateway-Mas
 ter Calendar
SUMMARY:BHS Graduation
END:VEVENT
BEGIN:VEVENT
DTSTAMP:20260422T162639Z
UID:34d151c2-4228-40d8-803d-fd083568fbe0
DTSTART;VALUE=DATE:20260525
DTEND;VALUE=DATE:20260526
DESCRIPTION:
LOCATION:Gateway-Gateway-Master Calendar
SUMMARY:No School - Memorial Day	
END:VEVENT
BEGIN:VEVENT
DTSTAMP:20260422T162639Z
UID:a320c4d7-4329-4bfb-bcfb-8f9c935bdbcb
DTSTART:20260526T090000
DTEND:20260526T160000
DESCRIPTION:
LOCATION:Gateway-Gateway-Master Calendar
SUMMARY:Final Exams
END:VEVENT
BEGIN:VEVENT
DTSTAMP:20260422T162639Z
UID:f4b780ae-05d1-4184-a2b2-f8f716514384
DTSTART:20260527T080000
DTEND:20260527T090000
DESCRIPTION:
LOCATION:Gateway-Gateway-Master Calendar
SUMMARY:Last Day of School
END:VEVENT
BEGIN:VEVENT
DTSTAMP:20260422T162639Z
UID:20d44798-2b0c-4567-a113-0b112fb05b0d
DTSTART:20260527T090000
DTEND:20260527T160000
DESCRIPTION:
LOCATION:Gateway-Gateway-Master Calendar
SUMMARY:Finals Make Up Exams
END:VEVENT
END:VCALENDAR
