BEGIN:VCALENDAR
VERSION:2.0
PRODID:icalendar-ruby
CALSCALE:GREGORIAN
BEGIN:VTIMEZONE
TZID:America/New_York
BEGIN:DAYLIGHT
DTSTART:20260308T030000
TZOFFSETFROM:-0500
TZOFFSETTO:-0400
RRULE:FREQ=YEARLY;BYDAY=2SU;BYMONTH=3
TZNAME:EDT
END:DAYLIGHT
BEGIN:STANDARD
DTSTART:20261101T010000
TZOFFSETFROM:-0400
TZOFFSETTO:-0500
RRULE:FREQ=YEARLY;BYDAY=1SU;BYMONTH=11
TZNAME:EST
END:STANDARD
END:VTIMEZONE
BEGIN:VEVENT
DTSTAMP:20260419T181939Z
UID:b670e754-0904-485f-97e9-9607864a95ba
DTSTART:20260420T180000
DTEND:20260420T200000
DESCRIPTION:<html><head><meta http-equiv="Content-Type" content="text/html\
 ; charset=utf-8"></head><body><div></div></body></html>
LOCATION:
SUMMARY:Baseball at Landrum
END:VEVENT
BEGIN:VEVENT
DTSTAMP:20260419T181939Z
UID:434f6b49-a2e6-4cb5-8f4a-a9dc4cafa5ea
DTSTART;VALUE=DATE:20260424
DTEND;VALUE=DATE:20260425
DESCRIPTION:<html><head><meta http-equiv="Content-Type" content="text/html\
 ; charset=utf-8"></head><body><div></div></body></html>
LOCATION:
SUMMARY:SC Ready Writing
END:VEVENT
BEGIN:VEVENT
DTSTAMP:20260419T181939Z
UID:3a1542af-2add-4691-998d-04496e94ceb5
DTSTART;VALUE=DATE:20260428
DTEND;VALUE=DATE:20260429
DESCRIPTION:<html><head><meta http-equiv="Content-Type" content="text/html\
 ; charset=utf-8"></head><body><div></div></body></html>
LOCATION:
SUMMARY:SC Ready Math for Grades 3-8 (Day 1 for 3-5)
END:VEVENT
BEGIN:VEVENT
DTSTAMP:20260419T181939Z
UID:fcc7d094-543e-4adb-9f9c-e217de897231
DTSTART:20260428T180000
DTEND:20260428T183000
DESCRIPTION:<html><head><meta http-equiv="Content-Type" content="text/html\
 ; charset=utf-8"></head><body><div></div></body></html>
LOCATION:
SUMMARY:Spring Band Concert
END:VEVENT
BEGIN:VEVENT
DTSTAMP:20260419T181939Z
UID:b8bc583f-5fc3-44fd-ad1a-4aaaac231482
DTSTART;VALUE=DATE:20260429
DTEND;VALUE=DATE:20260430
DESCRIPTION:<html><head><meta http-equiv="Content-Type" content="text/html\
 ; charset=utf-8"></head><body><div></div></body></html>
LOCATION:
SUMMARY:SC Ready Math Day 2 for  Grades 3-5
END:VEVENT
BEGIN:VEVENT
DTSTAMP:20260419T181939Z
UID:838c578b-0270-4f08-929e-949908ff0ba9
DTSTART;VALUE=DATE:20260430
DTEND;VALUE=DATE:20260501
DESCRIPTION:<html><head><meta http-equiv="Content-Type" content="text/html\
 ; charset=utf-8"></head><body><div></div></body></html>
LOCATION:
SUMMARY:Last Day for O6 Program for the Year
END:VEVENT
BEGIN:VEVENT
DTSTAMP:20260419T181939Z
UID:b124e42b-ecd8-48d9-a034-f28853baee7f
DTSTART;VALUE=DATE:20260430
DTEND;VALUE=DATE:20260501
DESCRIPTION:<html><head><meta http-equiv="Content-Type" content="text/html\
 ; charset=utf-8"></head><body><div></div></body></html>
LOCATION:
SUMMARY:SC Ready ELA Part A for Grades 3-5 & Reading for 6-8
END:VEVENT
BEGIN:VEVENT
DTSTAMP:20260419T181939Z
UID:07f780f7-4832-4186-8383-88b3a90c7e3f
DTSTART;VALUE=DATE:20260501
DTEND;VALUE=DATE:20260502
DESCRIPTION:<html><head><meta http-equiv="Content-Type" content="text/html\
 ; charset=utf-8"></head><body><div></div></body></html>
LOCATION:
SUMMARY:SC Ready ELA Part B for Grades 3-5
END:VEVENT
BEGIN:VEVENT
DTSTAMP:20260419T181939Z
UID:52a8a3cf-69ec-4d9a-a4bc-1e837374e2df
DTSTART;VALUE=DATE:20260504
DTEND;VALUE=DATE:20260505
DESCRIPTION:<html><head><meta http-equiv="Content-Type" content="text/html\
 ; charset=utf-8"></head><body><div></div></body></html>
LOCATION:
SUMMARY:SC Ready Science for Grades 4 & 6
END:VEVENT
BEGIN:VEVENT
DTSTAMP:20260419T181939Z
UID:428c5728-8205-4630-9bf9-6817eb02b312
DTSTART;VALUE=DATE:20260504
DTEND;VALUE=DATE:20260509
DESCRIPTION:<html><head><meta http-equiv="Content-Type" content="text/html\
 ; charset=utf-8"></head><body><div></div></body></html>
LOCATION:
SUMMARY:Teacher Appreciation Week
END:VEVENT
BEGIN:VEVENT
DTSTAMP:20260419T181939Z
UID:2aa8e597-24cd-4390-a894-01c172d104fb
DTSTART;VALUE=DATE:20260505
DTEND;VALUE=DATE:20260507
DESCRIPTION:<html><head><meta http-equiv="Content-Type" content="text/html\
 ; charset=utf-8"></head><body><div></div></body></html>
LOCATION:
SUMMARY:K-2 i-Ready Reading Testing
END:VEVENT
BEGIN:VEVENT
DTSTAMP:20260419T181939Z
UID:4c219d26-2184-4f44-b5d6-a91a8dc86438
DTSTART:20260506T080000
DTEND:20260506T083000
DESCRIPTION:<html><head><meta http-equiv="Content-Type" content="text/html\
 ; charset=utf-8"></head><body><div></div></body></html>
LOCATION:
SUMMARY:School Nurse Day
END:VEVENT
BEGIN:VEVENT
DTSTAMP:20260419T181939Z
UID:3e44c4ca-8c7f-4f48-a3b5-0d9268a04181
DTSTART;VALUE=DATE:20260507
DTEND;VALUE=DATE:20260509
DESCRIPTION:<html><head><meta http-equiv="Content-Type" content="text/html\
 ; charset=utf-8"></head><body><div></div></body></html>
LOCATION:
SUMMARY:K-2 i-Ready Math Testing
END:VEVENT
BEGIN:VEVENT
DTSTAMP:20260419T181939Z
UID:17da220f-532e-4bdd-bc44-8a2ab14db4fc
DTSTART:20260508T063000
DTEND:20260508T090000
DESCRIPTION:<html><head><meta http-equiv="Content-Type" content="text/html\
 ; charset=utf-8"></head><body><div></div></body></html>
LOCATION:
SUMMARY:JEMS 8th Grade Dance
END:VEVENT
BEGIN:VEVENT
DTSTAMP:20260419T181939Z
UID:c19a5bf4-0fc7-4569-9817-3a601eb31e03
DTSTART:20260511T133000
DTEND:20260511T140000
DESCRIPTION:<html><head><meta http-equiv="Content-Type" content="text/html\
 ; charset=utf-8"></head><body><div></div></body></html>
LOCATION:
SUMMARY:Senior Walk
END:VEVENT
BEGIN:VEVENT
DTSTAMP:20260419T181939Z
UID:9cd7d7ae-7faa-48a0-acd1-4d89914df604
DTSTART;VALUE=DATE:20260512
DTEND;VALUE=DATE:20260513
DESCRIPTION:<html><head><meta http-equiv="Content-Type" content="text/html\
 ; charset=utf-8"></head><body><div></div></body></html>
LOCATION:
SUMMARY:Yearbook Day
END:VEVENT
BEGIN:VEVENT
DTSTAMP:20260419T181939Z
UID:9489a84f-3a57-4b9b-8cbd-4fe23a1f85b8
DTSTART;VALUE=DATE:20260513
DTEND;VALUE=DATE:20260514
DESCRIPTION:<html><head><meta http-equiv="Content-Type" content="text/html\
 ; charset=utf-8"></head><body><div></div></body></html>
LOCATION:
SUMMARY:Kona Ice
END:VEVENT
BEGIN:VEVENT
DTSTAMP:20260419T181939Z
UID:fb2927a4-6784-4168-a70a-67c60e4609b2
DTSTART;VALUE=DATE:20260513
DTEND;VALUE=DATE:20260514
DESCRIPTION:<html><head><meta http-equiv="Content-Type" content="text/html\
 ; charset=utf-8"></head><body><div></div></body></html>
LOCATION:
SUMMARY:Middle School Field Day
END:VEVENT
BEGIN:VEVENT
DTSTAMP:20260419T181939Z
UID:13888fbc-1bd6-4239-bbcf-4c94d7b3a4ee
DTSTART;VALUE=DATE:20260514
DTEND;VALUE=DATE:20260515
DESCRIPTION:<html><head><meta http-equiv="Content-Type" content="text/html\
 ; charset=utf-8"></head><body><div></div></body></html>
LOCATION:
SUMMARY:Elementary Field Day (K-2 from 8:30-11:00 & 3-5 11:30-2:00)
END:VEVENT
BEGIN:VEVENT
DTSTAMP:20260419T181939Z
UID:48a0842e-5242-445e-8cf8-1a905f4df867
DTSTART;VALUE=DATE:20260514
DTEND;VALUE=DATE:20260515
DESCRIPTION:<html><head><meta http-equiv="Content-Type" content="text/html\
 ; charset=utf-8"></head><body><div></div></body></html>
LOCATION:
SUMMARY:Kona Ice
END:VEVENT
BEGIN:VEVENT
DTSTAMP:20260419T181939Z
UID:363df696-c75a-457e-8167-59ddac95dec2
DTSTART:20260515T081500
DTEND:20260515T091500
DESCRIPTION:<html><head><meta http-equiv="Content-Type" content="text/html\
 ; charset=utf-8"></head><body><div></div></body></html>
LOCATION:
SUMMARY:8th Grade Awards Day
END:VEVENT
BEGIN:VEVENT
DTSTAMP:20260419T181939Z
UID:7a30d912-338f-4dbf-b6c1-f81563565581
DTSTART:20260515T110000
DTEND:20260515T140000
DESCRIPTION:<html><head><meta http-equiv="Content-Type" content="text/html\
 ; charset=utf-8"></head><body><div></div></body></html>
LOCATION:
SUMMARY:8th Grade Cook Out
END:VEVENT
BEGIN:VEVENT
DTSTAMP:20260419T181939Z
UID:8be000de-44ce-407a-b1c2-4f91b4b68de0
DTSTART:20260518T081500
DTEND:20260518T091500
DESCRIPTION:<html><head><meta http-equiv="Content-Type" content="text/html\
 ; charset=utf-8"></head><body><div></div></body></html>
LOCATION:
SUMMARY:5K Awards Day
END:VEVENT
BEGIN:VEVENT
DTSTAMP:20260419T181939Z
UID:207459d6-9865-4053-9d57-06975a3d0127
DTSTART:20260518T100000
DTEND:20260518T110000
DESCRIPTION:<html><head><meta http-equiv="Content-Type" content="text/html\
 ; charset=utf-8"></head><body><div></div></body></html>
LOCATION:
SUMMARY:1st Grade Awards Day
END:VEVENT
BEGIN:VEVENT
DTSTAMP:20260419T181939Z
UID:d7a2f889-9fc1-4566-aac7-b0b1493dae09
DTSTART:20260518T130000
DTEND:20260518T140000
DESCRIPTION:<html><head><meta http-equiv="Content-Type" content="text/html\
 ; charset=utf-8"></head><body><div></div></body></html>
LOCATION:
SUMMARY:2nd Grade Awards Day
END:VEVENT
BEGIN:VEVENT
DTSTAMP:20260419T181939Z
UID:5cd280f4-ee7d-46f0-819b-55a6789eed04
DTSTART:20260519T081500
DTEND:20260519T091500
DESCRIPTION:<html><head><meta http-equiv="Content-Type" content="text/html\
 ; charset=utf-8"></head><body><div></div></body></html>
LOCATION:
SUMMARY:4th Grade Awards Day
END:VEVENT
BEGIN:VEVENT
DTSTAMP:20260419T181939Z
UID:3fdab678-e979-4d50-b43e-e6d1c3343535
DTSTART:20260519T100000
DTEND:20260519T110000
DESCRIPTION:<html><head><meta http-equiv="Content-Type" content="text/html\
 ; charset=utf-8"></head><body><div></div></body></html>
LOCATION:
SUMMARY:6/7th Grade Awards Day
END:VEVENT
BEGIN:VEVENT
DTSTAMP:20260419T181939Z
UID:eac86f47-d361-4927-9821-710bdd2ba443
DTSTART:20260519T130000
DTEND:20260519T140000
DESCRIPTION:<html><head><meta http-equiv="Content-Type" content="text/html\
 ; charset=utf-8"></head><body><div></div></body></html>
LOCATION:
SUMMARY:3rd Grade Awards Day
END:VEVENT
BEGIN:VEVENT
DTSTAMP:20260419T181939Z
UID:27dc4a60-05cd-4de5-b576-9481863814fa
DTSTART;VALUE=DATE:20260520
DTEND;VALUE=DATE:20260521
DESCRIPTION:<html><head><meta http-equiv="Content-Type" content="text/html\
 ; charset=utf-8"></head><body><div></div></body></html>
LOCATION:
SUMMARY:Half-day (dismiss at 11:00)
END:VEVENT
BEGIN:VEVENT
DTSTAMP:20260419T181939Z
UID:35476445-5efd-4fd4-a772-244c016ee5f4
DTSTART:20260520T081500
DTEND:20260520T091500
DESCRIPTION:<html><head><meta http-equiv="Content-Type" content="text/html\
 ; charset=utf-8"></head><body><div></div></body></html>
LOCATION:
SUMMARY:4K Awards Day
END:VEVENT
BEGIN:VEVENT
DTSTAMP:20260419T181939Z
UID:040bb774-6497-4422-9af7-da3917aac676
DTSTART:20260520T100000
DTEND:20260520T110000
DESCRIPTION:<html><head><meta http-equiv="Content-Type" content="text/html\
 ; charset=utf-8"></head><body><div></div></body></html>
LOCATION:
SUMMARY:5th Grade Awards Day
END:VEVENT
BEGIN:VEVENT
DTSTAMP:20260419T181939Z
UID:88a45b6f-147e-4214-8568-c8ef73e0508d
DTSTART;VALUE=DATE:20260521
DTEND;VALUE=DATE:20260522
DESCRIPTION:<html><head><meta http-equiv="Content-Type" content="text/html\
 ; charset=utf-8"></head><body><div></div></body></html>
LOCATION:
SUMMARY:Half-day (dismiss at 11:00)/Last Day for Students (report cards iss
 ued)
END:VEVENT
BEGIN:VEVENT
DTSTAMP:20260419T181939Z
UID:11e96fef-4b95-44c3-99c6-f94d01aafffb
DTSTART;VALUE=DATE:20260522
DTEND;VALUE=DATE:20260523
DESCRIPTION:<html><head><meta http-equiv="Content-Type" content="text/html\
 ; charset=utf-8"></head><body><div></div></body></html>
LOCATION:
SUMMARY:Teacher Workday (weather make-up day)
END:VEVENT
BEGIN:VEVENT
DTSTAMP:20260419T181939Z
UID:fb86acbe-0310-454d-b66c-d8a0f9b4280f
DTSTART;VALUE=DATE:20260525
DTEND;VALUE=DATE:20260526
DESCRIPTION:
LOCATION:
SUMMARY:Memorial Day 
END:VEVENT
BEGIN:VEVENT
DTSTAMP:20260419T181939Z
UID:05be39c3-caf9-4617-85d0-5356d96f3084
DTSTART;VALUE=DATE:20260526
DTEND;VALUE=DATE:20260527
DESCRIPTION:
LOCATION:
SUMMARY:Teacher Weather Make-up (if needed)
END:VEVENT
END:VCALENDAR
