BEGIN:VCALENDAR
VERSION:2.0
PRODID:icalendar-ruby
CALSCALE:GREGORIAN
BEGIN:VTIMEZONE
TZID:America/Chicago
BEGIN:DAYLIGHT
DTSTART:20260308T030000
TZOFFSETFROM:-0600
TZOFFSETTO:-0500
RRULE:FREQ=YEARLY;BYDAY=2SU;BYMONTH=3
TZNAME:CDT
END:DAYLIGHT
BEGIN:STANDARD
DTSTART:20261101T010000
TZOFFSETFROM:-0500
TZOFFSETTO:-0600
RRULE:FREQ=YEARLY;BYDAY=1SU;BYMONTH=11
TZNAME:CST
END:STANDARD
END:VTIMEZONE
BEGIN:VEVENT
DTSTAMP:20260424T155810Z
UID:4aa10f94-5e3a-4a61-bd84-53559817ebba
DTSTART;VALUE=DATE:20260425
DTEND;VALUE=DATE:20260426
DESCRIPTION:
LOCATION:
SUMMARY:State Speech @ Mandan
END:VEVENT
BEGIN:VEVENT
DTSTAMP:20260424T155810Z
UID:c4ff9cf6-d82a-45bd-a529-4a0c10a16273
DTSTART:20260514T180000
DTEND:20260514T190000
DESCRIPTION:
LOCATION:
SUMMARY:K-12 Spring Concert
END:VEVENT
BEGIN:VEVENT
DTSTAMP:20260424T155810Z
UID:1d0e8ddc-19f5-4412-9d54-9df6ee3e22f2
DTSTART;VALUE=DATE:20260522
DTEND;VALUE=DATE:20260523
DESCRIPTION:
LOCATION:
SUMMARY:Last Day of School
END:VEVENT
BEGIN:VEVENT
DTSTAMP:20260424T155810Z
UID:eefab7ff-ccf4-4f68-88bd-01575cc3cf34
DTSTART:20260524T150000
DTEND:20260524T153000
DESCRIPTION:
LOCATION:
SUMMARY:Graduation
END:VEVENT
END:VCALENDAR
