BEGIN:VCALENDAR
VERSION:2.0
PRODID:icalendar-ruby
CALSCALE:GREGORIAN
BEGIN:VTIMEZONE
TZID:America/New_York
BEGIN:DAYLIGHT
DTSTART:20260308T030000
TZOFFSETFROM:-0500
TZOFFSETTO:-0400
RRULE:FREQ=YEARLY;BYDAY=2SU;BYMONTH=3
TZNAME:EDT
END:DAYLIGHT
BEGIN:STANDARD
DTSTART:20261101T010000
TZOFFSETFROM:-0400
TZOFFSETTO:-0500
RRULE:FREQ=YEARLY;BYDAY=1SU;BYMONTH=11
TZNAME:EST
END:STANDARD
END:VTIMEZONE
BEGIN:VEVENT
DTSTAMP:20260423T144843Z
UID:d1e57c34-eb9e-4e19-9021-2c9fb19447b5
DTSTART;VALUE=DATE:20260423
DTEND;VALUE=DATE:20260424
DESCRIPTION:
LOCATION:
SUMMARY:Day 1
END:VEVENT
BEGIN:VEVENT
DTSTAMP:20260423T144843Z
UID:581f9be4-ca91-4e7b-8f3e-f957843b2861
DTSTART;VALUE=DATE:20260424
DTEND;VALUE=DATE:20260425
DESCRIPTION:
LOCATION:
SUMMARY:Day 2
END:VEVENT
BEGIN:VEVENT
DTSTAMP:20260423T144843Z
UID:f6f598b4-fd45-44a3-81aa-74a3d99dc814
DTSTART;VALUE=DATE:20260427
DTEND;VALUE=DATE:20260428
DESCRIPTION:
LOCATION:
SUMMARY:Day 3
END:VEVENT
BEGIN:VEVENT
DTSTAMP:20260423T144843Z
UID:030bb48c-1edf-4a80-86f6-bd5591bdbd7b
DTSTART;VALUE=DATE:20260428
DTEND;VALUE=DATE:20260429
DESCRIPTION:
LOCATION:
SUMMARY:Day 4
END:VEVENT
BEGIN:VEVENT
DTSTAMP:20260423T144843Z
UID:a977ce13-cb6a-4143-9c41-1ca9f9991e8c
DTSTART;VALUE=DATE:20260429
DTEND;VALUE=DATE:20260430
DESCRIPTION:
LOCATION:
SUMMARY:Day 5
END:VEVENT
BEGIN:VEVENT
DTSTAMP:20260423T144843Z
UID:84268d18-8667-4b1a-98b8-5da2f6af4558
DTSTART;VALUE=DATE:20260430
DTEND;VALUE=DATE:20260501
DESCRIPTION:
LOCATION:
SUMMARY:Day 6
END:VEVENT
BEGIN:VEVENT
DTSTAMP:20260423T144843Z
UID:af4a2040-2175-43e7-9d7b-c69337b2dae7
DTSTART;VALUE=DATE:20260501
DTEND;VALUE=DATE:20260502
DESCRIPTION:
LOCATION:
SUMMARY:Day 1
END:VEVENT
BEGIN:VEVENT
DTSTAMP:20260423T144843Z
UID:30a26067-e710-43ad-857f-b1e7aeb5d9cd
DTSTART;VALUE=DATE:20260504
DTEND;VALUE=DATE:20260505
DESCRIPTION:
LOCATION:
SUMMARY:Day 2
END:VEVENT
BEGIN:VEVENT
DTSTAMP:20260423T144843Z
UID:abbe91e4-2fa9-4a41-a463-31258cb16a56
DTSTART;VALUE=DATE:20260505
DTEND;VALUE=DATE:20260506
DESCRIPTION:
LOCATION:
SUMMARY:Day 3
END:VEVENT
BEGIN:VEVENT
DTSTAMP:20260423T144843Z
UID:59bc9d55-2e8a-4209-a1c1-14e74cd15440
DTSTART;VALUE=DATE:20260506
DTEND;VALUE=DATE:20260507
DESCRIPTION:
LOCATION:
SUMMARY:Day 4
END:VEVENT
BEGIN:VEVENT
DTSTAMP:20260423T144843Z
UID:d071e782-51c0-41a8-a7f5-a772f6c176a2
DTSTART;VALUE=DATE:20260507
DTEND;VALUE=DATE:20260508
DESCRIPTION:
LOCATION:
SUMMARY:Day 5
END:VEVENT
BEGIN:VEVENT
DTSTAMP:20260423T144843Z
UID:76b8926c-cf10-42dc-97ce-3a3fdbae8298
DTSTART;VALUE=DATE:20260508
DTEND;VALUE=DATE:20260509
DESCRIPTION:
LOCATION:
SUMMARY:Day 6
END:VEVENT
BEGIN:VEVENT
DTSTAMP:20260423T144843Z
UID:c12af489-8a63-4495-ad43-a95e0d4e85c8
DTSTART;VALUE=DATE:20260511
DTEND;VALUE=DATE:20260512
DESCRIPTION:
LOCATION:
SUMMARY:Day 1
END:VEVENT
BEGIN:VEVENT
DTSTAMP:20260423T144843Z
UID:e4f43291-076a-4731-a408-9394ccd944ac
DTSTART;VALUE=DATE:20260512
DTEND;VALUE=DATE:20260513
DESCRIPTION:
LOCATION:
SUMMARY:Day 2
END:VEVENT
BEGIN:VEVENT
DTSTAMP:20260423T144843Z
UID:225485df-d860-4d64-863a-cb7a1b9928f5
DTSTART;VALUE=DATE:20260513
DTEND;VALUE=DATE:20260514
DESCRIPTION:
LOCATION:
SUMMARY:Day 3
END:VEVENT
BEGIN:VEVENT
DTSTAMP:20260423T144843Z
UID:3c377358-7c9c-449e-a191-4085322a9339
DTSTART;VALUE=DATE:20260514
DTEND;VALUE=DATE:20260515
DESCRIPTION:
LOCATION:
SUMMARY:Day 4
END:VEVENT
BEGIN:VEVENT
DTSTAMP:20260423T144843Z
UID:fa8e117c-8a58-4662-9dc3-70e08f2c9da5
DTSTART;VALUE=DATE:20260515
DTEND;VALUE=DATE:20260516
DESCRIPTION:
LOCATION:
SUMMARY:Day 5
END:VEVENT
BEGIN:VEVENT
DTSTAMP:20260423T144843Z
UID:86b14061-be4a-4bac-918b-29a3d19d656b
DTSTART;VALUE=DATE:20260518
DTEND;VALUE=DATE:20260519
DESCRIPTION:
LOCATION:
SUMMARY:Day 6
END:VEVENT
BEGIN:VEVENT
DTSTAMP:20260423T144843Z
UID:c16e34f6-c3d6-413b-939d-954f8bc632af
DTSTART;VALUE=DATE:20260519
DTEND;VALUE=DATE:20260520
DESCRIPTION:
LOCATION:
SUMMARY:Day 1
END:VEVENT
BEGIN:VEVENT
DTSTAMP:20260423T144843Z
UID:82f35ce3-48bc-4099-9635-1a76dbe0798a
DTSTART;VALUE=DATE:20260520
DTEND;VALUE=DATE:20260521
DESCRIPTION:
LOCATION:
SUMMARY:Day 2
END:VEVENT
BEGIN:VEVENT
DTSTAMP:20260423T144843Z
UID:dc6eaa15-49d0-4259-ac1f-dd69020e0e2a
DTSTART;VALUE=DATE:20260521
DTEND;VALUE=DATE:20260522
DESCRIPTION:
LOCATION:
SUMMARY:Day 3
END:VEVENT
BEGIN:VEVENT
DTSTAMP:20260423T144843Z
UID:ed80d774-778d-4ea7-a77c-e3c46760d356
DTSTART;VALUE=DATE:20260522
DTEND;VALUE=DATE:20260523
DESCRIPTION:
LOCATION:
SUMMARY:Day 4
END:VEVENT
BEGIN:VEVENT
DTSTAMP:20260423T144843Z
UID:b68054f0-9f4f-4ab5-9f9f-18a22bdb2951
DTSTART;VALUE=DATE:20260526
DTEND;VALUE=DATE:20260527
DESCRIPTION:
LOCATION:
SUMMARY:Day 5
END:VEVENT
BEGIN:VEVENT
DTSTAMP:20260423T144843Z
UID:e2ee8bbc-4563-4a66-a059-42792e6fa595
DTSTART;VALUE=DATE:20260527
DTEND;VALUE=DATE:20260528
DESCRIPTION:
LOCATION:
SUMMARY:Day 6
END:VEVENT
BEGIN:VEVENT
DTSTAMP:20260423T144843Z
UID:c6446776-13e7-4833-8661-86a0819d8426
DTSTART;VALUE=DATE:20260528
DTEND;VALUE=DATE:20260529
DESCRIPTION:
LOCATION:
SUMMARY:Day 1
END:VEVENT
BEGIN:VEVENT
DTSTAMP:20260423T144843Z
UID:3a4eeb4b-5e9f-4ffd-81bf-7a7ce69b50b4
DTSTART;VALUE=DATE:20260529
DTEND;VALUE=DATE:20260530
DESCRIPTION:
LOCATION:
SUMMARY:Day 2
END:VEVENT
BEGIN:VEVENT
DTSTAMP:20260423T144843Z
UID:cc5c6758-9845-4526-b52a-139bf77cc017
DTSTART;VALUE=DATE:20260601
DTEND;VALUE=DATE:20260602
DESCRIPTION:
LOCATION:
SUMMARY:Day 3
END:VEVENT
BEGIN:VEVENT
DTSTAMP:20260423T144843Z
UID:14eec811-b07a-40b0-b606-bcd37f7dacae
DTSTART;VALUE=DATE:20260602
DTEND;VALUE=DATE:20260603
DESCRIPTION:
LOCATION:
SUMMARY:Day 4
END:VEVENT
BEGIN:VEVENT
DTSTAMP:20260423T144843Z
UID:96d7ed59-03ce-4326-882d-9aa604db1642
DTSTART;VALUE=DATE:20260603
DTEND;VALUE=DATE:20260604
DESCRIPTION:
LOCATION:
SUMMARY:Day 5
END:VEVENT
BEGIN:VEVENT
DTSTAMP:20260423T144843Z
UID:1cd24c91-efea-4cd2-8ea5-2136e228c3e6
DTSTART;VALUE=DATE:20260604
DTEND;VALUE=DATE:20260605
DESCRIPTION:
LOCATION:
SUMMARY:Day 6
END:VEVENT
BEGIN:VEVENT
DTSTAMP:20260423T144843Z
UID:a90e3956-3b59-47d4-aaf4-e6170191f438
DTSTART;VALUE=DATE:20260605
DTEND;VALUE=DATE:20260606
DESCRIPTION:
LOCATION:
SUMMARY:Day 1
END:VEVENT
END:VCALENDAR
