BEGIN:VCALENDAR
VERSION:2.0
PRODID:icalendar-ruby
CALSCALE:GREGORIAN
BEGIN:VTIMEZONE
TZID:America/Chicago
BEGIN:DAYLIGHT
DTSTART:20260308T030000
TZOFFSETFROM:-0600
TZOFFSETTO:-0500
RRULE:FREQ=YEARLY;BYDAY=2SU;BYMONTH=3
TZNAME:CDT
END:DAYLIGHT
BEGIN:STANDARD
DTSTART:20261101T010000
TZOFFSETFROM:-0500
TZOFFSETTO:-0600
RRULE:FREQ=YEARLY;BYDAY=1SU;BYMONTH=11
TZNAME:CST
END:STANDARD
END:VTIMEZONE
BEGIN:VEVENT
DTSTAMP:20260420T194424Z
UID:2bcaf113-b5a0-4af0-a946-8052973f1f68
DTSTART:20260420T163000
DTEND:20260420T183000
DESCRIPTION:
LOCATION:Medina\, ND 58467\, USA
SUMMARY:Baseball vs Carrington
END:VEVENT
BEGIN:VEVENT
DTSTAMP:20260420T194424Z
UID:517f7583-b989-4b8b-8f01-8c53b9c3d5ec
DTSTART:20260421T153000
DTEND:20260421T203000
DESCRIPTION:
LOCATION:Fessenden\, ND 58438\, USA
SUMMARY:V Track @ Fessenden
END:VEVENT
BEGIN:VEVENT
DTSTAMP:20260420T194424Z
UID:742513c7-bec8-4a69-885c-637df8e9427c
DTSTART:20260425T090000
DTEND:20260425T150000
DESCRIPTION:
LOCATION:
SUMMARY:SPEECH - State
END:VEVENT
BEGIN:VEVENT
DTSTAMP:20260420T194424Z
UID:d5d1add0-4df9-4f1f-8cea-c0c7a901b0cd
DTSTART:20260427T163000
DTEND:20260427T183000
DESCRIPTION:
LOCATION:Steele\, ND 58482\, USA
SUMMARY:Baseball @ Kidder
END:VEVENT
BEGIN:VEVENT
DTSTAMP:20260420T194424Z
UID:bfb933c5-4e17-4127-91df-2735ae41f69c
DTSTART:20260428T140000
DTEND:20260428T200000
DESCRIPTION:
LOCATION:Fessenden\, ND 58438\, USA
SUMMARY:JH Track @ Fessenden
END:VEVENT
BEGIN:VEVENT
DTSTAMP:20260420T194424Z
UID:707a004b-5722-4e0f-a0d5-9fc2dbc78023
DTSTART:20260430T163000
DTEND:20260430T183000
DESCRIPTION:
LOCATION:Medina\, ND 58467\, USA
SUMMARY:Baseball vs. Jamestown 14s
END:VEVENT
BEGIN:VEVENT
DTSTAMP:20260420T194424Z
UID:917bd070-86fd-4b56-83bf-78c3e40ed705
DTSTART:20260501T143000
DTEND:20260501T193000
DESCRIPTION:
LOCATION:Oakes\, ND 58474\, USA
SUMMARY:JH Track @ Oakes
END:VEVENT
BEGIN:VEVENT
DTSTAMP:20260420T194424Z
UID:5b43771f-73c5-4a52-8725-c47a5df7fab6
DTSTART:20260504T163000
DTEND:20260504T183000
DESCRIPTION:
LOCATION:Gould Family Field\, Jamestown\, ND 58401\, USA
SUMMARY:Baseball @ Jamestown
END:VEVENT
BEGIN:VEVENT
DTSTAMP:20260420T194424Z
UID:eec02b96-d736-4ec2-9061-15b848ffc2f8
DTSTART:20260507T163000
DTEND:20260507T183000
DESCRIPTION:
LOCATION:Medina\, ND 58467\, USA
SUMMARY:Baseball vs Jamestown 13s
END:VEVENT
BEGIN:VEVENT
DTSTAMP:20260420T194424Z
UID:b22ab050-2099-4aa8-9fe1-637f9d590626
DTSTART:20260511T163000
DTEND:20260511T183000
DESCRIPTION:
LOCATION:Charlie Brown Memorial Field\, 12th St NE\, Valley City\, ND 58072
 \, USA
SUMMARY:Baseball @ Valley City
END:VEVENT
BEGIN:VEVENT
DTSTAMP:20260420T194424Z
UID:41c89f70-7de8-41b2-8677-0c3de58381ff
DTSTART:20260513T170000
DTEND:20260513T183000
DESCRIPTION:
LOCATION:Medina\, ND 58467\, USA
SUMMARY:MPB Awards Night
END:VEVENT
BEGIN:VEVENT
DTSTAMP:20260420T194424Z
UID:bf7f03ff-3fa9-463e-b9a4-4835f95b97f8
DTSTART:20260514T163000
DTEND:20260514T183000
DESCRIPTION:
LOCATION:Carrington\, ND 58421\, USA
SUMMARY:Baseball @ Carrington
END:VEVENT
END:VCALENDAR
