BEGIN:VCALENDAR
VERSION:2.0
PRODID:icalendar-ruby
CALSCALE:GREGORIAN
BEGIN:VTIMEZONE
TZID:America/New_York
BEGIN:DAYLIGHT
DTSTART:20260308T030000
TZOFFSETFROM:-0500
TZOFFSETTO:-0400
RRULE:FREQ=YEARLY;BYDAY=2SU;BYMONTH=3
TZNAME:EDT
END:DAYLIGHT
BEGIN:STANDARD
DTSTART:20261101T010000
TZOFFSETFROM:-0400
TZOFFSETTO:-0500
RRULE:FREQ=YEARLY;BYDAY=1SU;BYMONTH=11
TZNAME:EST
END:STANDARD
END:VTIMEZONE
BEGIN:VEVENT
DTSTAMP:20260421T094108Z
UID:7e7fe978-2594-4e0a-8803-952a17a768c1
DTSTART:20260518T140000
DTEND:20260518T163000
DESCRIPTION:
LOCATION:313 N Alexander Ave\, Washington\, GA 30673\, USA
SUMMARY:Board of Education Meeting
END:VEVENT
BEGIN:VEVENT
DTSTAMP:20260421T094108Z
UID:758d50b7-3e52-4482-a540-c645c210edad
DTSTART;VALUE=DATE:20260522
DTEND;VALUE=DATE:20260523
DESCRIPTION:
LOCATION:
SUMMARY:Early Release at Noon\, Last Day of School
END:VEVENT
BEGIN:VEVENT
DTSTAMP:20260421T094108Z
UID:b07c4112-9d1a-4d66-b17c-3a68faf72c75
DTSTART:20260522T200000
DTEND:20260522T213000
DESCRIPTION:
LOCATION:Tiger Stadium\, Washington\, GA 30673\, USA
SUMMARY:Graduation
END:VEVENT
BEGIN:VEVENT
DTSTAMP:20260421T094108Z
UID:f4be864f-cb98-4a46-ab4b-e4f0579f33de
DTSTART:20260615T140000
DTEND:20260615T163000
DESCRIPTION:
LOCATION:313 N Alexander Ave\, Washington\, GA 30673\, USA
SUMMARY:Board of Education Meeting
END:VEVENT
BEGIN:VEVENT
DTSTAMP:20260421T094108Z
UID:c3ff684f-d6e8-493b-8020-020017bab6e0
DTSTART:20260720T140000
DTEND:20260720T163000
DESCRIPTION:
LOCATION:313 N Alexander Ave\, Washington\, GA 30673\, USA
SUMMARY:Board of Education Meeting
END:VEVENT
BEGIN:VEVENT
DTSTAMP:20260421T094108Z
UID:e4f188f4-48b5-4115-b92c-7fcbf3cf2d43
DTSTART:20260817T140000
DTEND:20260817T163000
DESCRIPTION:
LOCATION:313 N Alexander Ave\, Washington\, GA 30673\, USA
SUMMARY:Board of Education Meeting
END:VEVENT
BEGIN:VEVENT
DTSTAMP:20260421T094108Z
UID:78af82af-649f-4d75-bd5e-130b36f295ae
DTSTART:20260921T140000
DTEND:20260921T163000
DESCRIPTION:
LOCATION:313 N Alexander Ave\, Washington\, GA 30673\, USA
SUMMARY:Board of Education Meeting
END:VEVENT
BEGIN:VEVENT
DTSTAMP:20260421T094108Z
UID:e6e72efb-4601-4c32-bc70-d6f877e288e8
DTSTART:20261019T140000
DTEND:20261019T163000
DESCRIPTION:
LOCATION:313 N Alexander Ave\, Washington\, GA 30673\, USA
SUMMARY:Board of Education Meeting
END:VEVENT
BEGIN:VEVENT
DTSTAMP:20260421T094108Z
UID:1519380c-eaa6-4b7c-94c4-098e573023ee
DTSTART:20261116T140000
DTEND:20261116T163000
DESCRIPTION:
LOCATION:313 N Alexander Ave\, Washington\, GA 30673\, USA
SUMMARY:Board of Education Meeting
END:VEVENT
BEGIN:VEVENT
DTSTAMP:20260421T094108Z
UID:2195bd46-622d-4d9b-8d60-a386265c06ec
DTSTART:20261214T140000
DTEND:20261214T163000
DESCRIPTION:
LOCATION:313 N Alexander Ave\, Washington\, GA 30673\, USA
SUMMARY:Board of Education Meeting
END:VEVENT
END:VCALENDAR
