BEGIN:VCALENDAR
VERSION:2.0
PRODID:icalendar-ruby
CALSCALE:GREGORIAN
BEGIN:VTIMEZONE
TZID:America/Chicago
BEGIN:DAYLIGHT
DTSTART:20260308T030000
TZOFFSETFROM:-0600
TZOFFSETTO:-0500
RRULE:FREQ=YEARLY;BYDAY=2SU;BYMONTH=3
TZNAME:CDT
END:DAYLIGHT
BEGIN:STANDARD
DTSTART:20261101T010000
TZOFFSETFROM:-0500
TZOFFSETTO:-0600
RRULE:FREQ=YEARLY;BYDAY=1SU;BYMONTH=11
TZNAME:CST
END:STANDARD
END:VTIMEZONE
BEGIN:VEVENT
DTSTAMP:20260421T071043Z
UID:9358e0ea-e47e-4cd6-a035-e3e24a6083f7
DTSTART;VALUE=DATE:20260421
DTEND;VALUE=DATE:20260422
DESCRIPTION:
LOCATION:
SUMMARY:HS Track @ Vinita
END:VEVENT
BEGIN:VEVENT
DTSTAMP:20260421T071043Z
UID:aacd481a-a65f-4e63-9470-648523d06dbe
DTSTART:20260421T163000
DTEND:20260421T213000
DESCRIPTION:
LOCATION:Chelsea High School\, 401 Redbud\, Chelsea\, OK 74016\, USA
SUMMARY:Baseball: JH\, Varsity\, JH Home vs OKU
END:VEVENT
BEGIN:VEVENT
DTSTAMP:20260421T071043Z
UID:711524be-bcb3-4cdb-83a1-f5b770b46c25
DTSTART;VALUE=DATE:20260423
DTEND;VALUE=DATE:20260424
DESCRIPTION:
LOCATION:
SUMMARY:Golf @ Pryor
END:VEVENT
BEGIN:VEVENT
DTSTAMP:20260421T071043Z
UID:5e1284d1-a4f4-4ae7-ae0b-5d4d842f894d
DTSTART;VALUE=DATE:20260423
DTEND;VALUE=DATE:20260425
DESCRIPTION:
LOCATION:
SUMMARY:Slow Pitch Districts
END:VEVENT
BEGIN:VEVENT
DTSTAMP:20260421T071043Z
UID:ec471633-9073-4aa7-9727-5a6f701b7f94
DTSTART:20260423T160000
DTEND:20260423T200000
DESCRIPTION:
LOCATION:Chelsea High School\, 401 Redbud\, Chelsea\, OK 74016\, USA
SUMMARY:Baseball: Varsity vs Pryor Christian
END:VEVENT
BEGIN:VEVENT
DTSTAMP:20260421T071043Z
UID:756b90bb-5176-4301-aa63-722390b45529
DTSTART;VALUE=DATE:20260424
DTEND;VALUE=DATE:20260425
DESCRIPTION:
LOCATION:
SUMMARY:School is In-Session - Snow Make-up Day
END:VEVENT
BEGIN:VEVENT
DTSTAMP:20260421T071043Z
UID:341d8181-d2e3-4a70-b35d-f494e3de2fec
DTSTART;VALUE=DATE:20260427
DTEND;VALUE=DATE:20260428
DESCRIPTION:
LOCATION:
SUMMARY:Golf Regionals @ Muskogee
END:VEVENT
BEGIN:VEVENT
DTSTAMP:20260421T071043Z
UID:4bbd3452-0c86-4551-b711-2a5813cac85d
DTSTART;VALUE=DATE:20260427
DTEND;VALUE=DATE:20260428
DESCRIPTION:
LOCATION:
SUMMARY:HS Track @ Keys
END:VEVENT
BEGIN:VEVENT
DTSTAMP:20260421T071043Z
UID:3fdfed36-467b-49a2-bb49-3add4d4b0ed1
DTSTART:20260427T163000
DTEND:20260427T203000
DESCRIPTION:
LOCATION:Chelsea High School\, 401 Redbud\, Chelsea\, OK 74016\, USA
SUMMARY:Baseball: JH Home vs Chouteau
END:VEVENT
BEGIN:VEVENT
DTSTAMP:20260421T071043Z
UID:10b25dfc-b2c4-4361-8559-81b28aefc19f
DTSTART:20260427T163000
DTEND:20260427T203000
DESCRIPTION:
LOCATION:Chouteau High School\, 101 N McCracken St\, Chouteau\, OK 74337\, 
 USA
SUMMARY:Baseball: Varsity & JV @ Chouteau
END:VEVENT
BEGIN:VEVENT
DTSTAMP:20260421T071043Z
UID:5bf46cf7-b744-477c-a2cb-e3544572a2cb
DTSTART;VALUE=DATE:20260430
DTEND;VALUE=DATE:20260502
DESCRIPTION:
LOCATION:
SUMMARY:Slow Pitch Regionals
END:VEVENT
BEGIN:VEVENT
DTSTAMP:20260421T071043Z
UID:87b83690-30cd-4cbb-a37b-42987c4b1d40
DTSTART:20260430T163000
DTEND:20260430T203000
DESCRIPTION:
LOCATION:Colcord Public Schools\, OK\, USA
SUMMARY:Baseball: JH & Varsity @ Colcord
END:VEVENT
BEGIN:VEVENT
DTSTAMP:20260421T071043Z
UID:d9987bf3-255f-4075-8ffd-4cf60372eb69
DTSTART;VALUE=DATE:20260501
DTEND;VALUE=DATE:20260502
DESCRIPTION:
LOCATION:
SUMMARY:No School
END:VEVENT
BEGIN:VEVENT
DTSTAMP:20260421T071043Z
UID:26c328fa-dcb4-4174-a0a8-5c1009c4f413
DTSTART:20260501T163000
DTEND:20260501T203000
DESCRIPTION:
LOCATION:Nowata\, OK 74048\, USA
SUMMARY:Baseball: JH @ Nowata
END:VEVENT
BEGIN:VEVENT
DTSTAMP:20260421T071043Z
UID:2c3a2a8c-d8a9-476d-8d96-3bec30ccb96f
DTSTART:20260501T163000
DTEND:20260501T203000
DESCRIPTION:
LOCATION:Nowata\, OK 74048\, USA
SUMMARY:Baseball: Varsity & JV Home vs Nowata
END:VEVENT
BEGIN:VEVENT
DTSTAMP:20260421T071043Z
UID:00de28a6-2745-490d-836a-30becb73c7c8
DTSTART;VALUE=DATE:20260502
DTEND;VALUE=DATE:20260503
DESCRIPTION:
LOCATION:
SUMMARY:Track - Regionals
END:VEVENT
BEGIN:VEVENT
DTSTAMP:20260421T071043Z
UID:16c6c127-0223-4b5e-9e8d-773529fb4b48
DTSTART:20260504T163000
DTEND:20260504T203000
DESCRIPTION:
LOCATION:Chelsea High School\, 401 Redbud\, Chelsea\, OK 74016\, USA
SUMMARY:Baseball: JH & Varsity Home vs Colcord
END:VEVENT
BEGIN:VEVENT
DTSTAMP:20260421T071043Z
UID:579aacc8-78f9-47bf-bf4a-00a826418e19
DTSTART;VALUE=DATE:20260507
DTEND;VALUE=DATE:20260510
DESCRIPTION:
LOCATION:Louisville\, KY\, USA
SUMMARY:Archery National Tournament
END:VEVENT
BEGIN:VEVENT
DTSTAMP:20260421T071043Z
UID:cd6d4fe5-4749-4e92-8fc8-695b3cfd12e8
DTSTART;VALUE=DATE:20260507
DTEND;VALUE=DATE:20260510
DESCRIPTION:
LOCATION:
SUMMARY:Baseball: Regionals
END:VEVENT
BEGIN:VEVENT
DTSTAMP:20260421T071043Z
UID:42a5a094-ad7e-4c4d-9e64-e6324122d5b6
DTSTART;VALUE=DATE:20260507
DTEND;VALUE=DATE:20260509
DESCRIPTION:
LOCATION:
SUMMARY:Slow Pitch State
END:VEVENT
BEGIN:VEVENT
DTSTAMP:20260421T071043Z
UID:798cd6bf-a70b-4b84-b783-7742bcc6a3d1
DTSTART;VALUE=DATE:20260508
DTEND;VALUE=DATE:20260509
DESCRIPTION:
LOCATION:
SUMMARY:No School
END:VEVENT
BEGIN:VEVENT
DTSTAMP:20260421T071043Z
UID:f3540cfb-cbae-41a9-828a-7667c50684b3
DTSTART;VALUE=DATE:20260508
DTEND;VALUE=DATE:20260510
DESCRIPTION:
LOCATION:
SUMMARY:Track - State Meet
END:VEVENT
BEGIN:VEVENT
DTSTAMP:20260421T071043Z
UID:e9360897-349c-4f0a-abaa-3b17236f7798
DTSTART;VALUE=DATE:20260511
DTEND;VALUE=DATE:20260513
DESCRIPTION:
LOCATION:
SUMMARY:Golf State @ the Coves
END:VEVENT
BEGIN:VEVENT
DTSTAMP:20260421T071043Z
UID:e1b5acf2-b6fd-4a55-ba50-502c03b949c8
DTSTART:20260512T130000
DTEND:20260512T140000
DESCRIPTION:
LOCATION:
SUMMARY:Talent show
END:VEVENT
BEGIN:VEVENT
DTSTAMP:20260421T071043Z
UID:99310522-78e4-4352-bb44-d53e5e3008bc
DTSTART;VALUE=DATE:20260513
DTEND;VALUE=DATE:20260514
DESCRIPTION:
LOCATION:
SUMMARY:Senior Finals
END:VEVENT
BEGIN:VEVENT
DTSTAMP:20260421T071043Z
UID:323f8eb8-9853-4744-8ec7-5596d9395996
DTSTART;VALUE=DATE:20260514
DTEND;VALUE=DATE:20260515
DESCRIPTION:
LOCATION:
SUMMARY:Senior Trip
END:VEVENT
BEGIN:VEVENT
DTSTAMP:20260421T071043Z
UID:a767b865-d522-4c18-99d9-3f4207f49e9d
DTSTART;VALUE=DATE:20260515
DTEND;VALUE=DATE:20260516
DESCRIPTION:
LOCATION:
SUMMARY:No School
END:VEVENT
BEGIN:VEVENT
DTSTAMP:20260421T071043Z
UID:e77a5630-c002-468f-8a54-13a40fcde142
DTSTART;VALUE=DATE:20260518
DTEND;VALUE=DATE:20260519
DESCRIPTION:
LOCATION:
SUMMARY:Senior Walk-Through\, Practice\, Awards\, SB Game
END:VEVENT
BEGIN:VEVENT
DTSTAMP:20260421T071043Z
UID:5fe140c8-9f5c-424d-8f3e-de90d997d7fb
DTSTART;VALUE=DATE:20260519
DTEND;VALUE=DATE:20260520
DESCRIPTION:
LOCATION:
SUMMARY:Semester Tests 9-11th
END:VEVENT
BEGIN:VEVENT
DTSTAMP:20260421T071043Z
UID:0a0de0a9-8e6c-48fa-9991-612e3d519210
DTSTART;VALUE=DATE:20260520
DTEND;VALUE=DATE:20260521
DESCRIPTION:
LOCATION:
SUMMARY:Semester Tests 9-11th
END:VEVENT
BEGIN:VEVENT
DTSTAMP:20260421T071043Z
UID:c6d65500-5982-49b1-b7ed-ea4488508238
DTSTART:20260520T180000
DTEND:20260520T190000
DESCRIPTION:
LOCATION:
SUMMARY:Baccalaureate @ 1st Methodist Church
END:VEVENT
BEGIN:VEVENT
DTSTAMP:20260421T071043Z
UID:b81a3d20-531f-48f5-8dc7-dc7dec799033
DTSTART:20260521T130000
DTEND:20260521T150000
DESCRIPTION:
LOCATION:
SUMMARY:Nicky Harris Retirement Party ELC
END:VEVENT
BEGIN:VEVENT
DTSTAMP:20260421T071043Z
UID:07e720a5-ffc8-4a7f-ac31-dae57aea4d47
DTSTART;VALUE=DATE:20260522
DTEND;VALUE=DATE:20260523
DESCRIPTION:
LOCATION:
SUMMARY:Last Day of School
END:VEVENT
BEGIN:VEVENT
DTSTAMP:20260421T071043Z
UID:7cc884e6-2332-44fb-90ee-93995d9b15de
DTSTART:20260523T100000
DTEND:20260523T110000
DESCRIPTION:
LOCATION:
SUMMARY:Graduation
END:VEVENT
BEGIN:VEVENT
DTSTAMP:20260421T071043Z
UID:f6db9b78-1c9f-4a79-bccb-a37241e02778
DTSTART;VALUE=DATE:20260813
DTEND;VALUE=DATE:20260814
DESCRIPTION:
LOCATION:
SUMMARY:Teacher Professional Day
END:VEVENT
BEGIN:VEVENT
DTSTAMP:20260421T071043Z
UID:b09440d6-7968-4bd8-a66e-a0531e4f7bda
DTSTART;VALUE=DATE:20260817
DTEND;VALUE=DATE:20260818
DESCRIPTION:
LOCATION:
SUMMARY:Teacher Professional Day
END:VEVENT
BEGIN:VEVENT
DTSTAMP:20260421T071043Z
UID:2790bbd6-8ee2-460a-984b-a8a4a09fabf1
DTSTART;VALUE=DATE:20260818
DTEND;VALUE=DATE:20260819
DESCRIPTION:
LOCATION:
SUMMARY:JOM/Indian Parent Committee School Supply event. 
END:VEVENT
BEGIN:VEVENT
DTSTAMP:20260421T071043Z
UID:0ed53ba5-cb1f-4647-b7f0-11565aff33cb
DTSTART;VALUE=DATE:20260819
DTEND;VALUE=DATE:20260820
DESCRIPTION:
LOCATION:
SUMMARY:First Day of School!!
END:VEVENT
BEGIN:VEVENT
DTSTAMP:20260421T071043Z
UID:a1c702c9-188f-4cdb-84f0-88ae1479679d
DTSTART;VALUE=DATE:20260907
DTEND;VALUE=DATE:20260908
DESCRIPTION:
LOCATION:
SUMMARY:Labor Day - No School
END:VEVENT
BEGIN:VEVENT
DTSTAMP:20260421T071043Z
UID:4903045c-d5de-4716-aba5-f72e2e2fe1ee
DTSTART;VALUE=DATE:20260908
DTEND;VALUE=DATE:20260912
DESCRIPTION:
LOCATION:
SUMMARY:HOCO Week
END:VEVENT
BEGIN:VEVENT
DTSTAMP:20260421T071043Z
UID:906f1243-a500-49f4-935d-e2de7d8a06f8
DTSTART:20260912T183000
DTEND:20260912T210000
DESCRIPTION:
LOCATION:
SUMMARY:STUCO HOCO Dance
END:VEVENT
BEGIN:VEVENT
DTSTAMP:20260421T071043Z
UID:0a023df9-f252-410c-ad02-5d7efc506c92
DTSTART:20261008T153000
DTEND:20261008T213000
DESCRIPTION:
LOCATION:
SUMMARY:Parent-Teacher Conference
END:VEVENT
BEGIN:VEVENT
DTSTAMP:20260421T071043Z
UID:a70c0c54-ad38-4dbf-8a5f-ba0a75c0ea54
DTSTART;VALUE=DATE:20261009
DTEND;VALUE=DATE:20261010
DESCRIPTION:
LOCATION:
SUMMARY:Teacher Professional Day - No School
END:VEVENT
BEGIN:VEVENT
DTSTAMP:20260421T071043Z
UID:300364d3-3d4e-4b1e-9b70-66bd4b3ed7a7
DTSTART;VALUE=DATE:20261019
DTEND;VALUE=DATE:20261020
DESCRIPTION:
LOCATION:
SUMMARY:Start of Second Quarter
END:VEVENT
BEGIN:VEVENT
DTSTAMP:20260421T071043Z
UID:7dca3eb9-1163-4e68-8efa-00e328dcb7a2
DTSTART;VALUE=DATE:20261107
DTEND;VALUE=DATE:20261110
DESCRIPTION:
LOCATION:
SUMMARY:Stuco State Convention-Norman
END:VEVENT
BEGIN:VEVENT
DTSTAMP:20260421T071043Z
UID:248764e0-c1e3-4c33-8529-ec683349e1a2
DTSTART;VALUE=DATE:20261118
DTEND;VALUE=DATE:20261119
DESCRIPTION:
LOCATION:
SUMMARY:Stuco Santa Pictures AG
END:VEVENT
BEGIN:VEVENT
DTSTAMP:20260421T071043Z
UID:20d9f538-2c11-47d5-be57-b068e8da49ab
DTSTART;VALUE=DATE:20261119
DTEND;VALUE=DATE:20261120
DESCRIPTION:
LOCATION:
SUMMARY:Stuco Santa Pictures LF
END:VEVENT
BEGIN:VEVENT
DTSTAMP:20260421T071043Z
UID:27b3107d-b5f1-41ab-8399-c202cf58c544
DTSTART;VALUE=DATE:20261123
DTEND;VALUE=DATE:20261128
DESCRIPTION:
LOCATION:
SUMMARY:Thanksgiving Break - No School
END:VEVENT
BEGIN:VEVENT
DTSTAMP:20260421T071043Z
UID:cec948d5-fc28-468f-981c-ebf31b8857fd
DTSTART;VALUE=DATE:20261218
DTEND;VALUE=DATE:20261219
DESCRIPTION:
LOCATION:
SUMMARY:Last Day of 1st Semester
END:VEVENT
BEGIN:VEVENT
DTSTAMP:20260421T071043Z
UID:cce12cbe-739e-44eb-a36a-f60b327ba2b9
DTSTART;VALUE=DATE:20261221
DTEND;VALUE=DATE:20261226
DESCRIPTION:
LOCATION:
SUMMARY:Winter Break - No School
END:VEVENT
BEGIN:VEVENT
DTSTAMP:20260421T071043Z
UID:f8532f72-04a4-46ae-81a8-281d957b6a9f
DTSTART;VALUE=DATE:20261228
DTEND;VALUE=DATE:20270102
DESCRIPTION:
LOCATION:
SUMMARY:Winter Break - No School
END:VEVENT
BEGIN:VEVENT
DTSTAMP:20260421T071043Z
UID:fd086638-dd85-4860-a137-9537212e6fab
DTSTART;VALUE=DATE:20270104
DTEND;VALUE=DATE:20270105
DESCRIPTION:
LOCATION:
SUMMARY:Teacher Professional Day - No School
END:VEVENT
BEGIN:VEVENT
DTSTAMP:20260421T071043Z
UID:f495c981-96da-4354-8d86-d447e94440b7
DTSTART;VALUE=DATE:20270105
DTEND;VALUE=DATE:20270106
DESCRIPTION:
LOCATION:
SUMMARY:1st Day of 2nd Semester
END:VEVENT
BEGIN:VEVENT
DTSTAMP:20260421T071043Z
UID:2d2eb000-91ec-4810-a46a-eb2aad5cb2f4
DTSTART;VALUE=DATE:20270118
DTEND;VALUE=DATE:20270119
DESCRIPTION:
LOCATION:
SUMMARY:Martin Luther King Jr. Day - No School
END:VEVENT
BEGIN:VEVENT
DTSTAMP:20260421T071043Z
UID:15177c42-a7d9-4d8b-b974-b6a840bec70d
DTSTART;VALUE=DATE:20270215
DTEND;VALUE=DATE:20270216
DESCRIPTION:
LOCATION:
SUMMARY:President's Day - No School
END:VEVENT
BEGIN:VEVENT
DTSTAMP:20260421T071043Z
UID:823a609b-73c5-4ada-b5b5-8aebd244a591
DTSTART;VALUE=DATE:20270226
DTEND;VALUE=DATE:20270227
DESCRIPTION:
LOCATION:
SUMMARY:All School NASA Assembly and Art Show
END:VEVENT
BEGIN:VEVENT
DTSTAMP:20260421T071043Z
UID:8e9de123-909a-4a45-bd30-b73a39aa21d0
DTSTART:20270311T153000
DTEND:20270311T213000
DESCRIPTION:
LOCATION:
SUMMARY:Parent Teacher Conference
END:VEVENT
BEGIN:VEVENT
DTSTAMP:20260421T071043Z
UID:ba717eeb-8409-469e-885e-f01d35965030
DTSTART;VALUE=DATE:20270312
DTEND;VALUE=DATE:20270313
DESCRIPTION:
LOCATION:
SUMMARY:Teacher Professional Day - No School
END:VEVENT
BEGIN:VEVENT
DTSTAMP:20260421T071043Z
UID:7f8b0df7-5bd6-4564-aaab-c8e9f83525d0
DTSTART;VALUE=DATE:20270315
DTEND;VALUE=DATE:20270320
DESCRIPTION:
LOCATION:
SUMMARY:Spring Break
END:VEVENT
BEGIN:VEVENT
DTSTAMP:20260421T071043Z
UID:5c7c8ba8-75a4-4bad-aa26-2033121f02b6
DTSTART;VALUE=DATE:20270326
DTEND;VALUE=DATE:20270327
DESCRIPTION:
LOCATION:
SUMMARY:Snow Day - No School
END:VEVENT
BEGIN:VEVENT
DTSTAMP:20260421T071043Z
UID:a50167a0-ebc5-411f-bb79-5b597eb89847
DTSTART;VALUE=DATE:20270402
DTEND;VALUE=DATE:20270403
DESCRIPTION:
LOCATION:
SUMMARY:Snow Day - No School
END:VEVENT
BEGIN:VEVENT
DTSTAMP:20260421T071043Z
UID:4ac95dd3-4067-4ee6-8558-bf060e9cac01
DTSTART;VALUE=DATE:20270409
DTEND;VALUE=DATE:20270410
DESCRIPTION:
LOCATION:
SUMMARY:Snow Day - No School
END:VEVENT
BEGIN:VEVENT
DTSTAMP:20260421T071043Z
UID:b05527b0-2a0d-4484-aa86-c91758a7a8ec
DTSTART;VALUE=DATE:20270416
DTEND;VALUE=DATE:20270417
DESCRIPTION:
LOCATION:
SUMMARY:Snow Day - No School
END:VEVENT
BEGIN:VEVENT
DTSTAMP:20260421T071043Z
UID:7185cf0e-b7d1-4ec4-b8c3-ce58b23ac20d
DTSTART;VALUE=DATE:20270423
DTEND;VALUE=DATE:20270424
DESCRIPTION:
LOCATION:
SUMMARY:Snow Day - No School
END:VEVENT
BEGIN:VEVENT
DTSTAMP:20260421T071043Z
UID:23eec09f-c66e-4606-bac1-993856fbc218
DTSTART;VALUE=DATE:20270430
DTEND;VALUE=DATE:20270501
DESCRIPTION:
LOCATION:
SUMMARY:Snow Day - No School
END:VEVENT
BEGIN:VEVENT
DTSTAMP:20260421T071043Z
UID:74b10788-dbc2-4552-9d4b-1cd3ac943612
DTSTART;VALUE=DATE:20270507
DTEND;VALUE=DATE:20270508
DESCRIPTION:
LOCATION:
SUMMARY:Snow Day - No School
END:VEVENT
BEGIN:VEVENT
DTSTAMP:20260421T071043Z
UID:8025a176-2ace-4229-8fa0-20aa78d3ec61
DTSTART;VALUE=DATE:20270514
DTEND;VALUE=DATE:20270515
DESCRIPTION:
LOCATION:
SUMMARY:Snow Day - No School
END:VEVENT
BEGIN:VEVENT
DTSTAMP:20260421T071043Z
UID:fe9ec863-0f28-45a9-a172-6feb45064ce0
DTSTART;VALUE=DATE:20270520
DTEND;VALUE=DATE:20270521
DESCRIPTION:
LOCATION:
SUMMARY:Last Day of School!!
END:VEVENT
BEGIN:VEVENT
DTSTAMP:20260421T071043Z
UID:561553e8-ba85-413d-959e-46a640556066
DTSTART;VALUE=DATE:20270522
DTEND;VALUE=DATE:20270523
DESCRIPTION:
LOCATION:
SUMMARY:Graduation
END:VEVENT
BEGIN:VEVENT
DTSTAMP:20260421T071043Z
UID:7b7acb5d-4e75-4ff0-9026-ebfa64ebfa2e
DTSTART;VALUE=DATE:20270812
DTEND;VALUE=DATE:20270813
DESCRIPTION:
LOCATION:
SUMMARY:Teacher Professional Day
END:VEVENT
BEGIN:VEVENT
DTSTAMP:20260421T071043Z
UID:20b7e042-1c44-44f3-b084-72d8e57ddcd6
DTSTART;VALUE=DATE:20270816
DTEND;VALUE=DATE:20270817
DESCRIPTION:
LOCATION:
SUMMARY:Teacher Professional Day
END:VEVENT
BEGIN:VEVENT
DTSTAMP:20260421T071043Z
UID:1529e21f-2069-411d-8565-3e665c0b237e
DTSTART;VALUE=DATE:20270818
DTEND;VALUE=DATE:20270819
DESCRIPTION:
LOCATION:
SUMMARY:1st Day of School!!
END:VEVENT
BEGIN:VEVENT
DTSTAMP:20260421T071043Z
UID:fcb4049e-1be2-48bc-aaea-06f3b752a3e0
DTSTART;VALUE=DATE:20270906
DTEND;VALUE=DATE:20270907
DESCRIPTION:
LOCATION:
SUMMARY:Labor Day - No School
END:VEVENT
BEGIN:VEVENT
DTSTAMP:20260421T071043Z
UID:dddd3922-370d-404c-882c-fdc6cf009b43
DTSTART:20271007T153000
DTEND:20271007T213000
DESCRIPTION:
LOCATION:
SUMMARY:Parent Teacher Conference
END:VEVENT
BEGIN:VEVENT
DTSTAMP:20260421T071043Z
UID:3ab45506-1aac-4d27-b45a-fb2d40d20822
DTSTART;VALUE=DATE:20271008
DTEND;VALUE=DATE:20271009
DESCRIPTION:
LOCATION:
SUMMARY:Teacher Professional Day - No School
END:VEVENT
BEGIN:VEVENT
DTSTAMP:20260421T071043Z
UID:b03ff91d-01d1-4bc5-b17c-b286df325da6
DTSTART;VALUE=DATE:20271011
DTEND;VALUE=DATE:20271016
DESCRIPTION:
LOCATION:
SUMMARY:Fall Break - No School
END:VEVENT
BEGIN:VEVENT
DTSTAMP:20260421T071043Z
UID:ab57a194-043c-4cc2-9bc6-edb3c446234c
DTSTART;VALUE=DATE:20271018
DTEND;VALUE=DATE:20271019
DESCRIPTION:
LOCATION:
SUMMARY:Start of 2nd Quarter
END:VEVENT
BEGIN:VEVENT
DTSTAMP:20260421T071043Z
UID:bc8ca1c9-e224-449c-a76f-58d1fb2b67b1
DTSTART;VALUE=DATE:20271117
DTEND;VALUE=DATE:20271118
DESCRIPTION:
LOCATION:
SUMMARY:Stuco Santa Pictures AG
END:VEVENT
BEGIN:VEVENT
DTSTAMP:20260421T071043Z
UID:875a8dde-3a77-4149-abcc-ec19c500dd0d
DTSTART;VALUE=DATE:20271118
DTEND;VALUE=DATE:20271119
DESCRIPTION:
LOCATION:
SUMMARY:Stuco Santa Pictures LF
END:VEVENT
BEGIN:VEVENT
DTSTAMP:20260421T071043Z
UID:e243d3f1-7d24-4fdf-bf70-4cf306654c57
DTSTART;VALUE=DATE:20271122
DTEND;VALUE=DATE:20271127
DESCRIPTION:
LOCATION:
SUMMARY:Thanksgiving Break - No School
END:VEVENT
BEGIN:VEVENT
DTSTAMP:20260421T071043Z
UID:125c8083-4218-4221-bfd4-da1c8eb3f0a3
DTSTART;VALUE=DATE:20271217
DTEND;VALUE=DATE:20271218
DESCRIPTION:
LOCATION:
SUMMARY:Last Day of 1st Semester!
END:VEVENT
BEGIN:VEVENT
DTSTAMP:20260421T071043Z
UID:3c619139-bd7a-41d4-a521-a178f11c1598
DTSTART;VALUE=DATE:20271220
DTEND;VALUE=DATE:20271225
DESCRIPTION:
LOCATION:
SUMMARY:Winter Break - No School
END:VEVENT
BEGIN:VEVENT
DTSTAMP:20260421T071043Z
UID:d0585d2b-0fdb-4b5a-9dc8-96f88a461842
DTSTART;VALUE=DATE:20271227
DTEND;VALUE=DATE:20280101
DESCRIPTION:
LOCATION:
SUMMARY:Winter Break - No School
END:VEVENT
BEGIN:VEVENT
DTSTAMP:20260421T071043Z
UID:6699d5dc-134f-46fa-b855-a9fef086a4f6
DTSTART;VALUE=DATE:20280103
DTEND;VALUE=DATE:20280104
DESCRIPTION:
LOCATION:
SUMMARY:Teacher Professional Day - No School
END:VEVENT
BEGIN:VEVENT
DTSTAMP:20260421T071043Z
UID:7b20ec0b-8c22-426e-8764-de9633207e88
DTSTART;VALUE=DATE:20280104
DTEND;VALUE=DATE:20280105
DESCRIPTION:
LOCATION:
SUMMARY:1st Day of 2nd Semester
END:VEVENT
BEGIN:VEVENT
DTSTAMP:20260421T071043Z
UID:45bbdd06-95c3-46bc-afe2-96268e6fab3e
DTSTART;VALUE=DATE:20280117
DTEND;VALUE=DATE:20280118
DESCRIPTION:
LOCATION:
SUMMARY:Martin Luther King Jr. Day - No School
END:VEVENT
BEGIN:VEVENT
DTSTAMP:20260421T071043Z
UID:6da318c9-364f-4a00-a62f-77c7187edfeb
DTSTART;VALUE=DATE:20280221
DTEND;VALUE=DATE:20280222
DESCRIPTION:
LOCATION:
SUMMARY:President's Day - No School
END:VEVENT
BEGIN:VEVENT
DTSTAMP:20260421T071043Z
UID:673d57b0-0f77-4b48-9db0-51ce44ef3882
DTSTART:20280309T153000
DTEND:20280309T213000
DESCRIPTION:
LOCATION:
SUMMARY:Parent Teacher Conference
END:VEVENT
BEGIN:VEVENT
DTSTAMP:20260421T071043Z
UID:bfca7799-7179-4609-80f5-b32cbeb43d08
DTSTART;VALUE=DATE:20280310
DTEND;VALUE=DATE:20280311
DESCRIPTION:
LOCATION:
SUMMARY:Teacher Professional Day - No School
END:VEVENT
BEGIN:VEVENT
DTSTAMP:20260421T071043Z
UID:d1e87ae6-e363-41cd-9fb3-754465d62fe9
DTSTART;VALUE=DATE:20280313
DTEND;VALUE=DATE:20280318
DESCRIPTION:
LOCATION:
SUMMARY:Spring Break - No School
END:VEVENT
BEGIN:VEVENT
DTSTAMP:20260421T071043Z
UID:e317787e-f1c3-4f1e-8615-0688fb0b9403
DTSTART;VALUE=DATE:20280320
DTEND;VALUE=DATE:20280321
DESCRIPTION:
LOCATION:
SUMMARY:1st Day of 3rd Quarter
END:VEVENT
BEGIN:VEVENT
DTSTAMP:20260421T071043Z
UID:016bb93a-13cc-4f18-8d2b-8641dadc428b
DTSTART;VALUE=DATE:20280324
DTEND;VALUE=DATE:20280325
DESCRIPTION:
LOCATION:
SUMMARY:Snow Day - No School
END:VEVENT
BEGIN:VEVENT
DTSTAMP:20260421T071043Z
UID:f7648893-24f1-40dc-9f6d-3b58de430d23
DTSTART;VALUE=DATE:20280331
DTEND;VALUE=DATE:20280401
DESCRIPTION:
LOCATION:
SUMMARY:Snow Day - No School
END:VEVENT
BEGIN:VEVENT
DTSTAMP:20260421T071043Z
UID:538d6df3-24e1-4385-be86-ac1b071765d1
DTSTART;VALUE=DATE:20280407
DTEND;VALUE=DATE:20280408
DESCRIPTION:
LOCATION:
SUMMARY:Snow Day - No School
END:VEVENT
BEGIN:VEVENT
DTSTAMP:20260421T071043Z
UID:778614c8-2884-4263-ad3e-358b2f94a0c9
DTSTART;VALUE=DATE:20280414
DTEND;VALUE=DATE:20280415
DESCRIPTION:
LOCATION:
SUMMARY:Snow Day - No School
END:VEVENT
BEGIN:VEVENT
DTSTAMP:20260421T071043Z
UID:f72176c6-0f5b-448d-937c-9cf0ef9d9581
DTSTART;VALUE=DATE:20280421
DTEND;VALUE=DATE:20280422
DESCRIPTION:
LOCATION:
SUMMARY:Snow Day - No School
END:VEVENT
BEGIN:VEVENT
DTSTAMP:20260421T071043Z
UID:707039d2-3f6a-45cb-8143-5b2eb6640636
DTSTART;VALUE=DATE:20280428
DTEND;VALUE=DATE:20280429
DESCRIPTION:
LOCATION:
SUMMARY:Snow Day - No School
END:VEVENT
BEGIN:VEVENT
DTSTAMP:20260421T071043Z
UID:d8140480-3b44-4143-8ff0-f79dbbbbc124
DTSTART;VALUE=DATE:20280505
DTEND;VALUE=DATE:20280506
DESCRIPTION:
LOCATION:
SUMMARY:Snow Day - No School
END:VEVENT
BEGIN:VEVENT
DTSTAMP:20260421T071043Z
UID:085cc18b-7084-4229-a19e-f7fe21c99a83
DTSTART;VALUE=DATE:20280512
DTEND;VALUE=DATE:20280513
DESCRIPTION:
LOCATION:
SUMMARY:Snow Day - No School
END:VEVENT
BEGIN:VEVENT
DTSTAMP:20260421T071043Z
UID:cc0f2383-2956-40a7-9aca-34b8501173a0
DTSTART;VALUE=DATE:20280518
DTEND;VALUE=DATE:20280519
DESCRIPTION:
LOCATION:
SUMMARY:Last Day of School!!
END:VEVENT
BEGIN:VEVENT
DTSTAMP:20260421T071043Z
UID:84e8592b-c11f-4ff1-97b1-d7d2a15f4fbd
DTSTART;VALUE=DATE:20280520
DTEND;VALUE=DATE:20280521
DESCRIPTION:
LOCATION:
SUMMARY:Graduation
END:VEVENT
END:VCALENDAR
