BEGIN:VCALENDAR
VERSION:2.0
PRODID:icalendar-ruby
CALSCALE:GREGORIAN
BEGIN:VTIMEZONE
TZID:America/New_York
BEGIN:DAYLIGHT
DTSTART:20260308T030000
TZOFFSETFROM:-0500
TZOFFSETTO:-0400
RRULE:FREQ=YEARLY;BYDAY=2SU;BYMONTH=3
TZNAME:EDT
END:DAYLIGHT
BEGIN:STANDARD
DTSTART:20261101T010000
TZOFFSETFROM:-0400
TZOFFSETTO:-0500
RRULE:FREQ=YEARLY;BYDAY=1SU;BYMONTH=11
TZNAME:EST
END:STANDARD
END:VTIMEZONE
BEGIN:VEVENT
DTSTAMP:20260422T075145Z
UID:463356c7-7c18-4d66-918f-eba7ddfa9c0c
DTSTART:20260425T093000
DTEND:20260425T153000
DESCRIPTION:
LOCATION:7878 Brighton Rd\, Brighton\, MI 48116\, USA
SUMMARY:HS TRACK & FIELD @ BRIGHTON HS
END:VEVENT
BEGIN:VEVENT
DTSTAMP:20260422T075145Z
UID:6101dd3e-64a0-4d80-af2d-6c7618f53f1a
DTSTART:20260427T160000
DTEND:20260427T190000
DESCRIPTION:<p>BEARCATS @ EAGLES  </p>
LOCATION:525 E Genesee St\, Frankenmuth\, MI 48734\, USA
SUMMARY:BASEBALL @ FRANKENMUTH
END:VEVENT
BEGIN:VEVENT
DTSTAMP:20260422T075145Z
UID:f62c2b4e-6ca3-4527-8088-3fd965b3ce6f
DTSTART:20260428T160000
DTEND:20260428T190000
DESCRIPTION:<p>BEARCATS @ PANTHERS</p>
LOCATION:1500 Pine Ave\, Alma\, MI 48801\, USA
SUMMARY:BASEBALL @ ALMA HS
END:VEVENT
BEGIN:VEVENT
DTSTAMP:20260422T075145Z
UID:6d36a722-f067-43f5-9c2d-b3e4c5a0f885
DTSTART:20260430T160000
DTEND:20260430T190000
DESCRIPTION:<p>BEARCATS VS </p>
LOCATION:4691 Bear Cat Blvd\, Bridgeport\, MI 48722\, USA
SUMMARY:BASEBALL VS ST. THOMAS MORE ACADEMY
END:VEVENT
BEGIN:VEVENT
DTSTAMP:20260422T075145Z
UID:1daeb4f5-ab7e-41af-94de-4d4a0f7de675
DTSTART:20260513T190000
DTEND:20260513T200000
DESCRIPTION:
LOCATION:4691 Bear Cat Blvd\, Bridgeport\, MI 48722\, USA
SUMMARY:High School End of Year Band Concert
END:VEVENT
BEGIN:VEVENT
DTSTAMP:20260422T075145Z
UID:f4998eb9-54b3-4b8a-8c99-0e945d87667a
DTSTART:20260514T190000
DTEND:20260514T210000
DESCRIPTION:
LOCATION:Bridgeport Middle School 3675 Southfield Dr\, Saginaw\, MI 48601\,
  USA
SUMMARY:Middle School Band and Visual Arts Showcase
END:VEVENT
END:VCALENDAR
