BEGIN:VCALENDAR
VERSION:2.0
PRODID:icalendar-ruby
CALSCALE:GREGORIAN
BEGIN:VTIMEZONE
TZID:America/New_York
BEGIN:DAYLIGHT
DTSTART:20260308T030000
TZOFFSETFROM:-0500
TZOFFSETTO:-0400
RRULE:FREQ=YEARLY;BYDAY=2SU;BYMONTH=3
TZNAME:EDT
END:DAYLIGHT
BEGIN:STANDARD
DTSTART:20261101T010000
TZOFFSETFROM:-0400
TZOFFSETTO:-0500
RRULE:FREQ=YEARLY;BYDAY=1SU;BYMONTH=11
TZNAME:EST
END:STANDARD
END:VTIMEZONE
BEGIN:VEVENT
DTSTAMP:20260419T185305Z
UID:cf342210-780c-440e-9862-7d43c649fa14
DTSTART:20260421T180000
DTEND:20260421T200000
DESCRIPTION:
LOCATION:Independence High School - Media Center
SUMMARY:BOE Regular Meeting
END:VEVENT
BEGIN:VEVENT
DTSTAMP:20260419T185305Z
UID:a2ebc543-b8dd-426d-9df9-9e7602e05b93
DTSTART:20260426T080000
DTEND:20260426T110000
DESCRIPTION:8:00 a.m. - Pre-registration<br>9:00 a.m. - Race (5K or 1-mile 
 walk)<br>For more information\, visit the website\, <a href="https://www.
 hermescleveland.com/">https://www.hermescleveland.com/</a>. Select "Road R
 acing" and then choose "Race Calendar."
LOCATION:Kiwanis Pavilion\, 6363 Selig Dr\, Independence\, OH 44131\, USA
SUMMARY:Jog into Spring (Sponsored by the Renee Roche Memorial Foundation)
END:VEVENT
BEGIN:VEVENT
DTSTAMP:20260419T185305Z
UID:f0fc40ca-6a63-4f40-936c-52b4b6d15fa6
DTSTART:20260430T190000
DTEND:20260430T200000
DESCRIPTION:
LOCATION:Independence Civic Center\, 6363 Selig Dr\, Cleveland\, OH 44131\,
  USA
SUMMARY:Community Information Meeting (Bond Issue)
END:VEVENT
BEGIN:VEVENT
DTSTAMP:20260419T185305Z
UID:8683f57c-923a-491e-97f4-37cae50002c8
DTSTART:20260507T180000
DTEND:20260507T200000
DESCRIPTION:Conference Room
LOCATION:Independence Board of Education\, 7733 Stone Rd\, Independence\, O
 H 44131\, USA
SUMMARY:BOE - Work Session
END:VEVENT
BEGIN:VEVENT
DTSTAMP:20260419T185305Z
UID:c5f4294c-eea8-4107-83dd-23d9d2b20900
DTSTART:20260520T180000
DTEND:20260520T190000
DESCRIPTION:
LOCATION:
SUMMARY:IMS PTO Meeting - Media Center
END:VEVENT
BEGIN:VEVENT
DTSTAMP:20260419T185305Z
UID:4ed6ebe6-1930-4759-95e5-5265d1712164
DTSTART;VALUE=DATE:20260525
DTEND;VALUE=DATE:20260526
DESCRIPTION:
LOCATION:
SUMMARY:Memorial Day - No School - Enjoy!
END:VEVENT
BEGIN:VEVENT
DTSTAMP:20260419T185305Z
UID:91b95085-9fbb-46a0-968b-714dcf1bd27a
DTSTART:20260526T180000
DTEND:20260526T200000
DESCRIPTION:
LOCATION:Independence High School - Media Center
SUMMARY:BOE Regular Meeting
END:VEVENT
BEGIN:VEVENT
DTSTAMP:20260419T185305Z
UID:84de5ade-3259-4f53-9ed4-018521ea3363
DTSTART;VALUE=DATE:20260602
DTEND;VALUE=DATE:20260603
DESCRIPTION:
LOCATION:
SUMMARY:End of the 4th Grading Period
END:VEVENT
BEGIN:VEVENT
DTSTAMP:20260419T185305Z
UID:8edf1c33-16ed-4f94-b7a6-65bda73d5f2a
DTSTART;VALUE=DATE:20260602
DTEND;VALUE=DATE:20260603
DESCRIPTION:1-Hour Early Release
LOCATION:
SUMMARY:Last Day of School - Enjoy the Summer!
END:VEVENT
BEGIN:VEVENT
DTSTAMP:20260419T185305Z
UID:c7134dff-aab7-497e-9381-e3d8abd4da71
DTSTART;VALUE=DATE:20260603
DTEND;VALUE=DATE:20260604
DESCRIPTION:
LOCATION:
SUMMARY:Professional Development
END:VEVENT
BEGIN:VEVENT
DTSTAMP:20260419T185305Z
UID:a7cb1bb7-4f48-4b99-871b-9977a11734a0
DTSTART:20260604T180000
DTEND:20260604T200000
DESCRIPTION:Conference Room
LOCATION:Independence Board of Education\, 7733 Stone Rd\, Independence\, O
 H 44131\, USA
SUMMARY:BOE - Work Session
END:VEVENT
BEGIN:VEVENT
DTSTAMP:20260419T185305Z
UID:3b56aa86-f313-4c60-a20c-01e05352a52e
DTSTART:20260616T180000
DTEND:20260616T200000
DESCRIPTION:
LOCATION:Independence High School - Media Center
SUMMARY:BOE Regular Meeting
END:VEVENT
BEGIN:VEVENT
DTSTAMP:20260419T185305Z
UID:b4b8324b-9f7c-44f1-8f37-b5ee2b2d5cac
DTSTART:20260624T180000
DTEND:20260624T190000
DESCRIPTION:
LOCATION:
SUMMARY:IMS PTO Meeting - Media Center
END:VEVENT
BEGIN:VEVENT
DTSTAMP:20260419T185305Z
UID:5ee84a44-63dd-4e28-8501-e2e4117ca3a7
DTSTART:20260702T180000
DTEND:20260702T200000
DESCRIPTION:Conference Room
LOCATION:Independence Board of Education\, 7733 Stone Rd\, Independence\, O
 H 44131\, USA
SUMMARY:BOE - Work Session
END:VEVENT
BEGIN:VEVENT
DTSTAMP:20260419T185305Z
UID:78e0117c-3ab2-4d7f-b888-68b50db6f522
DTSTART:20260721T180000
DTEND:20260721T200000
DESCRIPTION:
LOCATION:Independence High School - Media Center
SUMMARY:BOE Regular Meeting
END:VEVENT
BEGIN:VEVENT
DTSTAMP:20260419T185305Z
UID:0447c437-42f0-404e-aa8c-e7fd77ec81a9
DTSTART:20260729T180000
DTEND:20260729T190000
DESCRIPTION:
LOCATION:
SUMMARY:IMS PTO Meeting - Media Center
END:VEVENT
BEGIN:VEVENT
DTSTAMP:20260419T185305Z
UID:71175265-ff01-4c62-a70d-1d6217e24e41
DTSTART:20260806T180000
DTEND:20260806T200000
DESCRIPTION:Conference Room
LOCATION:Independence Board of Education\, 7733 Stone Rd\, Independence\, O
 H 44131\, USA
SUMMARY:BOE - Work Session
END:VEVENT
BEGIN:VEVENT
DTSTAMP:20260419T185305Z
UID:d7acfe9d-350d-45aa-947b-25762906f571
DTSTART:20260826T180000
DTEND:20260826T190000
DESCRIPTION:
LOCATION:
SUMMARY:IMS PTO Meeting - Media Center
END:VEVENT
BEGIN:VEVENT
DTSTAMP:20260419T185305Z
UID:96ce0f84-5bef-4cf8-acf0-f9b704dfad60
DTSTART:20260903T180000
DTEND:20260903T200000
DESCRIPTION:Conference Room
LOCATION:Independence Board of Education\, 7733 Stone Rd\, Independence\, O
 H 44131\, USA
SUMMARY:BOE - Work Session
END:VEVENT
BEGIN:VEVENT
DTSTAMP:20260419T185305Z
UID:ccd31aeb-9331-4cfd-a17c-c776a7473aef
DTSTART:20261001T180000
DTEND:20261001T200000
DESCRIPTION:Conference Room
LOCATION:Independence Board of Education\, 7733 Stone Rd\, Independence\, O
 H 44131\, USA
SUMMARY:BOE - Work Session
END:VEVENT
BEGIN:VEVENT
DTSTAMP:20260419T185305Z
UID:815bdddd-5a33-47a9-a668-9ad4132326b2
DTSTART:20261105T180000
DTEND:20261105T200000
DESCRIPTION:Conference Room
LOCATION:Independence Board of Education\, 7733 Stone Rd\, Independence\, O
 H 44131\, USA
SUMMARY:BOE - Work Session
END:VEVENT
BEGIN:VEVENT
DTSTAMP:20260419T185305Z
UID:fb22c364-5e4f-4f54-9a41-8b4ff72a4b4c
DTSTART:20261203T180000
DTEND:20261203T200000
DESCRIPTION:Conference Room
LOCATION:Independence Board of Education\, 7733 Stone Rd\, Independence\, O
 H 44131\, USA
SUMMARY:BOE - Work Session
END:VEVENT
END:VCALENDAR
