BEGIN:VCALENDAR
VERSION:2.0
PRODID:icalendar-ruby
CALSCALE:GREGORIAN
BEGIN:VTIMEZONE
TZID:America/New_York
BEGIN:DAYLIGHT
DTSTART:20260308T030000
TZOFFSETFROM:-0500
TZOFFSETTO:-0400
RRULE:FREQ=YEARLY;BYDAY=2SU;BYMONTH=3
TZNAME:EDT
END:DAYLIGHT
BEGIN:STANDARD
DTSTART:20261101T010000
TZOFFSETFROM:-0400
TZOFFSETTO:-0500
RRULE:FREQ=YEARLY;BYDAY=1SU;BYMONTH=11
TZNAME:EST
END:STANDARD
END:VTIMEZONE
BEGIN:VEVENT
DTSTAMP:20260423T205542Z
UID:b98d91d4-c65d-4499-b516-321e548ae08f
DTSTART;VALUE=DATE:20260423
DTEND;VALUE=DATE:20260424
DESCRIPTION:
LOCATION:
SUMMARY:Take Your Child to Work Day
END:VEVENT
BEGIN:VEVENT
DTSTAMP:20260423T205542Z
UID:85528c40-c6fb-40bb-aa7a-f7114e78f5a2
DTSTART:20260427T193000
DTEND:20260427T210000
DESCRIPTION:
LOCATION:
SUMMARY:BOE meeting at RHS
END:VEVENT
BEGIN:VEVENT
DTSTAMP:20260423T205542Z
UID:2c4a5039-1662-4ec2-a395-8969b0882ffa
DTSTART;VALUE=DATE:20260501
DTEND;VALUE=DATE:20260502
DESCRIPTION:
LOCATION:
SUMMARY:Junior Prom ~ Jacques
END:VEVENT
BEGIN:VEVENT
DTSTAMP:20260423T205542Z
UID:659203ce-5296-45f9-8934-eaf0bc09184d
DTSTART;VALUE=DATE:20260504
DTEND;VALUE=DATE:20260509
DESCRIPTION:
LOCATION:
SUMMARY:Teacher Appreciation Week
END:VEVENT
BEGIN:VEVENT
DTSTAMP:20260423T205542Z
UID:530fe441-db5e-48b2-9884-58645ed0aa60
DTSTART:20260512T143000
DTEND:20260512T153000
DESCRIPTION:
LOCATION:
SUMMARY:Faculty Meeting
END:VEVENT
BEGIN:VEVENT
DTSTAMP:20260423T205542Z
UID:711be4c0-a882-4ae6-8b10-dff2ea698acf
DTSTART;VALUE=DATE:20260515
DTEND;VALUE=DATE:20260516
DESCRIPTION:
LOCATION:
SUMMARY:Progress reports
END:VEVENT
BEGIN:VEVENT
DTSTAMP:20260423T205542Z
UID:a0bfe276-c36c-4aff-bccd-47e14427ff06
DTSTART;VALUE=DATE:20260515
DTEND;VALUE=DATE:20260516
DESCRIPTION:
LOCATION:
SUMMARY:Progress Reports MP4
END:VEVENT
BEGIN:VEVENT
DTSTAMP:20260423T205542Z
UID:996d9393-ec4c-40ce-b7b9-43a2f3523ee5
DTSTART;VALUE=DATE:20260518
DTEND;VALUE=DATE:20260523
DESCRIPTION:
LOCATION:
SUMMARY:NJSLA testing
END:VEVENT
BEGIN:VEVENT
DTSTAMP:20260423T205542Z
UID:68ef3c8e-a835-48a3-8a52-04a343bc8387
DTSTART:20260518T193000
DTEND:20260518T210000
DESCRIPTION:
LOCATION:
SUMMARY:BOE meeting at RHS
END:VEVENT
BEGIN:VEVENT
DTSTAMP:20260423T205542Z
UID:4282db96-dd04-4efb-995a-b2ae3291464f
DTSTART:20260519T143000
DTEND:20260519T153000
DESCRIPTION:
LOCATION:
SUMMARY:PLC Meetings
END:VEVENT
BEGIN:VEVENT
DTSTAMP:20260423T205542Z
UID:407c3181-6190-4b15-92c5-4f11ffdd4f1c
DTSTART:20260520T180000
DTEND:20260520T210000
DESCRIPTION:
LOCATION:
SUMMARY:RHS Spring Concert
END:VEVENT
BEGIN:VEVENT
DTSTAMP:20260423T205542Z
UID:0e1daa7e-f1a1-4b13-91b5-b3bd629592cd
DTSTART;VALUE=DATE:20260525
DTEND;VALUE=DATE:20260526
DESCRIPTION:
LOCATION:
SUMMARY:School Closed - Memorial Day
END:VEVENT
BEGIN:VEVENT
DTSTAMP:20260423T205542Z
UID:bdf2378d-feb3-462f-a26a-0b4230552b06
DTSTART;VALUE=DATE:20260602
DTEND;VALUE=DATE:20260603
DESCRIPTION:
LOCATION:
SUMMARY:School Closed-Primary Election
END:VEVENT
BEGIN:VEVENT
DTSTAMP:20260423T205542Z
UID:d07221c2-fc96-4f28-9fcd-116d34273fa9
DTSTART;VALUE=DATE:20260605
DTEND;VALUE=DATE:20260606
DESCRIPTION:
LOCATION:
SUMMARY:Senior Prom ~ Sapphire Grand
END:VEVENT
BEGIN:VEVENT
DTSTAMP:20260423T205542Z
UID:b9824f22-9dd8-4081-96bb-33026a5fc7eb
DTSTART:20260609T143000
DTEND:20260609T153000
DESCRIPTION:
LOCATION:
SUMMARY:Faculty Meeting
END:VEVENT
BEGIN:VEVENT
DTSTAMP:20260423T205542Z
UID:6b7b47b6-a0d2-4ae5-b0cf-0130979fca49
DTSTART:20260611T183000
DTEND:20260611T203000
DESCRIPTION:
LOCATION:419 Middle Rd\, Hazlet\, NJ 07730\, USA
SUMMARY:Scholarship Night
END:VEVENT
BEGIN:VEVENT
DTSTAMP:20260423T205542Z
UID:87de7d2f-1355-4a55-8813-276ba3febe87
DTSTART:20260615T193000
DTEND:20260615T213000
DESCRIPTION:
LOCATION:
SUMMARY:BOE meeting at RHS
END:VEVENT
BEGIN:VEVENT
DTSTAMP:20260423T205542Z
UID:aae22b15-b7b9-4515-a849-b141dfb481f0
DTSTART;VALUE=DATE:20260617
DTEND;VALUE=DATE:20260618
DESCRIPTION:
LOCATION:
SUMMARY:Early Dismissal for students
END:VEVENT
BEGIN:VEVENT
DTSTAMP:20260423T205542Z
UID:2efcf698-a229-46d0-9346-94f8ab31c3fc
DTSTART;VALUE=DATE:20260618
DTEND;VALUE=DATE:20260619
DESCRIPTION:
LOCATION:
SUMMARY:End of Marking Period 4
END:VEVENT
BEGIN:VEVENT
DTSTAMP:20260423T205542Z
UID:54f79a41-d2f4-46ee-bd4d-5c4ad3769f3d
DTSTART;VALUE=DATE:20260618
DTEND;VALUE=DATE:20260619
DESCRIPTION:
LOCATION:
SUMMARY:Report Cards
END:VEVENT
END:VCALENDAR
