BEGIN:VCALENDAR
VERSION:2.0
PRODID:icalendar-ruby
CALSCALE:GREGORIAN
BEGIN:VTIMEZONE
TZID:America/New_York
BEGIN:DAYLIGHT
DTSTART:20260308T030000
TZOFFSETFROM:-0500
TZOFFSETTO:-0400
RRULE:FREQ=YEARLY;BYDAY=2SU;BYMONTH=3
TZNAME:EDT
END:DAYLIGHT
BEGIN:STANDARD
DTSTART:20261101T010000
TZOFFSETFROM:-0400
TZOFFSETTO:-0500
RRULE:FREQ=YEARLY;BYDAY=1SU;BYMONTH=11
TZNAME:EST
END:STANDARD
END:VTIMEZONE
BEGIN:VEVENT
DTSTAMP:20260423T105054Z
UID:69a512b1-2e4c-4d60-bdad-033aba92e511
DTSTART;VALUE=DATE:20260424
DTEND;VALUE=DATE:20260425
DESCRIPTION:
LOCATION:
SUMMARY:Autism Awareness Walk-a-Thon
END:VEVENT
BEGIN:VEVENT
DTSTAMP:20260423T105054Z
UID:9ea342ea-d779-4ec9-8af2-e438539735ea
DTSTART:20260427T190000
DTEND:20260427T200000
DESCRIPTION:
LOCATION:Raritan High School\, 419 Middle Rd\, Hazlet\, NJ 07730\, USA
SUMMARY:Board of Education Meeting
END:VEVENT
BEGIN:VEVENT
DTSTAMP:20260423T105054Z
UID:a0bea6ef-0535-4f0a-8d4e-747a5fdb8ad3
DTSTART:20260429T084000
DTEND:20260429T085500
DESCRIPTION:
LOCATION:
SUMMARY:Walk/Bike/Roll to School
END:VEVENT
BEGIN:VEVENT
DTSTAMP:20260423T105054Z
UID:f3576727-25cd-4dc8-92e0-19878d6e0f2d
DTSTART:20260430T180000
DTEND:20260430T190000
DESCRIPTION:
LOCATION:
SUMMARY:RVS Family Bingo Night
END:VEVENT
BEGIN:VEVENT
DTSTAMP:20260423T105054Z
UID:dcf7d8fd-b0ba-4458-95e6-a6e18ca4a9cf
DTSTART;VALUE=DATE:20260501
DTEND;VALUE=DATE:20260502
DESCRIPTION:
LOCATION:
SUMMARY:School Principal's Day
END:VEVENT
BEGIN:VEVENT
DTSTAMP:20260423T105054Z
UID:dcda0b87-8cf1-4b85-8fcf-bdfd7c37bb2c
DTSTART;VALUE=DATE:20260504
DTEND;VALUE=DATE:20260509
DESCRIPTION:
LOCATION:
SUMMARY:Teacher Appreciation Week
END:VEVENT
BEGIN:VEVENT
DTSTAMP:20260423T105054Z
UID:f77d91ad-d795-41ac-addc-43637a00931c
DTSTART:20260505T180000
DTEND:20260505T190000
DESCRIPTION:
LOCATION:
SUMMARY:Art Show / Curriculum Fair
END:VEVENT
BEGIN:VEVENT
DTSTAMP:20260423T105054Z
UID:38cd6e8d-492f-4bab-bca6-66d6ae16e989
DTSTART;VALUE=DATE:20260506
DTEND;VALUE=DATE:20260507
DESCRIPTION:
LOCATION:
SUMMARY:School Nurse's Day
END:VEVENT
BEGIN:VEVENT
DTSTAMP:20260423T105054Z
UID:91113afc-71a2-4ea0-b8b7-89e13d30ee86
DTSTART;VALUE=DATE:20260508
DTEND;VALUE=DATE:20260509
DESCRIPTION:
LOCATION:
SUMMARY:Green Day
END:VEVENT
BEGIN:VEVENT
DTSTAMP:20260423T105054Z
UID:797a8b76-1b72-4261-8866-5d955fca92c2
DTSTART;VALUE=DATE:20260508
DTEND;VALUE=DATE:20260509
DESCRIPTION:
LOCATION:
SUMMARY:Mother's Day Plant Sale
END:VEVENT
BEGIN:VEVENT
DTSTAMP:20260423T105054Z
UID:572a9c68-4ccd-423d-9a30-223fd915d57e
DTSTART;VALUE=DATE:20260511
DTEND;VALUE=DATE:20260516
DESCRIPTION:
LOCATION:
SUMMARY:NJSLA Testing 3rd & 4th Grade
END:VEVENT
BEGIN:VEVENT
DTSTAMP:20260423T105054Z
UID:6a140c26-7409-43f1-9ba4-9f4058c0056f
DTSTART:20260512T180000
DTEND:20260512T190000
DESCRIPTION:
LOCATION:
SUMMARY:PTO Meeting
END:VEVENT
BEGIN:VEVENT
DTSTAMP:20260423T105054Z
UID:905a39a4-e656-43d4-93bf-94c9a767dc0e
DTSTART;VALUE=DATE:20260513
DTEND;VALUE=DATE:20260514
DESCRIPTION:
LOCATION:
SUMMARY:BOGO Supply Closet
END:VEVENT
BEGIN:VEVENT
DTSTAMP:20260423T105054Z
UID:cd2ff5f2-3f6e-49a8-b9e9-cb625c4cb5b8
DTSTART;VALUE=DATE:20260515
DTEND;VALUE=DATE:20260516
DESCRIPTION:
LOCATION:
SUMMARY:Orange Day
END:VEVENT
BEGIN:VEVENT
DTSTAMP:20260423T105054Z
UID:9c43521b-68c4-4471-bcae-b26a4c3091c2
DTSTART:20260515T091500
DTEND:20260515T141500
DESCRIPTION:
LOCATION:
SUMMARY:2nd Grade Field Trip
END:VEVENT
BEGIN:VEVENT
DTSTAMP:20260423T105054Z
UID:f92bcedd-399e-4336-9ac2-642f9a991b8c
DTSTART:20260518T193000
DTEND:20260518T203000
DESCRIPTION:
LOCATION:Raritan High School
SUMMARY:Board of Education Meeting
END:VEVENT
BEGIN:VEVENT
DTSTAMP:20260423T105054Z
UID:6ff1c2b0-f0eb-4b78-8d41-c94f6801c9fd
DTSTART:20260519T190000
DTEND:20260519T200000
DESCRIPTION:
LOCATION:
SUMMARY:RVS Spring Concert 3rd & 4th Grade
END:VEVENT
BEGIN:VEVENT
DTSTAMP:20260423T105054Z
UID:81a01e0b-69f9-4b33-a3b5-4199f418f28c
DTSTART;VALUE=DATE:20260522
DTEND;VALUE=DATE:20260523
DESCRIPTION:
LOCATION:
SUMMARY:RVS Field Day
END:VEVENT
BEGIN:VEVENT
DTSTAMP:20260423T105054Z
UID:e3cf5bb3-c510-47c2-a29b-8e8cd9341fd7
DTSTART;VALUE=DATE:20260525
DTEND;VALUE=DATE:20260526
DESCRIPTION:
LOCATION:
SUMMARY:School Closed - Memorial Day
END:VEVENT
BEGIN:VEVENT
DTSTAMP:20260423T105054Z
UID:6b3ac707-33e6-450c-ae59-0af5cf105a37
DTSTART;VALUE=DATE:20260526
DTEND;VALUE=DATE:20260527
DESCRIPTION:
LOCATION:
SUMMARY:RVS Field Day (Rain Date)
END:VEVENT
BEGIN:VEVENT
DTSTAMP:20260423T105054Z
UID:0a49d79c-8b7f-465c-980c-24bf8f539c5e
DTSTART;VALUE=DATE:20260529
DTEND;VALUE=DATE:20260530
DESCRIPTION:
LOCATION:
SUMMARY:RVS BOGO Book Fair
END:VEVENT
BEGIN:VEVENT
DTSTAMP:20260423T105054Z
UID:9c8baaa1-7ea0-490d-8cde-dd025d205d51
DTSTART;VALUE=DATE:20260529
DTEND;VALUE=DATE:20260530
DESCRIPTION:
LOCATION:
SUMMARY:Spirit Day
END:VEVENT
BEGIN:VEVENT
DTSTAMP:20260423T105054Z
UID:d91bc3fc-d2bf-4b4c-b195-c028be74dccc
DTSTART;VALUE=DATE:20260602
DTEND;VALUE=DATE:20260603
DESCRIPTION:
LOCATION:
SUMMARY:School Closed
END:VEVENT
BEGIN:VEVENT
DTSTAMP:20260423T105054Z
UID:9004bd6a-6368-4c55-8a14-25866f8c3eef
DTSTART:20260604T180000
DTEND:20260604T190000
DESCRIPTION:
LOCATION:
SUMMARY:Very Valley Variety Show
END:VEVENT
BEGIN:VEVENT
DTSTAMP:20260423T105054Z
UID:401f20c3-0acd-4e5e-9f46-1553818ebb8b
DTSTART;VALUE=DATE:20260605
DTEND;VALUE=DATE:20260606
DESCRIPTION:
LOCATION:
SUMMARY:Spirit Day
END:VEVENT
BEGIN:VEVENT
DTSTAMP:20260423T105054Z
UID:5da5634d-ef8b-4ca1-8741-6ce8d11b3ce4
DTSTART:20260609T180000
DTEND:20260609T190000
DESCRIPTION:
LOCATION:
SUMMARY:PTO Meeting
END:VEVENT
BEGIN:VEVENT
DTSTAMP:20260423T105054Z
UID:61800d48-838b-4ed9-9235-3e07e8e4a1f2
DTSTART:20260610T180000
DTEND:20260610T190000
DESCRIPTION:
LOCATION:
SUMMARY:Dessert with Someone Special
END:VEVENT
BEGIN:VEVENT
DTSTAMP:20260423T105054Z
UID:d49cca14-0a09-4f56-9e70-6a9cbc7cb127
DTSTART;VALUE=DATE:20260612
DTEND;VALUE=DATE:20260613
DESCRIPTION:
LOCATION:
SUMMARY:3rd & 4th Grade Spelling Bee
END:VEVENT
BEGIN:VEVENT
DTSTAMP:20260423T105054Z
UID:0500db11-d370-4b7b-81a4-ea535529f874
DTSTART;VALUE=DATE:20260612
DTEND;VALUE=DATE:20260613
DESCRIPTION:
LOCATION:
SUMMARY:Red\, White\, and Blue Day
END:VEVENT
BEGIN:VEVENT
DTSTAMP:20260423T105054Z
UID:5f29921d-c521-4bf6-b57b-1a21dc4e8c99
DTSTART;VALUE=DATE:20260619
DTEND;VALUE=DATE:20260620
DESCRIPTION:
LOCATION:
SUMMARY:Early Dismissal 12:55 - Staff and Students
END:VEVENT
BEGIN:VEVENT
DTSTAMP:20260423T105054Z
UID:5e36faa5-4537-450e-81af-71c4d0a651bb
DTSTART;VALUE=DATE:20260622
DTEND;VALUE=DATE:20260623
DESCRIPTION:
LOCATION:
SUMMARY:Early Dismissal - Students Only
END:VEVENT
BEGIN:VEVENT
DTSTAMP:20260423T105054Z
UID:cda84dc5-860b-4754-941d-35e0e1733dc4
DTSTART;VALUE=DATE:20260623
DTEND;VALUE=DATE:20260624
DESCRIPTION:
LOCATION:
SUMMARY:Last Day of School - Early Dismissal - 12:55 Staff and Students
END:VEVENT
END:VCALENDAR
