BEGIN:VCALENDAR
VERSION:2.0
PRODID:icalendar-ruby
CALSCALE:GREGORIAN
BEGIN:VTIMEZONE
TZID:America/New_York
BEGIN:DAYLIGHT
DTSTART:20260308T030000
TZOFFSETFROM:-0500
TZOFFSETTO:-0400
RRULE:FREQ=YEARLY;BYDAY=2SU;BYMONTH=3
TZNAME:EDT
END:DAYLIGHT
BEGIN:STANDARD
DTSTART:20261101T010000
TZOFFSETFROM:-0400
TZOFFSETTO:-0500
RRULE:FREQ=YEARLY;BYDAY=1SU;BYMONTH=11
TZNAME:EST
END:STANDARD
END:VTIMEZONE
BEGIN:VEVENT
DTSTAMP:20260422T164502Z
UID:1297b304-aa0c-4411-9f06-4e81a30a999f
DTSTART:20260424T180000
DTEND:20260424T193000
DESCRIPTION:
LOCATION:
SUMMARY:CRS - Drama Club presents "Beauty and the Beast Jr."
END:VEVENT
BEGIN:VEVENT
DTSTAMP:20260422T164502Z
UID:cc3f2db6-dbce-4120-8ef4-2e3d47008c5b
DTSTART:20260522T133000
DTEND:20260522T143000
DESCRIPTION:
LOCATION:
SUMMARY:CRS - Spring Concert
END:VEVENT
BEGIN:VEVENT
DTSTAMP:20260422T164502Z
UID:3efe61cf-dc2e-407a-b8cd-7de2c58fcbd9
DTSTART:20260604T170000
DTEND:20260604T183000
DESCRIPTION:
LOCATION:
SUMMARY:CRS - Art Show
END:VEVENT
BEGIN:VEVENT
DTSTAMP:20260422T164502Z
UID:df5fa7b9-688d-41dc-825e-dd265eb8699e
DTSTART:20260605T090000
DTEND:20260605T143000
DESCRIPTION:
LOCATION:
SUMMARY:CRS - Field Day
END:VEVENT
BEGIN:VEVENT
DTSTAMP:20260422T164502Z
UID:d46c10bc-6cd3-4015-b40a-f9a96be697ce
DTSTART:20260608T090000
DTEND:20260608T143000
DESCRIPTION:
LOCATION:
SUMMARY:CRS - Field Day Rain Date
END:VEVENT
END:VCALENDAR
