BEGIN:VCALENDAR
VERSION:2.0
PRODID:icalendar-ruby
CALSCALE:GREGORIAN
BEGIN:VTIMEZONE
TZID:America/New_York
BEGIN:DAYLIGHT
DTSTART:20260308T030000
TZOFFSETFROM:-0500
TZOFFSETTO:-0400
RRULE:FREQ=YEARLY;BYDAY=2SU;BYMONTH=3
TZNAME:EDT
END:DAYLIGHT
BEGIN:STANDARD
DTSTART:20261101T010000
TZOFFSETFROM:-0400
TZOFFSETTO:-0500
RRULE:FREQ=YEARLY;BYDAY=1SU;BYMONTH=11
TZNAME:EST
END:STANDARD
END:VTIMEZONE
BEGIN:VEVENT
DTSTAMP:20260423T160352Z
UID:232e2396-0dab-4131-a2ef-04403b6eab77
DTSTART:20260423T190000
DTEND:20260423T200000
DESCRIPTION:
LOCATION:
SUMMARY:Drama Club Production
END:VEVENT
BEGIN:VEVENT
DTSTAMP:20260423T160352Z
UID:442227da-2d00-4689-8e58-aa6828664e33
DTSTART:20260428T180000
DTEND:20260428T190000
DESCRIPTION:
LOCATION:
SUMMARY:BSS Art Show
END:VEVENT
BEGIN:VEVENT
DTSTAMP:20260423T160352Z
UID:fe58e4ec-aa1b-49b4-97bd-8853e3dd95b1
DTSTART:20260515T133000
DTEND:20260515T143000
DESCRIPTION:
LOCATION:
SUMMARY:Beers Street Spring Concert
END:VEVENT
BEGIN:VEVENT
DTSTAMP:20260423T160352Z
UID:be12f29b-7dd7-4aad-8197-d052a9a101a6
DTSTART;VALUE=DATE:20260525
DTEND;VALUE=DATE:20260526
DESCRIPTION:
LOCATION:
SUMMARY:School Closed - Memorial Day
END:VEVENT
BEGIN:VEVENT
DTSTAMP:20260423T160352Z
UID:08274e22-df46-4e42-9db2-4b475610964e
DTSTART;VALUE=DATE:20260529
DTEND;VALUE=DATE:20260530
DESCRIPTION:
LOCATION:
SUMMARY:BSS Field Day
END:VEVENT
BEGIN:VEVENT
DTSTAMP:20260423T160352Z
UID:a958adfa-e020-4a95-a81c-39dea2d15786
DTSTART;VALUE=DATE:20260602
DTEND;VALUE=DATE:20260603
DESCRIPTION:
LOCATION:
SUMMARY:School Closed - Primary Election Day
END:VEVENT
BEGIN:VEVENT
DTSTAMP:20260423T160352Z
UID:f4bd7d96-89d5-4d45-af18-1aabe5a5aecf
DTSTART;VALUE=DATE:20260615
DTEND;VALUE=DATE:20260616
DESCRIPTION:
LOCATION:
SUMMARY:6th Grade Field Trip
END:VEVENT
BEGIN:VEVENT
DTSTAMP:20260423T160352Z
UID:b8a29122-8f34-4f0c-8038-904b3c0e8a74
DTSTART;VALUE=DATE:20260619
DTEND;VALUE=DATE:20260620
DESCRIPTION:
LOCATION:
SUMMARY:12:15 pm Early Dismissal - Juneteenth
END:VEVENT
BEGIN:VEVENT
DTSTAMP:20260423T160352Z
UID:c04cef78-9b8a-4f3e-b21b-2e4eb0df4dad
DTSTART;VALUE=DATE:20260622
DTEND;VALUE=DATE:20260623
DESCRIPTION:
LOCATION:
SUMMARY: 12:15 pm Early Dismissal
END:VEVENT
BEGIN:VEVENT
DTSTAMP:20260423T160352Z
UID:80607410-8355-4ff3-bbfd-f4650491e199
DTSTART;VALUE=DATE:20260623
DTEND;VALUE=DATE:20260624
DESCRIPTION:
LOCATION:
SUMMARY:12:15 pm Early Dismissal - Last Day of School
END:VEVENT
END:VCALENDAR
