BEGIN:VCALENDAR
VERSION:2.0
PRODID:icalendar-ruby
CALSCALE:GREGORIAN
BEGIN:VTIMEZONE
TZID:America/New_York
BEGIN:DAYLIGHT
DTSTART:20260308T030000
TZOFFSETFROM:-0500
TZOFFSETTO:-0400
RRULE:FREQ=YEARLY;BYDAY=2SU;BYMONTH=3
TZNAME:EDT
END:DAYLIGHT
BEGIN:STANDARD
DTSTART:20261101T010000
TZOFFSETFROM:-0400
TZOFFSETTO:-0500
RRULE:FREQ=YEARLY;BYDAY=1SU;BYMONTH=11
TZNAME:EST
END:STANDARD
END:VTIMEZONE
BEGIN:VEVENT
DTSTAMP:20260425T201852Z
UID:641473ef-b12f-43e4-8682-aeaf78253ede
DTSTART:20260504T090000
DTEND:20260504T113000
DESCRIPTION:
LOCATION:
SUMMARY:Salt Marsh Opera Field Trip to MHS 5th grade
END:VEVENT
BEGIN:VEVENT
DTSTAMP:20260425T201852Z
UID:261c9c5e-9871-40df-9f6b-5bff38e6870b
DTSTART:20260507T090000
DTEND:20260507T143000
DESCRIPTION:
LOCATION:
SUMMARY:K Registration  
END:VEVENT
BEGIN:VEVENT
DTSTAMP:20260425T201852Z
UID:0392b498-26c7-4625-9d36-31bea01049f0
DTSTART:20260508T090000
DTEND:20260508T143000
DESCRIPTION:
LOCATION:
SUMMARY:K Registration  
END:VEVENT
BEGIN:VEVENT
DTSTAMP:20260425T201852Z
UID:4bc151a9-dab5-4f58-9b29-865d5731b38a
DTSTART:20260515T144500
DTEND:20260515T151500
DESCRIPTION:
LOCATION:
SUMMARY:3rd Grade - Adopt a Firefighter 
END:VEVENT
BEGIN:VEVENT
DTSTAMP:20260425T201852Z
UID:f556c1fd-0695-4b2f-898b-e4a79e0e3b88
DTSTART:20260519T130000
DTEND:20260519T160000
DESCRIPTION:
LOCATION:
SUMMARY:Professional Development - Early Dismissal at 1 pm
END:VEVENT
BEGIN:VEVENT
DTSTAMP:20260425T201852Z
UID:ae44ae31-821c-4cbb-ac9b-b5049d330883
DTSTART:20260522T093000
DTEND:20260522T113000
DESCRIPTION:
LOCATION:
SUMMARY:Spring Concert
END:VEVENT
BEGIN:VEVENT
DTSTAMP:20260425T201852Z
UID:cbe964c2-d9c1-46fb-a7f1-af73b11366db
DTSTART;VALUE=DATE:20260525
DTEND;VALUE=DATE:20260526
DESCRIPTION:
LOCATION:
SUMMARY:Memorial Day - No School
END:VEVENT
BEGIN:VEVENT
DTSTAMP:20260425T201852Z
UID:4a9640b8-0469-4d35-bf85-1053b29243a8
DTSTART;VALUE=DATE:20260529
DTEND;VALUE=DATE:20260530
DESCRIPTION:
LOCATION:
SUMMARY:Field Day
END:VEVENT
BEGIN:VEVENT
DTSTAMP:20260425T201852Z
UID:3e9d7862-dda7-4b3e-8c02-1118a9cfcc50
DTSTART:20260608T152500
DTEND:20260608T170000
DESCRIPTION:
LOCATION:
SUMMARY:Red Supreme (After School Program)
END:VEVENT
BEGIN:VEVENT
DTSTAMP:20260425T201852Z
UID:bfe94f28-88eb-4d95-b302-21bbf6ca60da
DTSTART:20260609T090000
DTEND:20260609T150000
DESCRIPTION:
LOCATION:
SUMMARY:5th Grade Picnic
END:VEVENT
BEGIN:VEVENT
DTSTAMP:20260425T201852Z
UID:b9876c8f-b600-40b5-ba1d-36eda2a29765
DTSTART:20260610T090000
DTEND:20260610T150000
DESCRIPTION:
LOCATION:
SUMMARY:5th Grade Picnic (Rain Date)
END:VEVENT
BEGIN:VEVENT
DTSTAMP:20260425T201852Z
UID:c1a595bb-61e5-4014-bbc2-883082304cd3
DTSTART;VALUE=DATE:20260611
DTEND;VALUE=DATE:20260612
DESCRIPTION:
LOCATION:
SUMMARY:Field Day (rain date)
END:VEVENT
BEGIN:VEVENT
DTSTAMP:20260425T201852Z
UID:5a5558b0-bf16-4d85-aa2a-dd6f54aaf80f
DTSTART:20260612T091500
DTEND:20260612T111500
DESCRIPTION:
LOCATION:
SUMMARY:5th Grade Field Trip to Wadsworth Atheneum
END:VEVENT
BEGIN:VEVENT
DTSTAMP:20260425T201852Z
UID:3b65d7f0-8cb8-4acb-b2ce-ad7e5575a588
DTSTART;VALUE=DATE:20260617
DTEND;VALUE=DATE:20260618
DESCRIPTION:
LOCATION:
SUMMARY:Last Day of School - Early Dismissal @ 1
END:VEVENT
BEGIN:VEVENT
DTSTAMP:20260425T201852Z
UID:58494e45-05ba-4c3a-acab-ba6885379985
DTSTART:20260618T130000
DTEND:20260618T160000
DESCRIPTION:
LOCATION:
SUMMARY:Last Day of School Early Dismissal at 1 pm
END:VEVENT
END:VCALENDAR
