BEGIN:VCALENDAR
VERSION:2.0
PRODID:icalendar-ruby
CALSCALE:GREGORIAN
BEGIN:VTIMEZONE
TZID:America/New_York
BEGIN:DAYLIGHT
DTSTART:20260308T030000
TZOFFSETFROM:-0500
TZOFFSETTO:-0400
RRULE:FREQ=YEARLY;BYDAY=2SU;BYMONTH=3
TZNAME:EDT
END:DAYLIGHT
BEGIN:STANDARD
DTSTART:20261101T010000
TZOFFSETFROM:-0400
TZOFFSETTO:-0500
RRULE:FREQ=YEARLY;BYDAY=1SU;BYMONTH=11
TZNAME:EST
END:STANDARD
END:VTIMEZONE
BEGIN:VEVENT
DTSTAMP:20260425T141149Z
UID:2a1914f7-7d80-49a4-b17e-81652156d55b
DTSTART:20260512T170000
DTEND:20260512T193000
DESCRIPTION:
LOCATION:
SUMMARY:Spencer Art Show/ April PTA Meeting
END:VEVENT
BEGIN:VEVENT
DTSTAMP:20260425T141149Z
UID:327bf9eb-9dc6-4364-a7c5-364b0dfa5416
DTSTART:20260514T141500
DTEND:20260514T153000
DESCRIPTION:
LOCATION:
SUMMARY:Spencer 5th Gr. Honor Book & Dare Graduation Celebration
END:VEVENT
BEGIN:VEVENT
DTSTAMP:20260425T141149Z
UID:d215bc8a-f4e3-45f9-ac61-3406a708441c
DTSTART;VALUE=DATE:20260605
DTEND;VALUE=DATE:20260606
DESCRIPTION:
LOCATION:
SUMMARY:Panda Jamboree (5:30-8)
END:VEVENT
BEGIN:VEVENT
DTSTAMP:20260425T141149Z
UID:51c7073b-54f0-4726-91d2-c166a9468e95
DTSTART;VALUE=DATE:20260612
DTEND;VALUE=DATE:20260613
DESCRIPTION:
LOCATION:
SUMMARY:Panda Jamboree Raindate
END:VEVENT
BEGIN:VEVENT
DTSTAMP:20260425T141149Z
UID:d4edb53b-1034-400c-bb4e-7f255147e261
DTSTART;VALUE=DATE:20260616
DTEND;VALUE=DATE:20260617
DESCRIPTION:
LOCATION:
SUMMARY:5th Gr. Promotion at 10AM
END:VEVENT
END:VCALENDAR
