BEGIN:VCALENDAR
VERSION:2.0
PRODID:icalendar-ruby
CALSCALE:GREGORIAN
BEGIN:VTIMEZONE
TZID:America/New_York
BEGIN:DAYLIGHT
DTSTART:20260308T030000
TZOFFSETFROM:-0500
TZOFFSETTO:-0400
RRULE:FREQ=YEARLY;BYDAY=2SU;BYMONTH=3
TZNAME:EDT
END:DAYLIGHT
BEGIN:STANDARD
DTSTART:20261101T010000
TZOFFSETFROM:-0400
TZOFFSETTO:-0500
RRULE:FREQ=YEARLY;BYDAY=1SU;BYMONTH=11
TZNAME:EST
END:STANDARD
END:VTIMEZONE
BEGIN:VEVENT
DTSTAMP:20260425T040600Z
UID:b7e1b94e-1764-49ae-a2d9-548fbed9fc47
DTSTART:20260427T180000
DTEND:20260427T200000
DESCRIPTION:
LOCATION:Kearsley Administration Building - Boardroom
SUMMARY:Kearsley: Board of Education Work Session
END:VEVENT
BEGIN:VEVENT
DTSTAMP:20260425T040600Z
UID:b891c9eb-0e9d-45f6-ad9f-a133dc640ad3
DTSTART:20260428T150000
DTEND:20260428T170000
DESCRIPTION:
LOCATION:Kearsley High School - Media Center Cafe
SUMMARY:Kearsley: KVA In-person tutoring
END:VEVENT
BEGIN:VEVENT
DTSTAMP:20260425T040600Z
UID:2cfc564b-0d61-4bf4-8ce9-b7c01f99fd53
DTSTART:20260505T150000
DTEND:20260505T170000
DESCRIPTION:
LOCATION:Kearsley High School - Media Center Cafe
SUMMARY:Kearsley: KVA In-person tutoring
END:VEVENT
BEGIN:VEVENT
DTSTAMP:20260425T040600Z
UID:f052f953-0f85-4b18-9303-4adf2bfa2df1
DTSTART:20260511T180000
DTEND:20260511T200000
DESCRIPTION:
LOCATION:Armstrong Middle School - Learning Center West
SUMMARY:Kearsley: Board of Education Meeting
END:VEVENT
BEGIN:VEVENT
DTSTAMP:20260425T040600Z
UID:beeba979-9180-4f11-a374-eeb13a911357
DTSTART:20260512T150000
DTEND:20260512T170000
DESCRIPTION:
LOCATION:Kearsley High School - Media Center Cafe
SUMMARY:Kearsley: KVA In-person tutoring
END:VEVENT
BEGIN:VEVENT
DTSTAMP:20260425T040600Z
UID:012dc36a-3892-4162-a75d-6de34f5ac220
DTSTART;VALUE=DATE:20260513
DTEND;VALUE=DATE:20260514
DESCRIPTION:
LOCATION:All Sites - All Spaces
SUMMARY:Early Release Day
END:VEVENT
BEGIN:VEVENT
DTSTAMP:20260425T040600Z
UID:3d5888d4-c8a0-42a9-98d8-49138b5b8702
DTSTART:20260518T180000
DTEND:20260518T200000
DESCRIPTION:
LOCATION:Kearsley Administration Building - Boardroom
SUMMARY:Kearsley: Board of Education Work Session
END:VEVENT
BEGIN:VEVENT
DTSTAMP:20260425T040600Z
UID:c532540f-a1a5-4d04-87e2-9e490b00d851
DTSTART:20260519T150000
DTEND:20260519T170000
DESCRIPTION:
LOCATION:Kearsley High School - Media Center Cafe
SUMMARY:Kearsley: KVA In-person tutoring
END:VEVENT
BEGIN:VEVENT
DTSTAMP:20260425T040600Z
UID:81cf36c1-4d99-4eab-9e4f-1c15ddb45729
DTSTART;VALUE=DATE:20260525
DTEND;VALUE=DATE:20260526
DESCRIPTION:
LOCATION:All Sites - All Spaces
SUMMARY:NO SCHOOL - Memorial Day
END:VEVENT
BEGIN:VEVENT
DTSTAMP:20260425T040600Z
UID:644aa563-e6e6-4502-bbe6-3ed863eb2222
DTSTART:20260526T150000
DTEND:20260526T170000
DESCRIPTION:
LOCATION:Kearsley High School - Media Center Cafe
SUMMARY:Kearsley: KVA In-person tutoring
END:VEVENT
BEGIN:VEVENT
DTSTAMP:20260425T040600Z
UID:6d13eb0a-a23a-41d8-a82a-3c4e209e4343
DTSTART:20260602T150000
DTEND:20260602T170000
DESCRIPTION:
LOCATION:Kearsley High School - Media Center Cafe
SUMMARY:Kearsley: KVA In-person Tutoring
END:VEVENT
BEGIN:VEVENT
DTSTAMP:20260425T040600Z
UID:86650fc0-f055-47bb-afc0-7434806c1dbb
DTSTART:20260602T170000
DTEND:20260602T203000
DESCRIPTION:
LOCATION:Kearsley High School - Cafeteria\, CRC Cardio Room\, CRC Events Lo
 bby\, CRC Gymnasium\, CRC Track\, Entire Media Center\, KHS Gym ~ MAIN #1
SUMMARY:Kearsley: Soar into Summer - Summer Reading Kickoff
END:VEVENT
BEGIN:VEVENT
DTSTAMP:20260425T040600Z
UID:cacb5950-57ad-4dee-892b-85ba8b4168cb
DTSTART;VALUE=DATE:20260604
DTEND;VALUE=DATE:20260605
DESCRIPTION:
LOCATION:All Sites - All Spaces
SUMMARY:Last Day of School - Half Day
END:VEVENT
BEGIN:VEVENT
DTSTAMP:20260425T040600Z
UID:1dc58ab4-3920-4c66-b773-3bb8c89cef88
DTSTART:20260608T180000
DTEND:20260608T200000
DESCRIPTION:
LOCATION:Kearsley Administration Building - Boardroom
SUMMARY:Kearsley: Board of Education Meeting
END:VEVENT
BEGIN:VEVENT
DTSTAMP:20260425T040600Z
UID:9d5ab4cb-6777-43f8-a1ee-db44d32ce123
DTSTART:20260713T180000
DTEND:20260713T200000
DESCRIPTION:
LOCATION:Kearsley Administration Building - Boardroom
SUMMARY:Kearsley: Board of Education Meeting
END:VEVENT
BEGIN:VEVENT
DTSTAMP:20260425T040600Z
UID:5d0d5a69-d2c6-4a89-92f8-a7e5fab4a60a
DTSTART:20260812T190000
DTEND:20260812T210000
DESCRIPTION:
LOCATION:Kearsley High School - Kearsley HS Track\, Stadium ~ C.K. RICHARDS
  FIELD
SUMMARY:Kearsley: Family Movie Night
END:VEVENT
BEGIN:VEVENT
DTSTAMP:20260425T040600Z
UID:eeb0212c-c62d-4324-8b34-900a8e21ddbb
DTSTART:20260818T160000
DTEND:20260818T170000
DESCRIPTION:
LOCATION:Dowdall Elementary School - 102\, 103\, 104\, 105\, 106\, 107\, 10
 8\, 109\, 110\, 113\, 114\, 115\, 116\, 117\, 118\, 120\, 121\, 122\, 123\
 , 124\, 125\, 126\, Cafeteria\, Conference Room\, Corridor\, DES Gym\, Gym
  Storage\, Main Entrance\, Media Center\, Restroom Boys 110 hall\, Restroo
 m Boys 120 hall\, Restroom Boys main entrance\, Restroom Girls 110 hall\, 
 Restroom Girls 120 hall\, Restroom Girls main entrance\, Restroom Room 113
 \, Restroom Staff\, Vestibule
SUMMARY:Kearsley: Third Grade Open House
END:VEVENT
BEGIN:VEVENT
DTSTAMP:20260425T040600Z
UID:eaeaa126-8da7-413b-a6e5-e70d1d146aa2
DTSTART:20260818T173000
DTEND:20260818T183000
DESCRIPTION:
LOCATION:Dowdall Elementary School - 102\, 103\, 104\, 105\, 106\, 107\, 10
 8\, 109\, 110\, 113\, 114\, 115\, 116\, 117\, 118\, 120\, 121\, 122\, 123\
 , 124\, 125\, 126\, Cafeteria\, Conference Room\, Corridor\, DES Gym\, Gym
  Storage\, Main Entrance\, Media Center\, Restroom Boys 110 hall\, Restroo
 m Boys 120 hall\, Restroom Boys main entrance\, Restroom Girls 110 hall\, 
 Restroom Girls 120 hall\, Restroom Girls main entrance\, Restroom Room 113
 \, Restroom Staff\, Vestibule
SUMMARY:Kearsley: Second Grade Open House
END:VEVENT
BEGIN:VEVENT
DTSTAMP:20260425T040600Z
UID:7262a647-a827-4154-b982-6da7c3d40da4
DTSTART:20260819T160000
DTEND:20260819T170000
DESCRIPTION:
LOCATION:Fiedler Elementary School - 100\, 101\, 102\, 103\, 104\, 105\, 10
 6\, 107\, 108\, 109\, 110\, 200\, 201\, 202\, 203\, 204\, 205\, 206\, 207\
 , 209\, 210\, Cafeteria\, Conference Room\, Corridor\, Corridor Downstairs
 \, Corridor Upstairs\, Gym\, Main Entrance\, Restroom\, Restroom Boys Down
 stairs\, Restroom Boys Upstairs\, Restroom Girls Downstairs\, Restroom Gir
 ls Upstairs\, Restroom Mens\, Restroom Womens\, Stair\, Timeout\, Vestibul
 e
SUMMARY:Kearsley: Fifth Grade Open House
END:VEVENT
BEGIN:VEVENT
DTSTAMP:20260425T040600Z
UID:661eeb33-b183-4816-bd69-4ec98a266ea5
DTSTART:20260819T173000
DTEND:20260819T183000
DESCRIPTION:
LOCATION:Fiedler Elementary School - 100\, 101\, 102\, 103\, 104\, 105\, 10
 6\, 107\, 108\, 109\, 110\, 200\, 201\, 202\, 203\, 204\, 205\, 206\, 207\
 , 209\, 210\, Cafeteria\, Conference Room\, Corridor\, Corridor Downstairs
 \, Corridor Upstairs\, Gym\, Main Entrance\, Restroom\, Restroom Boys Down
 stairs\, Restroom Boys Upstairs\, Restroom Girls Downstairs\, Restroom Gir
 ls Upstairs\, Restroom Mens\, Restroom Womens\, Stair\, Timeout\, Vestibul
 e
SUMMARY:Kearsley: Fourth Grade Open House
END:VEVENT
BEGIN:VEVENT
DTSTAMP:20260425T040600Z
UID:6017e4f9-c4a9-4aa9-be51-572c8d3c6bac
DTSTART:20260820T160000
DTEND:20260820T170000
DESCRIPTION:
LOCATION:Weston Elementary School - 1\, 10\, 11\, 12\, 13\, 14\, 15\, 16\, 
 17\, 18\, 19\, 2\, 20\, 21\, 22\, 24\, 3\, 4\, 5\, 6\, 7\, 8\, 9\, Confere
 nce room\, Corridor\, Kitchen\, Lounge\, Main Entrance\, Media Center\, Re
 stroom Boys\, Restroom Girls\, Restroom Mens\, Restroom Womens\, Vestibule
 \, WES Gym
SUMMARY:Kearsley: First Grade Open House
END:VEVENT
BEGIN:VEVENT
DTSTAMP:20260425T040600Z
UID:2472ce1f-1f2a-43bb-939f-d0088057adfd
DTSTART:20260820T163000
DTEND:20260820T180000
DESCRIPTION:
LOCATION:Buffey Elementary School/Pumpkin Patch - 1\, 10\, 11\, 12\, 13\, 1
 4\, 15\, 16\, 17\, 18\, 19\, 2\, 20\, 21\, 22\, 3\, 4\, 5\, 6\, 7\, 8\, 9\
 , Cafeteria/Gym\, Courtyard\, Gym Storage\, Lounge\, Main Entrance\, Restr
 oom Boys\, Restroom Girls\, Restroom Mens\, Restroom Womens\, Work Room
SUMMARY:Kearsley: Young 5's & Early Childhood Open House
END:VEVENT
BEGIN:VEVENT
DTSTAMP:20260425T040600Z
UID:4e28e904-95b4-4f58-8fd1-ebe893b05826
DTSTART:20260820T173000
DTEND:20260820T183000
DESCRIPTION:
LOCATION:Weston Elementary School - 1\, 10\, 11\, 12\, 13\, 14\, 15\, 16\, 
 17\, 18\, 19\, 2\, 20\, 21\, 22\, 24\, 3\, 4\, 5\, 6\, 7\, 8\, 9\, Confere
 nce room\, Corridor\, Kitchen\, Lounge\, Main Entrance\, Media Center\, Re
 stroom Boys\, Restroom Girls\, Restroom Mens\, Restroom Womens\, Vestibule
 \, WES Gym
SUMMARY:Kearsley: Kindergarten Open House
END:VEVENT
BEGIN:VEVENT
DTSTAMP:20260425T040600Z
UID:4a8df6d4-10ed-4c5a-902a-48ac5a7f95ed
DTSTART:20260825T180000
DTEND:20260825T190000
DESCRIPTION:
LOCATION:Armstrong Middle School - 101\, 102\, 103\, 112\, 113\, 201\, 202\
 , 203\, 301\, 302\, 303\, 401\, 402\, 403\, 501\, 502\, 503\, 601\, 602\, 
 603\, 701\, 702\, 703\, 801\, 802\, 803\, 900\, 901\, 902\, 903\, 904\, 90
 5\, 906\, 907\, 908\, 909\, 909A\, 910\, 912\, 913\, 914\, 915\, AMS Cross
  Country course\, AMS Gym\, Baseball\, Boys Locker\, Cafeteria\, Collabora
 tion Zone\, Conference Room A\, Conference Room B\, Football\, Learning Ce
 nter - Center\, Learning Center - Library\, Learning Center East\, Learnin
 g Center North\, Learning Center South\, Learning Center West\, Soft ball\
 , Sportsdeck
SUMMARY:Kearsley: Armstrong MS Open House
END:VEVENT
BEGIN:VEVENT
DTSTAMP:20260425T040600Z
UID:ed593701-4ef4-4cc2-909e-eacb54119b52
DTSTART:20261027T153000
DTEND:20261027T190000
DESCRIPTION:Need entire front loop\, Kearsley tent\, several tables and cha
 irs
LOCATION:Kearsley High School - Main Entrance
SUMMARY:Kearsley: Harvest Fest
END:VEVENT
END:VCALENDAR
