BEGIN:VCALENDAR
VERSION:2.0
PRODID:icalendar-ruby
CALSCALE:GREGORIAN
BEGIN:VTIMEZONE
TZID:America/New_York
BEGIN:DAYLIGHT
DTSTART:20260308T030000
TZOFFSETFROM:-0500
TZOFFSETTO:-0400
RRULE:FREQ=YEARLY;BYDAY=2SU;BYMONTH=3
TZNAME:EDT
END:DAYLIGHT
BEGIN:STANDARD
DTSTART:20261101T010000
TZOFFSETFROM:-0400
TZOFFSETTO:-0500
RRULE:FREQ=YEARLY;BYDAY=1SU;BYMONTH=11
TZNAME:EST
END:STANDARD
END:VTIMEZONE
BEGIN:VEVENT
DTSTAMP:20260426T041117Z
UID:9b5a3ab1-765d-4ff8-96ed-baa2783cc658
DTSTART:20260504T183000
DTEND:20260504T200000
DESCRIPTION:This is a regular meeting of the Mt Pleasant Public Schools Boa
 rd of Education.
LOCATION:1155 S Elizabeth St\, Mt Pleasant\, MI 48858\, USA
SUMMARY:MPPS Board of Education Regular Meeting 
END:VEVENT
BEGIN:VEVENT
DTSTAMP:20260426T041117Z
UID:ad0a2061-fce0-46e9-8394-044a49891067
DTSTART:20260518T183000
DTEND:20260518T200000
DESCRIPTION:This is a regular meeting of the Mt Pleasant Public Schools Boa
 rd of Education.
LOCATION:1155 S Elizabeth St\, Mt Pleasant\, MI 48858\, USA
SUMMARY:MPPS Board of Education Regular Meeting 
END:VEVENT
BEGIN:VEVENT
DTSTAMP:20260426T041117Z
UID:5343fcf7-5e80-4142-aeff-bd47428d0c74
DTSTART;VALUE=DATE:20260525
DTEND;VALUE=DATE:20260526
DESCRIPTION:
LOCATION:
SUMMARY:No School for JrK-12 students and staff – Memorial Day
END:VEVENT
BEGIN:VEVENT
DTSTAMP:20260426T041117Z
UID:d16c76af-ce24-4d9d-8355-6982be9170cd
DTSTART;VALUE=DATE:20260602
DTEND;VALUE=DATE:20260603
DESCRIPTION:
LOCATION:
SUMMARY:Full day for JrK-12 students and staff\; Secondary exams begin
END:VEVENT
BEGIN:VEVENT
DTSTAMP:20260426T041117Z
UID:8f2c1344-28d4-4d81-a2b0-2ed3cd5beae9
DTSTART;VALUE=DATE:20260603
DTEND;VALUE=DATE:20260604
DESCRIPTION:
LOCATION:
SUMMARY:Full day for JrK-12 students and staff\; Secondary exams continue
END:VEVENT
BEGIN:VEVENT
DTSTAMP:20260426T041117Z
UID:d9a49e80-2199-43bf-a345-999ffb7e3f52
DTSTART;VALUE=DATE:20260604
DTEND;VALUE=DATE:20260605
DESCRIPTION:
LOCATION:
SUMMARY:Half day JrK-12 students and staff\; Secondary exams continue
END:VEVENT
BEGIN:VEVENT
DTSTAMP:20260426T041117Z
UID:ea12074d-4cfa-4797-adbb-429e31518624
DTSTART;VALUE=DATE:20260604
DTEND;VALUE=DATE:20260605
DESCRIPTION:
LOCATION:
SUMMARY:Last day of school for staff and students
END:VEVENT
BEGIN:VEVENT
DTSTAMP:20260426T041117Z
UID:f156eb44-3289-414d-bc7f-e58397e1b9f9
DTSTART;VALUE=DATE:20260605
DTEND;VALUE=DATE:20260606
DESCRIPTION:
LOCATION:
SUMMARY:Make-up day(s)\, if needed (Exam schedules to be adjusted to accomm
 odate make-up days)
END:VEVENT
BEGIN:VEVENT
DTSTAMP:20260426T041117Z
UID:f42a5d59-3d73-43d9-a774-b56067fee51e
DTSTART;VALUE=DATE:20260608
DTEND;VALUE=DATE:20260611
DESCRIPTION:
LOCATION:
SUMMARY:Make-up day(s)\, if needed (Exam schedules to be adjusted to accomm
 odate make-up days)
END:VEVENT
BEGIN:VEVENT
DTSTAMP:20260426T041117Z
UID:e1c7542f-c0fa-47b0-8c3f-f276a98728e6
DTSTART:20260615T183000
DTEND:20260615T200000
DESCRIPTION:This is a regular meeting of the Mt Pleasant Public Schools Boa
 rd of Education.
LOCATION:1155 S Elizabeth St\, Mt Pleasant\, MI 48858\, USA
SUMMARY:MPPS Board of Education Regular Meeting 
END:VEVENT
BEGIN:VEVENT
DTSTAMP:20260426T041117Z
UID:29f65e25-c0ad-4f0b-8221-97c49bae3406
DTSTART:20260720T183000
DTEND:20260720T200000
DESCRIPTION:This is a regular meeting of the Mt Pleasant Public Schools Boa
 rd of Education.
LOCATION:1155 S Elizabeth St\, Mt Pleasant\, MI 48858\, USA
SUMMARY:MPPS Board of Education Regular Meeting 
END:VEVENT
BEGIN:VEVENT
DTSTAMP:20260426T041117Z
UID:1fb272a3-fb99-49c9-9ede-530ad897c819
DTSTART:20260803T183000
DTEND:20260803T200000
DESCRIPTION:This is a regular meeting of the Mt Pleasant Public Schools Boa
 rd of Education.
LOCATION:1155 S Elizabeth St\, Mt Pleasant\, MI 48858\, USA
SUMMARY:MPPS Board of Education Regular Meeting 
END:VEVENT
BEGIN:VEVENT
DTSTAMP:20260426T041117Z
UID:4fdd46ec-c3e4-4d63-b9ce-002823b0b662
DTSTART:20260824T183000
DTEND:20260824T200000
DESCRIPTION:This is a regular meeting of the Mt Pleasant Public Schools Boa
 rd of Education.
LOCATION:1155 S Elizabeth St\, Mt Pleasant\, MI 48858\, USA
SUMMARY:MPPS Board of Education Regular Meeting 
END:VEVENT
BEGIN:VEVENT
DTSTAMP:20260426T041117Z
UID:3c9e85f1-313e-48d1-a803-bc9794ebdac6
DTSTART:20260921T183000
DTEND:20260921T200000
DESCRIPTION:This is a regular meeting of the Mt Pleasant Public Schools Boa
 rd of Education.
LOCATION:1155 S Elizabeth St\, Mt Pleasant\, MI 48858\, USA
SUMMARY:MPPS Board of Education Regular Meeting 
END:VEVENT
BEGIN:VEVENT
DTSTAMP:20260426T041117Z
UID:86c0d0d4-545f-47d3-99e8-33e99f456e95
DTSTART:20261005T183000
DTEND:20261005T200000
DESCRIPTION:This is a regular meeting of the Mt Pleasant Public Schools Boa
 rd of Education.
LOCATION:1155 S Elizabeth St\, Mt Pleasant\, MI 48858\, USA
SUMMARY:MPPS Board of Education Regular Meeting 
END:VEVENT
BEGIN:VEVENT
DTSTAMP:20260426T041117Z
UID:c18af7dc-3db8-4daf-91b7-b41300d76ce3
DTSTART:20261019T183000
DTEND:20261019T200000
DESCRIPTION:This is a regular meeting of the Mt Pleasant Public Schools Boa
 rd of Education.
LOCATION:1155 S Elizabeth St\, Mt Pleasant\, MI 48858\, USA
SUMMARY:MPPS Board of Education Regular Meeting 
END:VEVENT
BEGIN:VEVENT
DTSTAMP:20260426T041117Z
UID:568c3def-6168-46df-87ed-42374be43ef7
DTSTART:20261102T183000
DTEND:20261102T200000
DESCRIPTION:This is a regular meeting of the Mt Pleasant Public Schools Boa
 rd of Education.
LOCATION:1155 S Elizabeth St\, Mt Pleasant\, MI 48858\, USA
SUMMARY:MPPS Board of Education Regular Meeting 
END:VEVENT
BEGIN:VEVENT
DTSTAMP:20260426T041117Z
UID:8819489a-0786-47d3-b1ca-343c0d131453
DTSTART:20261116T183000
DTEND:20261116T200000
DESCRIPTION:This is a regular meeting of the Mt Pleasant Public Schools Boa
 rd of Education.
LOCATION:1155 S Elizabeth St\, Mt Pleasant\, MI 48858\, USA
SUMMARY:MPPS Board of Education Regular Meeting 
END:VEVENT
BEGIN:VEVENT
DTSTAMP:20260426T041117Z
UID:a1b0f038-52f2-4ac2-9f2f-33cc7882e5e9
DTSTART:20261214T183000
DTEND:20261214T200000
DESCRIPTION:This is a regular meeting of the Mt Pleasant Public Schools Boa
 rd of Education.
LOCATION:1155 S Elizabeth St\, Mt Pleasant\, MI 48858\, USA
SUMMARY:MPPS Board of Education Regular Meeting 
END:VEVENT
END:VCALENDAR
