BEGIN:VCALENDAR
VERSION:2.0
PRODID:icalendar-ruby
CALSCALE:GREGORIAN
BEGIN:VTIMEZONE
TZID:America/Chicago
BEGIN:DAYLIGHT
DTSTART:20260308T030000
TZOFFSETFROM:-0600
TZOFFSETTO:-0500
RRULE:FREQ=YEARLY;BYDAY=2SU;BYMONTH=3
TZNAME:CDT
END:DAYLIGHT
BEGIN:STANDARD
DTSTART:20261101T010000
TZOFFSETFROM:-0500
TZOFFSETTO:-0600
RRULE:FREQ=YEARLY;BYDAY=1SU;BYMONTH=11
TZNAME:CST
END:STANDARD
END:VTIMEZONE
BEGIN:VEVENT
DTSTAMP:20260419T125647Z
UID:a086ad54-f32e-4744-b59b-75a70d655fac
DTSTART;VALUE=DATE:20260522
DTEND;VALUE=DATE:20260523
DESCRIPTION:
LOCATION:
SUMMARY:Early Release / Professional Time
END:VEVENT
BEGIN:VEVENT
DTSTAMP:20260419T125647Z
UID:0ec32812-ab74-46cc-8332-94acd1d22081
DTSTART;VALUE=DATE:20260525
DTEND;VALUE=DATE:20260526
DESCRIPTION:
LOCATION:
SUMMARY:No School / Non-Service Day
END:VEVENT
BEGIN:VEVENT
DTSTAMP:20260419T125647Z
UID:9b49d7f2-dc28-49d3-a40d-4c607068747b
DTSTART;VALUE=DATE:20260611
DTEND;VALUE=DATE:20260612
DESCRIPTION:
LOCATION:
SUMMARY:Last Day of Classes / Early Release
END:VEVENT
BEGIN:VEVENT
DTSTAMP:20260419T125647Z
UID:f799ba3a-1f08-4883-ac2d-156e0ada18ac
DTSTART;VALUE=DATE:20260612
DTEND;VALUE=DATE:20260613
DESCRIPTION:
LOCATION:
SUMMARY:No School / Teacher Professional Time
END:VEVENT
END:VCALENDAR
