BEGIN:VCALENDAR
VERSION:2.0
PRODID:icalendar-ruby
CALSCALE:GREGORIAN
BEGIN:VTIMEZONE
TZID:America/Chicago
BEGIN:DAYLIGHT
DTSTART:20260308T030000
TZOFFSETFROM:-0600
TZOFFSETTO:-0500
RRULE:FREQ=YEARLY;BYDAY=2SU;BYMONTH=3
TZNAME:CDT
END:DAYLIGHT
BEGIN:STANDARD
DTSTART:20261101T010000
TZOFFSETFROM:-0500
TZOFFSETTO:-0600
RRULE:FREQ=YEARLY;BYDAY=1SU;BYMONTH=11
TZNAME:CST
END:STANDARD
END:VTIMEZONE
BEGIN:VEVENT
DTSTAMP:20260425T112044Z
UID:315fff6c-ed3e-4d54-961a-d422c25e5fec
DTSTART:20260427T163000
DTEND:20260427T180000
DESCRIPTION:
LOCATION:
SUMMARY:7th Grade Travel Night
END:VEVENT
BEGIN:VEVENT
DTSTAMP:20260425T112044Z
UID:456fef1e-22b4-48ce-af0f-4a451b247cbb
DTSTART:20260512T180000
DTEND:20260512T190000
DESCRIPTION:
LOCATION:
SUMMARY:SMS Athletic Awards
END:VEVENT
BEGIN:VEVENT
DTSTAMP:20260425T112044Z
UID:8f455546-7919-4adf-8f7d-f19b521b707a
DTSTART:20260518T180000
DTEND:20260518T190000
DESCRIPTION:
LOCATION:
SUMMARY:SMS Awards
END:VEVENT
END:VCALENDAR
