BEGIN:VCALENDAR
VERSION:2.0
PRODID:icalendar-ruby
CALSCALE:GREGORIAN
BEGIN:VTIMEZONE
TZID:America/Chicago
BEGIN:DAYLIGHT
DTSTART:20260308T030000
TZOFFSETFROM:-0600
TZOFFSETTO:-0500
RRULE:FREQ=YEARLY;BYDAY=2SU;BYMONTH=3
TZNAME:CDT
END:DAYLIGHT
BEGIN:STANDARD
DTSTART:20261101T010000
TZOFFSETFROM:-0500
TZOFFSETTO:-0600
RRULE:FREQ=YEARLY;BYDAY=1SU;BYMONTH=11
TZNAME:CST
END:STANDARD
END:VTIMEZONE
BEGIN:VEVENT
DTSTAMP:20260426T034003Z
UID:4021aa44-d0e4-450d-b97a-cb9c05783b41
DTSTART:20260508T090000
DTEND:20260508T090000
DESCRIPTION:
LOCATION:
SUMMARY:Library Books are Due
END:VEVENT
BEGIN:VEVENT
DTSTAMP:20260426T034003Z
UID:67abc56d-d13c-4bd4-bcfb-30a4a7ebd368
DTSTART:20260514T170000
DTEND:20260514T183000
DESCRIPTION:
LOCATION:
SUMMARY:26-27  Incoming Kindergarten Family Night
END:VEVENT
BEGIN:VEVENT
DTSTAMP:20260426T034003Z
UID:68aea91d-c8ea-42f6-88b3-0045a47d5b81
DTSTART;VALUE=DATE:20260515
DTEND;VALUE=DATE:20260516
DESCRIPTION:
LOCATION:
SUMMARY:EHE Talent Show
END:VEVENT
BEGIN:VEVENT
DTSTAMP:20260426T034003Z
UID:a1fabed1-571a-4d60-8fd3-598d77f65273
DTSTART;VALUE=DATE:20260518
DTEND;VALUE=DATE:20260519
DESCRIPTION:
LOCATION:
SUMMARY:Field Day - 5th & 6th Grade
END:VEVENT
BEGIN:VEVENT
DTSTAMP:20260426T034003Z
UID:cca221dc-b2b9-4079-8bba-433f70a27bca
DTSTART;VALUE=DATE:20260520
DTEND;VALUE=DATE:20260521
DESCRIPTION:
LOCATION:
SUMMARY:Field Day for Kindergarten - 4th Grade
END:VEVENT
BEGIN:VEVENT
DTSTAMP:20260426T034003Z
UID:4f445d60-c147-422e-b438-c5b8becc7e7d
DTSTART:20260520T110000
DTEND:20260520T120000
DESCRIPTION:
LOCATION:
SUMMARY:Sixth Grade Picnic
END:VEVENT
BEGIN:VEVENT
DTSTAMP:20260426T034003Z
UID:d58cd70a-550c-46ab-9b27-f30b607fe34b
DTSTART:20260520T190000
DTEND:20260520T200000
DESCRIPTION:@ Central Office Board Room https://www.smithvilleschooldistric
 t.net/page/board-of-education
LOCATION:Central Office Board Room
SUMMARY:Board of Education Meeting
END:VEVENT
BEGIN:VEVENT
DTSTAMP:20260426T034003Z
UID:f23ea96b-d79a-43a0-9ee9-32ecda003062
DTSTART;VALUE=DATE:20260522
DTEND;VALUE=DATE:20260523
DESCRIPTION: 
LOCATION:
SUMMARY:Last Scheduled Day of School
END:VEVENT
BEGIN:VEVENT
DTSTAMP:20260426T034003Z
UID:6e693338-0531-4ac1-9407-1beb0f4b4b7c
DTSTART:20260522T131500
DTEND:20260522T131500
DESCRIPTION:
LOCATION:
SUMMARY:Early Dismissal Last Day of School - 1:15 p.m. 
END:VEVENT
BEGIN:VEVENT
DTSTAMP:20260426T034003Z
UID:84c116b8-6280-4d09-8c63-27c79dc8124d
DTSTART:20260617T190000
DTEND:20260617T200000
DESCRIPTION:@ Central Office Board Room https://www.smithvilleschooldistric
 t.net/page/board-of-education
LOCATION:Central Office Board Room
SUMMARY:Board of Education Meeting
END:VEVENT
END:VCALENDAR
