BEGIN:VCALENDAR
VERSION:2.0
PRODID:icalendar-ruby
CALSCALE:GREGORIAN
BEGIN:VTIMEZONE
TZID:America/Chicago
BEGIN:DAYLIGHT
DTSTART:20260308T030000
TZOFFSETFROM:-0600
TZOFFSETTO:-0500
RRULE:FREQ=YEARLY;BYDAY=2SU;BYMONTH=3
TZNAME:CDT
END:DAYLIGHT
BEGIN:STANDARD
DTSTART:20261101T010000
TZOFFSETFROM:-0500
TZOFFSETTO:-0600
RRULE:FREQ=YEARLY;BYDAY=1SU;BYMONTH=11
TZNAME:CST
END:STANDARD
END:VTIMEZONE
BEGIN:VEVENT
DTSTAMP:20260420T141555Z
UID:9bf2a901-b7af-46df-a4ec-761a2f38cc07
DTSTART:20260422T111000
DTEND:20260422T121000
DESCRIPTION:
LOCATION:
SUMMARY:SIP day - dismissal
END:VEVENT
BEGIN:VEVENT
DTSTAMP:20260420T141555Z
UID:9556a11a-b376-4710-9360-40a4f88bdba2
DTSTART:20260515T190000
DTEND:20260515T200000
DESCRIPTION:
LOCATION:
SUMMARY:Graduation
END:VEVENT
BEGIN:VEVENT
DTSTAMP:20260420T141555Z
UID:09484dfb-fec5-434f-889c-661e242fed18
DTSTART;VALUE=DATE:20260521
DTEND;VALUE=DATE:20260522
DESCRIPTION:
LOCATION:
SUMMARY:Last Day of Student Attendance - Tentative
END:VEVENT
END:VCALENDAR
