BEGIN:VCALENDAR
VERSION:2.0
PRODID:icalendar-ruby
CALSCALE:GREGORIAN
BEGIN:VTIMEZONE
TZID:America/Los_Angeles
BEGIN:DAYLIGHT
DTSTART:20260308T030000
TZOFFSETFROM:-0800
TZOFFSETTO:-0700
RRULE:FREQ=YEARLY;BYDAY=2SU;BYMONTH=3
TZNAME:PDT
END:DAYLIGHT
BEGIN:STANDARD
DTSTART:20261101T010000
TZOFFSETFROM:-0700
TZOFFSETTO:-0800
RRULE:FREQ=YEARLY;BYDAY=1SU;BYMONTH=11
TZNAME:PST
END:STANDARD
END:VTIMEZONE
BEGIN:VEVENT
DTSTAMP:20260423T203740Z
UID:919fb885-49ef-494f-85e8-27eded33f680
DTSTART:20260423T190000
DTEND:20260423T210000
DESCRIPTION:<p>Regular meeting of the EUSD Board of Education. 6 p.m. close
 d session / 7 p.m. open session. Zoom link <a href="https://www.google.com
 /url?q=https://zoom.us/j/551974247&amp\;sa=D&amp\;source=calendar&amp\;ust
 =1769018341580401&amp\;usg=AOvVaw3rKE-Jno4d9yhRKu0EW5MC" target="_blank">h
 ttps://zoom.us/j/551974247</a>. Agenda: <a href="https://www.google.com/ur
 l?q=https://eusd.org/agenda&amp\;sa=D&amp\;source=calendar&amp\;ust=176901
 8341580401&amp\;usg=AOvVaw1ocE3cVCRnzs5hPhJmjHUH" target="_blank">https://
 eusd.org/agenda</a></p>
LOCATION:2310 Aldergrove Ave\, Escondido\, CA 92029\, USA
SUMMARY:Board of Education Meeting
END:VEVENT
BEGIN:VEVENT
DTSTAMP:20260423T203740Z
UID:d8638f7f-45a3-4c45-a455-f474ea29b90b
DTSTART:20260507T190000
DTEND:20260507T210000
DESCRIPTION:<p>Regular meeting of the EUSD Board of Education. 6 p.m. close
 d session / 7 p.m. open session. Zoom link <a href="https://www.google.com
 /url?q=https://zoom.us/j/551974247&amp\;sa=D&amp\;source=calendar&amp\;ust
 =1769018341580401&amp\;usg=AOvVaw3rKE-Jno4d9yhRKu0EW5MC" target="_blank">h
 ttps://zoom.us/j/551974247</a>. Agenda: <a href="https://www.google.com/ur
 l?q=https://eusd.org/agenda&amp\;sa=D&amp\;source=calendar&amp\;ust=176901
 8341580401&amp\;usg=AOvVaw1ocE3cVCRnzs5hPhJmjHUH" target="_blank">https://
 eusd.org/agenda</a></p>
LOCATION:2310 Aldergrove Ave\, Escondido\, CA 92029\, USA
SUMMARY:Board of Education Meeting
END:VEVENT
BEGIN:VEVENT
DTSTAMP:20260423T203740Z
UID:572b383b-6b93-43da-8d0d-a938aec8b977
DTSTART:20260521T190000
DTEND:20260521T210000
DESCRIPTION:<p>Regular meeting of the EUSD Board of Education. 6 p.m. close
 d session / 7 p.m. open session. Zoom link <a href="https://www.google.com
 /url?q=https://zoom.us/j/551974247&amp\;sa=D&amp\;source=calendar&amp\;ust
 =1769018341580401&amp\;usg=AOvVaw3rKE-Jno4d9yhRKu0EW5MC" target="_blank">h
 ttps://zoom.us/j/551974247</a>. Agenda: <a href="https://www.google.com/ur
 l?q=https://eusd.org/agenda&amp\;sa=D&amp\;source=calendar&amp\;ust=176901
 8341580401&amp\;usg=AOvVaw1ocE3cVCRnzs5hPhJmjHUH" target="_blank">https://
 eusd.org/agenda</a></p>
LOCATION:2310 Aldergrove Ave\, Escondido\, CA 92029\, USA
SUMMARY:Board of Education Meeting
END:VEVENT
BEGIN:VEVENT
DTSTAMP:20260423T203740Z
UID:5d07e3fb-2b32-477f-bb81-0db763e9e120
DTSTART:20260618T190000
DTEND:20260618T210000
DESCRIPTION:<p>Regular meeting of the EUSD Board of Education. 6 p.m. close
 d session / 7 p.m. open session. Zoom link <a href="https://www.google.com
 /url?q=https://zoom.us/j/551974247&amp\;sa=D&amp\;source=calendar&amp\;ust
 =1769018341580401&amp\;usg=AOvVaw3rKE-Jno4d9yhRKu0EW5MC" target="_blank">h
 ttps://zoom.us/j/551974247</a>. Agenda: <a href="https://www.google.com/ur
 l?q=https://eusd.org/agenda&amp\;sa=D&amp\;source=calendar&amp\;ust=176901
 8341580401&amp\;usg=AOvVaw1ocE3cVCRnzs5hPhJmjHUH" target="_blank">https://
 eusd.org/agenda</a></p>
LOCATION:2310 Aldergrove Ave\, Escondido\, CA 92029\, USA
SUMMARY:Board of Education Meeting
END:VEVENT
BEGIN:VEVENT
DTSTAMP:20260423T203740Z
UID:394f1b4c-e4b4-4a32-b2ad-d4754cbeecc2
DTSTART:20260625T190000
DTEND:20260625T210000
DESCRIPTION:<p>Regular meeting of the EUSD Board of Education. 6 p.m. close
 d session / 7 p.m. open session. Zoom link <a href="https://www.google.com
 /url?q=https://zoom.us/j/551974247&amp\;sa=D&amp\;source=calendar&amp\;ust
 =1769018341580401&amp\;usg=AOvVaw3rKE-Jno4d9yhRKu0EW5MC" target="_blank">h
 ttps://zoom.us/j/551974247</a>. Agenda: <a href="https://www.google.com/ur
 l?q=https://eusd.org/agenda&amp\;sa=D&amp\;source=calendar&amp\;ust=176901
 8341580401&amp\;usg=AOvVaw1ocE3cVCRnzs5hPhJmjHUH" target="_blank">https://
 eusd.org/agenda</a></p>
LOCATION:2310 Aldergrove Ave\, Escondido\, CA 92029\, USA
SUMMARY:Board of Education Meeting
END:VEVENT
BEGIN:VEVENT
DTSTAMP:20260423T203740Z
UID:de887d8e-556a-487e-850d-b54e7b1f1922
DTSTART:20260716T190000
DTEND:20260716T210000
DESCRIPTION:<p>Regular meeting of the EUSD Board of Education. 6 p.m. close
 d session / 7 p.m. open session. Zoom link <a href="https://www.google.com
 /url?q=https://zoom.us/j/551974247&amp\;sa=D&amp\;source=calendar&amp\;ust
 =1769018341580401&amp\;usg=AOvVaw3rKE-Jno4d9yhRKu0EW5MC" target="_blank">h
 ttps://zoom.us/j/551974247</a>. Agenda: <a href="https://www.google.com/ur
 l?q=https://eusd.org/agenda&amp\;sa=D&amp\;source=calendar&amp\;ust=176901
 8341580401&amp\;usg=AOvVaw1ocE3cVCRnzs5hPhJmjHUH" target="_blank">https://
 eusd.org/agenda</a></p>
LOCATION:2310 Aldergrove Ave\, Escondido\, CA 92029\, USA
SUMMARY:Board of Education Meeting
END:VEVENT
BEGIN:VEVENT
DTSTAMP:20260423T203740Z
UID:803f4f5a-9477-4cc5-b515-cfaba72645f7
DTSTART:20260723T180000
DTEND:20260723T200000
DESCRIPTION:<p>Special closed session meeting of the EUSD Board of Educatio
 n: Superintendent's goals. 6 p.m. closed session only. This meeting will n
 ot be streamed. Agenda: <a href="https://eusd.org/agenda" target="_blank">
 https://eusd.org/agenda</a></p>
LOCATION:2310 Aldergrove Ave\, Escondido\, CA 92029\, USA
SUMMARY:Board of Education Meeting
END:VEVENT
BEGIN:VEVENT
DTSTAMP:20260423T203740Z
UID:085b2219-e52d-4252-8e51-ec6fef5f1184
DTSTART:20260813T190000
DTEND:20260813T210000
DESCRIPTION:<p>Regular meeting of the EUSD Board of Education. 6 p.m. close
 d session / 7 p.m. open session. Zoom link <a href="https://www.google.com
 /url?q=https://zoom.us/j/551974247&amp\;sa=D&amp\;source=calendar&amp\;ust
 =1769018341580401&amp\;usg=AOvVaw3rKE-Jno4d9yhRKu0EW5MC" target="_blank">h
 ttps://zoom.us/j/551974247</a>. Agenda: <a href="https://www.google.com/ur
 l?q=https://eusd.org/agenda&amp\;sa=D&amp\;source=calendar&amp\;ust=176901
 8341580401&amp\;usg=AOvVaw1ocE3cVCRnzs5hPhJmjHUH" target="_blank">https://
 eusd.org/agenda</a></p>
LOCATION:2310 Aldergrove Ave\, Escondido\, CA 92029\, USA
SUMMARY:Board of Education Meeting
END:VEVENT
BEGIN:VEVENT
DTSTAMP:20260423T203740Z
UID:7b9dc8d7-3f5b-4e9f-82d8-6c3f2b0f3e13
DTSTART:20260910T190000
DTEND:20260910T210000
DESCRIPTION:<p>Regular meeting of the EUSD Board of Education. 6 p.m. close
 d session / 7 p.m. open session. Zoom link <a href="https://www.google.com
 /url?q=https://zoom.us/j/551974247&amp\;sa=D&amp\;source=calendar&amp\;ust
 =1769018341580401&amp\;usg=AOvVaw3rKE-Jno4d9yhRKu0EW5MC" target="_blank">h
 ttps://zoom.us/j/551974247</a>. Agenda: <a href="https://www.google.com/ur
 l?q=https://eusd.org/agenda&amp\;sa=D&amp\;source=calendar&amp\;ust=176901
 8341580401&amp\;usg=AOvVaw1ocE3cVCRnzs5hPhJmjHUH" target="_blank">https://
 eusd.org/agenda</a></p>
LOCATION:2310 Aldergrove Ave\, Escondido\, CA 92029\, USA
SUMMARY:Board of Education Meeting
END:VEVENT
BEGIN:VEVENT
DTSTAMP:20260423T203740Z
UID:18aa9e36-3af5-41ef-9f06-1779dcaf09c5
DTSTART:20260924T190000
DTEND:20260924T210000
DESCRIPTION:<p>Regular meeting of the EUSD Board of Education. 6 p.m. close
 d session / 7 p.m. open session. Zoom link <a href="https://www.google.com
 /url?q=https://zoom.us/j/551974247&amp\;sa=D&amp\;source=calendar&amp\;ust
 =1769018341580401&amp\;usg=AOvVaw3rKE-Jno4d9yhRKu0EW5MC" target="_blank">h
 ttps://zoom.us/j/551974247</a>. Agenda: <a href="https://www.google.com/ur
 l?q=https://eusd.org/agenda&amp\;sa=D&amp\;source=calendar&amp\;ust=176901
 8341580401&amp\;usg=AOvVaw1ocE3cVCRnzs5hPhJmjHUH" target="_blank">https://
 eusd.org/agenda</a></p>
LOCATION:2310 Aldergrove Ave\, Escondido\, CA 92029\, USA
SUMMARY:Board of Education Meeting
END:VEVENT
BEGIN:VEVENT
DTSTAMP:20260423T203740Z
UID:63ee681b-51d6-439a-b7cd-430f2a1e6c17
DTSTART:20261022T190000
DTEND:20261022T210000
DESCRIPTION:<p>Regular meeting of the EUSD Board of Education. 6 p.m. close
 d session / 7 p.m. open session. Zoom link <a href="https://www.google.com
 /url?q=https://zoom.us/j/551974247&amp\;sa=D&amp\;source=calendar&amp\;ust
 =1769018341580401&amp\;usg=AOvVaw3rKE-Jno4d9yhRKu0EW5MC" target="_blank">h
 ttps://zoom.us/j/551974247</a>. Agenda: <a href="https://www.google.com/ur
 l?q=https://eusd.org/agenda&amp\;sa=D&amp\;source=calendar&amp\;ust=176901
 8341580401&amp\;usg=AOvVaw1ocE3cVCRnzs5hPhJmjHUH" target="_blank">https://
 eusd.org/agenda</a></p>
LOCATION:2310 Aldergrove Ave\, Escondido\, CA 92029\, USA
SUMMARY:Board of Education Meeting
END:VEVENT
BEGIN:VEVENT
DTSTAMP:20260423T203740Z
UID:442ac82c-473a-4098-b266-ade648830a27
DTSTART:20261112T190000
DTEND:20261112T210000
DESCRIPTION:<p>Regular meeting of the EUSD Board of Education. 6 p.m. close
 d session / 7 p.m. open session. Zoom link <a href="https://www.google.com
 /url?q=https://zoom.us/j/551974247&amp\;sa=D&amp\;source=calendar&amp\;ust
 =1769018341580401&amp\;usg=AOvVaw3rKE-Jno4d9yhRKu0EW5MC" target="_blank">h
 ttps://zoom.us/j/551974247</a>. Agenda: <a href="https://www.google.com/ur
 l?q=https://eusd.org/agenda&amp\;sa=D&amp\;source=calendar&amp\;ust=176901
 8341580401&amp\;usg=AOvVaw1ocE3cVCRnzs5hPhJmjHUH" target="_blank">https://
 eusd.org/agenda</a></p>
LOCATION:2310 Aldergrove Ave\, Escondido\, CA 92029\, USA
SUMMARY:Board of Education Meeting
END:VEVENT
BEGIN:VEVENT
DTSTAMP:20260423T203740Z
UID:1593bf91-4321-4765-8cd3-f077c754917d
DTSTART:20261211T190000
DTEND:20261211T210000
DESCRIPTION:<p>Annual organization meeting of the EUSD Board of Education. 
 6 p.m. closed session / 7 p.m. open session. Zoom link <a href="https://zo
 om.us/j/551974247" target="_blank">https://zoom.us/j/551974247</a>. Agenda
 : <a href="https://eusd.org/agenda" target="_blank">https://eusd.org/agend
 a</a></p>
LOCATION:2310 Aldergrove Ave\, Escondido\, CA 92029\, USA
SUMMARY:Board of Education Meeting
END:VEVENT
BEGIN:VEVENT
DTSTAMP:20260423T203740Z
UID:c096662e-f326-452f-8e32-68410fe665e8
DTSTART:20261215T190000
DTEND:20261215T210000
DESCRIPTION:<p>Regular meeting of the EUSD Board of Education. 6 p.m. close
 d session / 7 p.m. open session. Zoom link <a href="https://www.google.com
 /url?q=https://zoom.us/j/551974247&amp\;sa=D&amp\;source=calendar&amp\;ust
 =1769018341580401&amp\;usg=AOvVaw3rKE-Jno4d9yhRKu0EW5MC" target="_blank">h
 ttps://zoom.us/j/551974247</a>. Agenda: <a href="https://www.google.com/ur
 l?q=https://eusd.org/agenda&amp\;sa=D&amp\;source=calendar&amp\;ust=176901
 8341580401&amp\;usg=AOvVaw1ocE3cVCRnzs5hPhJmjHUH" target="_blank">https://
 eusd.org/agenda</a></p>
LOCATION:2310 Aldergrove Ave\, Escondido\, CA 92029\, USA
SUMMARY:Board of Education Meeting
END:VEVENT
END:VCALENDAR
