BEGIN:VCALENDAR
VERSION:2.0
PRODID:icalendar-ruby
CALSCALE:GREGORIAN
BEGIN:VTIMEZONE
TZID:America/New_York
BEGIN:DAYLIGHT
DTSTART:20260308T030000
TZOFFSETFROM:-0500
TZOFFSETTO:-0400
RRULE:FREQ=YEARLY;BYDAY=2SU;BYMONTH=3
TZNAME:EDT
END:DAYLIGHT
BEGIN:STANDARD
DTSTART:20261101T010000
TZOFFSETFROM:-0400
TZOFFSETTO:-0500
RRULE:FREQ=YEARLY;BYDAY=1SU;BYMONTH=11
TZNAME:EST
END:STANDARD
END:VTIMEZONE
BEGIN:VEVENT
DTSTAMP:20260421T165432Z
UID:7e0b625a-da82-491a-9c1d-87e712fc84a7
DTSTART:20260421T170000
DTEND:20260421T190000
DESCRIPTION:<p>Join us for a joyful <strong>Family Night</strong> celebrati
 ng the All-County K-8 Arts Exhibition at Asheville Mall! Featuring <em>sel
 ected artwork</em> from K–8 students across Buncombe County Schools\, th
 is exhibit highlights the creativity\, effort\, and talent of our young ar
 tists. Bring family and friends to explore the artwork and celebrate toget
 her.</p>
LOCATION:3 S Tunnel Rd\, Asheville\, NC 28805\, USA
SUMMARY:BCS All-County K-8 Art Exhibition FAMILY NIGHT at Asheville Mall
END:VEVENT
BEGIN:VEVENT
DTSTAMP:20260421T165432Z
UID:91b77545-5d91-4e48-9e8d-d4cd4831de5f
DTSTART:20260421T170000
DTEND:20260421T183000
DESCRIPTION:
LOCATION:
SUMMARY:Community Night at AC Reynolds Middle School
END:VEVENT
BEGIN:VEVENT
DTSTAMP:20260421T165432Z
UID:23dde28c-e02b-4587-a4b7-b265a6f64f2f
DTSTART:20260421T181500
DTEND:20260421T184500
DESCRIPTION:
LOCATION:
SUMMARY:K-8 Oakley Music Club performs at the K-8 Art Exhibition
END:VEVENT
BEGIN:VEVENT
DTSTAMP:20260421T165432Z
UID:ae57864b-7f48-4b71-86ea-383ed7c644aa
DTSTART:20260422T133000
DTEND:20260422T141500
DESCRIPTION:
LOCATION:
SUMMARY:Dual Language Information Session
END:VEVENT
BEGIN:VEVENT
DTSTAMP:20260421T165432Z
UID:fc6c448c-951b-492b-ae59-280397c6824e
DTSTART:20260423T180000
DTEND:20260423T193000
DESCRIPTION:
LOCATION:
SUMMARY:Oakley Science Night in the Jerry Plemmons Gymnasium
END:VEVENT
BEGIN:VEVENT
DTSTAMP:20260421T165432Z
UID:cd82f549-d19a-49c0-bdc6-f4cce0c2d02c
DTSTART:20260428T170000
DTEND:20260428T183000
DESCRIPTION:
LOCATION:
SUMMARY:Community Night at AC Reynolds Middle School
END:VEVENT
BEGIN:VEVENT
DTSTAMP:20260421T165432Z
UID:8dbe3af7-2341-4b16-87ab-7317c1d341ca
DTSTART:20260428T180000
DTEND:20260428T190000
DESCRIPTION:
LOCATION:
SUMMARY:Oakley Parent/Community Advisory Meeting in the Mary Long Media Cen
 ter
END:VEVENT
BEGIN:VEVENT
DTSTAMP:20260421T165432Z
UID:cac86fd1-1fd8-44fe-a688-a7805757c031
DTSTART:20260505T170000
DTEND:20260505T183000
DESCRIPTION:
LOCATION:
SUMMARY:Community Night at AC Reynolds Middle School
END:VEVENT
BEGIN:VEVENT
DTSTAMP:20260421T165432Z
UID:f36978f7-6e95-4dda-ac19-512f6c9429ca
DTSTART:20260505T171500
DTEND:20260505T181500
DESCRIPTION:
LOCATION:
SUMMARY:Oakley PTO Meeting in Mary Long Media Center
END:VEVENT
BEGIN:VEVENT
DTSTAMP:20260421T165432Z
UID:6d01f184-b2e2-47f0-9489-ab82943d1b4f
DTSTART:20260514T151500
DTEND:20260514T161500
DESCRIPTION:
LOCATION:
SUMMARY:Oakley SIT Meeting
END:VEVENT
BEGIN:VEVENT
DTSTAMP:20260421T165432Z
UID:c3c47ec3-313d-4464-a525-c31dcd3d0a97
DTSTART:20260521T180000
DTEND:20260521T193000
DESCRIPTION:
LOCATION:
SUMMARY:Oakley Dual Language Lunada 
END:VEVENT
BEGIN:VEVENT
DTSTAMP:20260421T165432Z
UID:cbf15b8b-0f55-43b0-b12a-fe3a3bac5b10
DTSTART:20260527T080000
DTEND:20260527T113000
DESCRIPTION:
LOCATION:
SUMMARY:Reading EOG Grades 3-5
END:VEVENT
BEGIN:VEVENT
DTSTAMP:20260421T165432Z
UID:a55d51aa-cb22-43fc-aa2d-119a21778005
DTSTART:20260528T080000
DTEND:20260528T113000
DESCRIPTION:
LOCATION:
SUMMARY:Science EOG Grade 5
END:VEVENT
BEGIN:VEVENT
DTSTAMP:20260421T165432Z
UID:6ba785a2-fe1f-4fa7-a233-33bd04d48a54
DTSTART:20260529T080000
DTEND:20260529T113000
DESCRIPTION:
LOCATION:
SUMMARY:Math EOG Grades 3-5
END:VEVENT
BEGIN:VEVENT
DTSTAMP:20260421T165432Z
UID:16351f3c-aadb-4e99-a6e9-a50003238bc7
DTSTART:20260602T171500
DTEND:20260602T181500
DESCRIPTION:
LOCATION:
SUMMARY:Oakley PTO Meeting in Mary Long Media Center
END:VEVENT
BEGIN:VEVENT
DTSTAMP:20260421T165432Z
UID:04a90c3e-942f-423a-9935-02135872cfd7
DTSTART:20260603T080000
DTEND:20260603T110000
DESCRIPTION:
LOCATION:
SUMMARY:Read to Achieve Test Grade 3 (some students)
END:VEVENT
BEGIN:VEVENT
DTSTAMP:20260421T165432Z
UID:8e60c34a-84d9-4d7f-92b8-4cb2ea1819fb
DTSTART:20260604T081000
DTEND:20260604T084000
DESCRIPTION:
LOCATION:
SUMMARY:Grades 1-2 Fourth Quarter Awards
END:VEVENT
BEGIN:VEVENT
DTSTAMP:20260421T165432Z
UID:2dfa5d7a-85ac-4730-b191-e243ae1fbb87
DTSTART:20260604T130000
DTEND:20260604T134500
DESCRIPTION:
LOCATION:
SUMMARY:Grades 3-4 Fourth Quarter Awards
END:VEVENT
BEGIN:VEVENT
DTSTAMP:20260421T165432Z
UID:932bf23f-b9d5-4070-ad18-7df427661814
DTSTART;VALUE=DATE:20260605
DTEND;VALUE=DATE:20260606
DESCRIPTION:
LOCATION:
SUMMARY:Oakley Field Day
END:VEVENT
BEGIN:VEVENT
DTSTAMP:20260421T165432Z
UID:b25701e6-91d0-4aef-9e9d-a3b0816cda07
DTSTART;VALUE=DATE:20260605
DTEND;VALUE=DATE:20260606
DESCRIPTION:
LOCATION:
SUMMARY:PTO Block Party (evening\; exact time TBD)
END:VEVENT
BEGIN:VEVENT
DTSTAMP:20260421T165432Z
UID:38bd6387-7d26-4ed8-8507-d0266c455e22
DTSTART:20260608T083000
DTEND:20260608T093000
DESCRIPTION:
LOCATION:
SUMMARY:FIfth Grade Promotion Ceremony
END:VEVENT
BEGIN:VEVENT
DTSTAMP:20260421T165432Z
UID:4e596250-188f-4fe2-adb5-27a0228218af
DTSTART:20260608T130000
DTEND:20260608T140000
DESCRIPTION:
LOCATION:
SUMMARY:Kindergarten Promotion Ceremony
END:VEVENT
BEGIN:VEVENT
DTSTAMP:20260421T165432Z
UID:7a475d33-716c-4155-b6da-b5d8919903ce
DTSTART:20260609T130000
DTEND:20260609T150000
DESCRIPTION:
LOCATION:
SUMMARY:Oakley SIT Meeting
END:VEVENT
BEGIN:VEVENT
DTSTAMP:20260421T165432Z
UID:f680860e-d45e-4ff2-b22d-aab38f651544
DTSTART;VALUE=DATE:20260824
DTEND;VALUE=DATE:20260825
DESCRIPTION:
LOCATION:
SUMMARY:First Day for Students
END:VEVENT
BEGIN:VEVENT
DTSTAMP:20260421T165432Z
UID:91d851f5-3c84-4ac0-9293-5403e8479dcb
DTSTART;VALUE=DATE:20260907
DTEND;VALUE=DATE:20260908
DESCRIPTION:
LOCATION:
SUMMARY:Annual Leave Day (No School for Students)
END:VEVENT
BEGIN:VEVENT
DTSTAMP:20260421T165432Z
UID:6b389ba7-1496-4750-9f06-ea51dde340bb
DTSTART;VALUE=DATE:20260925
DTEND;VALUE=DATE:20260926
DESCRIPTION:
LOCATION:
SUMMARY:PLC Early Dismissal (Students Dismiss at 12:40)
END:VEVENT
BEGIN:VEVENT
DTSTAMP:20260421T165432Z
UID:d94bb39a-b146-4c90-b0b1-d4e94d4367e9
DTSTART;VALUE=DATE:20261005
DTEND;VALUE=DATE:20261006
DESCRIPTION:
LOCATION:
SUMMARY:Optional Teacher Workday (No School for Students)
END:VEVENT
BEGIN:VEVENT
DTSTAMP:20260421T165432Z
UID:dfc8210a-d22a-489f-b1b3-a5cc6d4b967f
DTSTART;VALUE=DATE:20261006
DTEND;VALUE=DATE:20261007
DESCRIPTION:
LOCATION:
SUMMARY:Optional Teacher Workday (No School for Students)
END:VEVENT
BEGIN:VEVENT
DTSTAMP:20260421T165432Z
UID:3af37782-090c-4b73-8c8f-6f64dea64f26
DTSTART;VALUE=DATE:20261030
DTEND;VALUE=DATE:20261031
DESCRIPTION:
LOCATION:
SUMMARY:Early Dismissal (Students dismiss at 12:40)
END:VEVENT
BEGIN:VEVENT
DTSTAMP:20260421T165432Z
UID:e7dae702-51b8-4bf1-8272-5decff910cfa
DTSTART;VALUE=DATE:20261103
DTEND;VALUE=DATE:20261104
DESCRIPTION:
LOCATION:
SUMMARY:Optional Teacher Workday (No School for Students)
END:VEVENT
BEGIN:VEVENT
DTSTAMP:20260421T165432Z
UID:8553e29c-db2f-40c4-8091-4fe2f3d84607
DTSTART;VALUE=DATE:20261111
DTEND;VALUE=DATE:20261112
DESCRIPTION:
LOCATION:
SUMMARY:Veteran's Day Holiday (No school for students)
END:VEVENT
BEGIN:VEVENT
DTSTAMP:20260421T165432Z
UID:c716ab74-7e3c-4763-9742-4070da78822a
DTSTART;VALUE=DATE:20261125
DTEND;VALUE=DATE:20261126
DESCRIPTION:
LOCATION:
SUMMARY:Annual Leave Day (No school for students)
END:VEVENT
BEGIN:VEVENT
DTSTAMP:20260421T165432Z
UID:6f8abdbd-22bc-48fd-9914-63a984ae9b14
DTSTART;VALUE=DATE:20261126
DTEND;VALUE=DATE:20261127
DESCRIPTION:
LOCATION:
SUMMARY:Thanksgiving Holiday (no school for students)
END:VEVENT
BEGIN:VEVENT
DTSTAMP:20260421T165432Z
UID:e87067f2-27b8-4ec8-9a12-fc1e6e991670
DTSTART;VALUE=DATE:20261127
DTEND;VALUE=DATE:20261128
DESCRIPTION:
LOCATION:
SUMMARY:Annual Leave Day (No school for students)
END:VEVENT
BEGIN:VEVENT
DTSTAMP:20260421T165432Z
UID:9ee95e55-5b2f-47bd-b93d-74f1e542bb89
DTSTART;VALUE=DATE:20261221
DTEND;VALUE=DATE:20261222
DESCRIPTION:
LOCATION:
SUMMARY:Optional Teacher Workday (no school for students)
END:VEVENT
BEGIN:VEVENT
DTSTAMP:20260421T165432Z
UID:8b32ec64-7490-44a5-b276-28713e04dcc6
DTSTART;VALUE=DATE:20261222
DTEND;VALUE=DATE:20261226
DESCRIPTION:
LOCATION:
SUMMARY:Winter Break - Holiday (no school for students)
END:VEVENT
BEGIN:VEVENT
DTSTAMP:20260421T165432Z
UID:47510772-df89-4880-a343-14aab2a9dbf2
DTSTART;VALUE=DATE:20261228
DTEND;VALUE=DATE:20261229
DESCRIPTION:
LOCATION:
SUMMARY:Annual Leave (No school for students)
END:VEVENT
BEGIN:VEVENT
DTSTAMP:20260421T165432Z
UID:3b68ae39-b9f3-4847-8f0e-53c7d5f817d4
DTSTART;VALUE=DATE:20261229
DTEND;VALUE=DATE:20261230
DESCRIPTION:
LOCATION:
SUMMARY:Annual Leave (No school for students)
END:VEVENT
BEGIN:VEVENT
DTSTAMP:20260421T165432Z
UID:b5e352b3-6b02-4667-9031-e98c9cd8dbb1
DTSTART;VALUE=DATE:20261230
DTEND;VALUE=DATE:20261231
DESCRIPTION:
LOCATION:
SUMMARY:Annual Leave (No school for students)
END:VEVENT
BEGIN:VEVENT
DTSTAMP:20260421T165432Z
UID:4dc82495-8f4e-4408-9cff-e9d3990fa6dc
DTSTART;VALUE=DATE:20261231
DTEND;VALUE=DATE:20270101
DESCRIPTION:
LOCATION:
SUMMARY:Annual Leave (No school for students)
END:VEVENT
BEGIN:VEVENT
DTSTAMP:20260421T165432Z
UID:5d3b4871-16c7-4e80-807e-6261b61187e8
DTSTART;VALUE=DATE:20270101
DTEND;VALUE=DATE:20270102
DESCRIPTION:
LOCATION:
SUMMARY:Holiday - New Year's Day (no school for students)
END:VEVENT
BEGIN:VEVENT
DTSTAMP:20260421T165432Z
UID:99a1fd6d-00cc-4ad5-a68b-299e337502c9
DTSTART;VALUE=DATE:20270104
DTEND;VALUE=DATE:20270105
DESCRIPTION:
LOCATION:
SUMMARY:Optional Teacher Workday (No school for students)
END:VEVENT
BEGIN:VEVENT
DTSTAMP:20260421T165432Z
UID:c1994f39-64e7-4c61-a920-38c422bbd3e9
DTSTART;VALUE=DATE:20270118
DTEND;VALUE=DATE:20270119
DESCRIPTION:
LOCATION:
SUMMARY:MLK Holiday (no school for students)
END:VEVENT
BEGIN:VEVENT
DTSTAMP:20260421T165432Z
UID:3b3ac93f-8169-4f41-8a32-8cf9d4bc571e
DTSTART;VALUE=DATE:20270119
DTEND;VALUE=DATE:20270120
DESCRIPTION:
LOCATION:
SUMMARY:Designated Teacher Workday (no school for students)
END:VEVENT
BEGIN:VEVENT
DTSTAMP:20260421T165432Z
UID:44d9a50b-fd65-4cf4-9ba9-a605b0c403fa
DTSTART;VALUE=DATE:20270212
DTEND;VALUE=DATE:20270213
DESCRIPTION:
LOCATION:
SUMMARY:Early Dismissal (students dismiss at 12:40)
END:VEVENT
BEGIN:VEVENT
DTSTAMP:20260421T165432Z
UID:99a633fa-89b3-43d1-8546-3c96443adca8
DTSTART;VALUE=DATE:20270215
DTEND;VALUE=DATE:20270216
DESCRIPTION:
LOCATION:
SUMMARY:Designated Teacher Workday (no school for students)
END:VEVENT
BEGIN:VEVENT
DTSTAMP:20260421T165432Z
UID:cc078896-c62e-4391-9431-07f31979264d
DTSTART;VALUE=DATE:20270322
DTEND;VALUE=DATE:20270323
DESCRIPTION:
LOCATION:
SUMMARY:Annual Leave (no school for students)
END:VEVENT
BEGIN:VEVENT
DTSTAMP:20260421T165432Z
UID:71198c34-ed5e-49bf-a9a0-989c2cea4cd1
DTSTART;VALUE=DATE:20270323
DTEND;VALUE=DATE:20270324
DESCRIPTION:
LOCATION:
SUMMARY:Annual Leave (no school for students)
END:VEVENT
BEGIN:VEVENT
DTSTAMP:20260421T165432Z
UID:c9bb5abb-bbd5-4a69-bbd3-48b511b8d81b
DTSTART;VALUE=DATE:20270324
DTEND;VALUE=DATE:20270327
DESCRIPTION:
LOCATION:
SUMMARY:Spring Break Holiday (No school for students)
END:VEVENT
BEGIN:VEVENT
DTSTAMP:20260421T165432Z
UID:8a643415-51c8-4a1f-9da6-e5a8b7eb8696
DTSTART;VALUE=DATE:20270422
DTEND;VALUE=DATE:20270423
DESCRIPTION:
LOCATION:
SUMMARY:Optional Teacher Workday (no school for students)
END:VEVENT
BEGIN:VEVENT
DTSTAMP:20260421T165432Z
UID:44bec379-8c0c-40b0-9b22-c4c08c31b489
DTSTART;VALUE=DATE:20270423
DTEND;VALUE=DATE:20270424
DESCRIPTION:
LOCATION:
SUMMARY:Optional Teacher Workday (no school for students)
END:VEVENT
BEGIN:VEVENT
DTSTAMP:20260421T165432Z
UID:042dafab-26c5-4504-8d85-0b1239a211ed
DTSTART;VALUE=DATE:20270505
DTEND;VALUE=DATE:20270506
DESCRIPTION:
LOCATION:
SUMMARY:PLC Early Dismissal (no school for students)
END:VEVENT
BEGIN:VEVENT
DTSTAMP:20260421T165432Z
UID:e51153c2-2663-47a5-ad96-8d5bd25898df
DTSTART;VALUE=DATE:20270608
DTEND;VALUE=DATE:20270609
DESCRIPTION:
LOCATION:
SUMMARY:Early Dismissal - Last day for students (students dismiss at 12:40)
END:VEVENT
BEGIN:VEVENT
DTSTAMP:20260421T165432Z
UID:873d1348-d01f-4d25-9f55-2782ed2e2286
DTSTART;VALUE=DATE:20270609
DTEND;VALUE=DATE:20270610
DESCRIPTION:
LOCATION:
SUMMARY:Designated Teacher Workday (no school for students)
END:VEVENT
BEGIN:VEVENT
DTSTAMP:20260421T165432Z
UID:8490b606-6c31-4110-9e3f-149df6297c83
DTSTART;VALUE=DATE:20270610
DTEND;VALUE=DATE:20270611
DESCRIPTION:
LOCATION:
SUMMARY:Optional Teacher Workday (no school for students)
END:VEVENT
BEGIN:VEVENT
DTSTAMP:20260421T165432Z
UID:f160dcfe-caf5-4a19-95d3-09f655dbfa65
DTSTART;VALUE=DATE:20270611
DTEND;VALUE=DATE:20270612
DESCRIPTION:
LOCATION:
SUMMARY:Optional Teacher Workday (no school for students)
END:VEVENT
END:VCALENDAR
