BEGIN:VCALENDAR
VERSION:2.0
PRODID:icalendar-ruby
CALSCALE:GREGORIAN
BEGIN:VTIMEZONE
TZID:America/New_York
BEGIN:DAYLIGHT
DTSTART:20260308T030000
TZOFFSETFROM:-0500
TZOFFSETTO:-0400
RRULE:FREQ=YEARLY;BYDAY=2SU;BYMONTH=3
TZNAME:EDT
END:DAYLIGHT
BEGIN:STANDARD
DTSTART:20261101T010000
TZOFFSETFROM:-0400
TZOFFSETTO:-0500
RRULE:FREQ=YEARLY;BYDAY=1SU;BYMONTH=11
TZNAME:EST
END:STANDARD
END:VTIMEZONE
BEGIN:VEVENT
DTSTAMP:20260421T104629Z
UID:5b198b4b-20ab-484a-b3d6-e8265d01af47
DTSTART;VALUE=DATE:20260421
DTEND;VALUE=DATE:20260425
DESCRIPTION:
LOCATION:
SUMMARY:No School - April Break
END:VEVENT
BEGIN:VEVENT
DTSTAMP:20260421T104629Z
UID:f1c16d76-6aed-499f-aa15-9d6becc883c1
DTSTART;VALUE=DATE:20260504
DTEND;VALUE=DATE:20260509
DESCRIPTION:
LOCATION:
SUMMARY:Teacher Appreciation Week
END:VEVENT
BEGIN:VEVENT
DTSTAMP:20260421T104629Z
UID:bd3b4639-25bd-4781-9d3d-5de188e97867
DTSTART:20260511T090000
DTEND:20260511T120000
DESCRIPTION:
LOCATION:
SUMMARY:MCAS - Grade 4 Math
END:VEVENT
BEGIN:VEVENT
DTSTAMP:20260421T104629Z
UID:aa28c342-f3fc-41f3-b6c1-da50d4d48039
DTSTART:20260512T090000
DTEND:20260512T120000
DESCRIPTION:
LOCATION:
SUMMARY:MCAS - Grade 4 Math
END:VEVENT
BEGIN:VEVENT
DTSTAMP:20260421T104629Z
UID:1074a9ee-cbc5-4efb-9a63-ce24f5c74bc9
DTSTART:20260512T183000
DTEND:20260512T193000
DESCRIPTION:
LOCATION:Frances Zito Room
SUMMARY:ASEPAC Meeting
END:VEVENT
BEGIN:VEVENT
DTSTAMP:20260421T104629Z
UID:97fb7fa5-e8d4-4ae9-8d11-41ecfe67cc80
DTSTART:20260513T090000
DTEND:20260513T120000
DESCRIPTION:
LOCATION:
SUMMARY:MCAS - Grade 3 Math
END:VEVENT
BEGIN:VEVENT
DTSTAMP:20260421T104629Z
UID:399cb7e0-f5a3-4e02-8109-d0360301701d
DTSTART:20260513T180000
DTEND:20260513T190000
DESCRIPTION:
LOCATION:Studley Library
SUMMARY:PTO Meeting
END:VEVENT
BEGIN:VEVENT
DTSTAMP:20260421T104629Z
UID:5b1f0d2c-f271-4df0-b669-0d54f2623ada
DTSTART:20260514T090000
DTEND:20260514T120000
DESCRIPTION:
LOCATION:
SUMMARY:MCAS - Grade 3 Math
END:VEVENT
BEGIN:VEVENT
DTSTAMP:20260421T104629Z
UID:fab8fd34-bbab-4e92-9999-dee57415c5f5
DTSTART:20260515T084500
DTEND:20260515T122500
DESCRIPTION:
LOCATION:
SUMMARY:Student Early Release/Half Day
END:VEVENT
BEGIN:VEVENT
DTSTAMP:20260421T104629Z
UID:6f85fb54-42cd-4bc6-b363-8ec55ac109c8
DTSTART:20260520T173000
DTEND:20260520T183000
DESCRIPTION:
LOCATION:Frances Zito Room
SUMMARY:ELPAC Meeting
END:VEVENT
BEGIN:VEVENT
DTSTAMP:20260421T104629Z
UID:2bb507d3-a5b2-4cf6-8b18-3195fc0fbafc
DTSTART;VALUE=DATE:20260521
DTEND;VALUE=DATE:20260522
DESCRIPTION:
LOCATION:
SUMMARY:Fun Run
END:VEVENT
BEGIN:VEVENT
DTSTAMP:20260421T104629Z
UID:16fc20c1-33f8-4883-9d37-b77af52609c9
DTSTART;VALUE=DATE:20260525
DTEND;VALUE=DATE:20260526
DESCRIPTION:
LOCATION:
SUMMARY:No School - Memorial Day
END:VEVENT
BEGIN:VEVENT
DTSTAMP:20260421T104629Z
UID:7aa45c5d-2071-4f5e-8f24-0c55f38bc89b
DTSTART:20260603T180000
DTEND:20260603T190000
DESCRIPTION:
LOCATION:Studley Library
SUMMARY:PTO Meeting
END:VEVENT
BEGIN:VEVENT
DTSTAMP:20260421T104629Z
UID:ddbe95b7-c923-4be8-b9a6-809107a4ece6
DTSTART:20260604T160000
DTEND:20260604T180000
DESCRIPTION:
LOCATION:Studley Playground
SUMMARY:Family Picnic
END:VEVENT
BEGIN:VEVENT
DTSTAMP:20260421T104629Z
UID:0ddaf5e1-12b3-4c99-9515-5b9eb43fe65c
DTSTART;VALUE=DATE:20260605
DTEND;VALUE=DATE:20260606
DESCRIPTION:
LOCATION:
SUMMARY:Last day of Kindergarten - Aloha Day (if less than 5 snow days)
END:VEVENT
BEGIN:VEVENT
DTSTAMP:20260421T104629Z
UID:37b67c11-5e10-48aa-b88d-75d919682251
DTSTART;VALUE=DATE:20260616
DTEND;VALUE=DATE:20260617
DESCRIPTION:
LOCATION:
SUMMARY:Field Day
END:VEVENT
BEGIN:VEVENT
DTSTAMP:20260421T104629Z
UID:ac25cfed-f915-4c4b-ab2d-f9e0a1c8a254
DTSTART;VALUE=DATE:20260619
DTEND;VALUE=DATE:20260620
DESCRIPTION:
LOCATION:
SUMMARY:No School - Juneteenth
END:VEVENT
BEGIN:VEVENT
DTSTAMP:20260421T104629Z
UID:ccbb2e46-2851-46e5-ad20-5a3fdc0d63a6
DTSTART;VALUE=DATE:20260626
DTEND;VALUE=DATE:20260627
DESCRIPTION:
LOCATION:
SUMMARY:Early Release - Last Day (1-11)
END:VEVENT
BEGIN:VEVENT
DTSTAMP:20260421T104629Z
UID:daaa9e57-c5ab-4438-a269-b40c5020f7a5
DTSTART;VALUE=DATE:20261111
DTEND;VALUE=DATE:20261112
DESCRIPTION:
LOCATION:
SUMMARY:No School - Veterans' Day
END:VEVENT
BEGIN:VEVENT
DTSTAMP:20260421T104629Z
UID:ac5f38cb-24cb-4a2f-89f3-58646fdaf936
DTSTART;VALUE=DATE:20270101
DTEND;VALUE=DATE:20270102
DESCRIPTION:
LOCATION:
SUMMARY:No School - New Year's Day
END:VEVENT
BEGIN:VEVENT
DTSTAMP:20260421T104629Z
UID:6efc0da8-2fc9-4386-8af0-9a8dfeffcdae
DTSTART;VALUE=DATE:20270619
DTEND;VALUE=DATE:20270620
DESCRIPTION:
LOCATION:
SUMMARY:No School - Juneteenth
END:VEVENT
BEGIN:VEVENT
DTSTAMP:20260421T104629Z
UID:6af687ec-4684-4ee3-9fc2-fb552553e52b
DTSTART;VALUE=DATE:20271111
DTEND;VALUE=DATE:20271112
DESCRIPTION:
LOCATION:
SUMMARY:No School - Veterans' Day
END:VEVENT
BEGIN:VEVENT
DTSTAMP:20260421T104629Z
UID:5dd7622d-5d5a-4178-9d0c-cdc58b7bed87
DTSTART;VALUE=DATE:20280101
DTEND;VALUE=DATE:20280102
DESCRIPTION:
LOCATION:
SUMMARY:No School - New Year's Day
END:VEVENT
BEGIN:VEVENT
DTSTAMP:20260421T104629Z
UID:22afc0f6-796b-4f74-910b-684eda37f2fc
DTSTART;VALUE=DATE:20280619
DTEND;VALUE=DATE:20280620
DESCRIPTION:
LOCATION:
SUMMARY:No School - Juneteenth
END:VEVENT
END:VCALENDAR
