BEGIN:VCALENDAR
VERSION:2.0
PRODID:icalendar-ruby
CALSCALE:GREGORIAN
BEGIN:VTIMEZONE
TZID:America/New_York
BEGIN:DAYLIGHT
DTSTART:20260308T030000
TZOFFSETFROM:-0500
TZOFFSETTO:-0400
RRULE:FREQ=YEARLY;BYDAY=2SU;BYMONTH=3
TZNAME:EDT
END:DAYLIGHT
BEGIN:STANDARD
DTSTART:20261101T010000
TZOFFSETFROM:-0400
TZOFFSETTO:-0500
RRULE:FREQ=YEARLY;BYDAY=1SU;BYMONTH=11
TZNAME:EST
END:STANDARD
END:VTIMEZONE
BEGIN:VEVENT
DTSTAMP:20260423T142305Z
UID:393abe0b-dac3-48c5-a350-ce72b014f988
DTSTART;VALUE=DATE:20260421
DTEND;VALUE=DATE:20260425
DESCRIPTION:
LOCATION:
SUMMARY:No School - April Break
END:VEVENT
BEGIN:VEVENT
DTSTAMP:20260423T142305Z
UID:c36f14ca-3fde-43fe-aec6-4784c25eb087
DTSTART:20260504T183000
DTEND:20260504T193000
DESCRIPTION:
LOCATION:
SUMMARY:PTO Meeting
END:VEVENT
BEGIN:VEVENT
DTSTAMP:20260423T142305Z
UID:d57542c4-fe26-4ff8-b97f-d61339379742
DTSTART;VALUE=DATE:20260515
DTEND;VALUE=DATE:20260516
DESCRIPTION:
LOCATION:
SUMMARY:ELC Only No School
END:VEVENT
BEGIN:VEVENT
DTSTAMP:20260423T142305Z
UID:7348fb3b-5215-4bfd-86bb-41dae895feef
DTSTART;VALUE=DATE:20260525
DTEND;VALUE=DATE:20260526
DESCRIPTION:
LOCATION:
SUMMARY:No School - Memorial Day
END:VEVENT
BEGIN:VEVENT
DTSTAMP:20260423T142305Z
UID:42548b0e-5fa7-4db9-b80d-0016f40edcac
DTSTART:20260601T183000
DTEND:20260601T190000
DESCRIPTION:
LOCATION:
SUMMARY:PTO Meeting
END:VEVENT
BEGIN:VEVENT
DTSTAMP:20260423T142305Z
UID:70e7b515-ff84-4961-84c3-2d526162073a
DTSTART;VALUE=DATE:20260619
DTEND;VALUE=DATE:20260620
DESCRIPTION:
LOCATION:
SUMMARY:No School - Juneteenth
END:VEVENT
BEGIN:VEVENT
DTSTAMP:20260423T142305Z
UID:e0bc9e07-a804-4124-a1ff-db40e6f9a58d
DTSTART;VALUE=DATE:20261111
DTEND;VALUE=DATE:20261112
DESCRIPTION:
LOCATION:
SUMMARY:No School - Veterans' Day
END:VEVENT
BEGIN:VEVENT
DTSTAMP:20260423T142305Z
UID:01be894c-ffba-4bb5-93e3-665274aa8c6f
DTSTART;VALUE=DATE:20270101
DTEND;VALUE=DATE:20270102
DESCRIPTION:
LOCATION:
SUMMARY:No School - New Year's Day
END:VEVENT
BEGIN:VEVENT
DTSTAMP:20260423T142305Z
UID:3cd95456-eccb-4b34-9f95-175878883ef4
DTSTART;VALUE=DATE:20270619
DTEND;VALUE=DATE:20270620
DESCRIPTION:
LOCATION:
SUMMARY:No School - Juneteenth
END:VEVENT
BEGIN:VEVENT
DTSTAMP:20260423T142305Z
UID:948e61dc-2c72-47e2-9eb3-d1d397803fe5
DTSTART;VALUE=DATE:20271111
DTEND;VALUE=DATE:20271112
DESCRIPTION:
LOCATION:
SUMMARY:No School - Veterans' Day
END:VEVENT
BEGIN:VEVENT
DTSTAMP:20260423T142305Z
UID:2fd2ad9c-de9a-4dc6-b46a-f17981784e5a
DTSTART;VALUE=DATE:20280101
DTEND;VALUE=DATE:20280102
DESCRIPTION:
LOCATION:
SUMMARY:No School - New Year's Day
END:VEVENT
BEGIN:VEVENT
DTSTAMP:20260423T142305Z
UID:373abfeb-e5a7-4a9f-b414-40ad94eb45f7
DTSTART;VALUE=DATE:20280619
DTEND;VALUE=DATE:20280620
DESCRIPTION:
LOCATION:
SUMMARY:No School - Juneteenth
END:VEVENT
END:VCALENDAR
