BEGIN:VCALENDAR
VERSION:2.0
PRODID:icalendar-ruby
CALSCALE:GREGORIAN
BEGIN:VTIMEZONE
TZID:America/New_York
BEGIN:DAYLIGHT
DTSTART:20260308T030000
TZOFFSETFROM:-0500
TZOFFSETTO:-0400
RRULE:FREQ=YEARLY;BYDAY=2SU;BYMONTH=3
TZNAME:EDT
END:DAYLIGHT
BEGIN:STANDARD
DTSTART:20261101T010000
TZOFFSETFROM:-0400
TZOFFSETTO:-0500
RRULE:FREQ=YEARLY;BYDAY=1SU;BYMONTH=11
TZNAME:EST
END:STANDARD
END:VTIMEZONE
BEGIN:VEVENT
DTSTAMP:20260424T050848Z
UID:e3c42f7c-817d-45c4-a0d5-d037700278bf
DTSTART;VALUE=DATE:20260427
DTEND;VALUE=DATE:20260428
DESCRIPTION:<p>Please call the office to make an appointment. 828-232-4291<
 /p>
LOCATION:
SUMMARY:Kindergarten Enrollment
END:VEVENT
BEGIN:VEVENT
DTSTAMP:20260424T050848Z
UID:01761bfe-977d-4f19-b94b-68367f8a6c26
DTSTART:20260504T173000
DTEND:20260504T183000
DESCRIPTION:<p>Come by and learn about Kindergarten and get your questions 
 answered. </p>
LOCATION:
SUMMARY:Kindergarten Orientation
END:VEVENT
END:VCALENDAR
