BEGIN:VCALENDAR
VERSION:2.0
PRODID:icalendar-ruby
CALSCALE:GREGORIAN
BEGIN:VTIMEZONE
TZID:America/New_York
BEGIN:DAYLIGHT
DTSTART:20260308T030000
TZOFFSETFROM:-0500
TZOFFSETTO:-0400
RRULE:FREQ=YEARLY;BYDAY=2SU;BYMONTH=3
TZNAME:EDT
END:DAYLIGHT
BEGIN:STANDARD
DTSTART:20261101T010000
TZOFFSETFROM:-0400
TZOFFSETTO:-0500
RRULE:FREQ=YEARLY;BYDAY=1SU;BYMONTH=11
TZNAME:EST
END:STANDARD
END:VTIMEZONE
BEGIN:VEVENT
DTSTAMP:20260421T130224Z
UID:5efb137f-834a-436c-aa01-8ebe7a94a71d
DTSTART;VALUE=DATE:20261111
DTEND;VALUE=DATE:20261112
DESCRIPTION:
LOCATION:
SUMMARY:Veteran's Day-No School
END:VEVENT
BEGIN:VEVENT
DTSTAMP:20260421T130224Z
UID:1516270b-732a-42b9-9e95-03e4fb34166f
DTSTART;VALUE=DATE:20271111
DTEND;VALUE=DATE:20271112
DESCRIPTION:
LOCATION:
SUMMARY:Veteran's Day-No School
END:VEVENT
BEGIN:VEVENT
DTSTAMP:20260421T130224Z
UID:6847e697-e92e-4267-a47b-b01d9e1a2398
DTSTART;VALUE=DATE:20281111
DTEND;VALUE=DATE:20281112
DESCRIPTION:
LOCATION:
SUMMARY:Veteran's Day-No School
END:VEVENT
BEGIN:VEVENT
DTSTAMP:20260421T130224Z
UID:dcd14c21-c392-4047-96ca-5c770c25fa47
DTSTART;VALUE=DATE:20291111
DTEND;VALUE=DATE:20291112
DESCRIPTION:
LOCATION:
SUMMARY:Veteran's Day-No School
END:VEVENT
BEGIN:VEVENT
DTSTAMP:20260421T130224Z
UID:58da216f-cbe8-438b-861f-4324f81e70d1
DTSTART;VALUE=DATE:20301111
DTEND;VALUE=DATE:20301112
DESCRIPTION:
LOCATION:
SUMMARY:Veteran's Day-No School
END:VEVENT
BEGIN:VEVENT
DTSTAMP:20260421T130224Z
UID:c889a3ee-24d2-4882-8653-52c2eaee930c
DTSTART;VALUE=DATE:20311111
DTEND;VALUE=DATE:20311112
DESCRIPTION:
LOCATION:
SUMMARY:Veteran's Day-No School
END:VEVENT
BEGIN:VEVENT
DTSTAMP:20260421T130224Z
UID:54ea40ef-bf1f-4262-a646-41a84575becc
DTSTART;VALUE=DATE:20321111
DTEND;VALUE=DATE:20321112
DESCRIPTION:
LOCATION:
SUMMARY:Veteran's Day-No School
END:VEVENT
BEGIN:VEVENT
DTSTAMP:20260421T130224Z
UID:0b1d4ba9-6ad6-4b4a-98cb-7200e645b16e
DTSTART;VALUE=DATE:20331111
DTEND;VALUE=DATE:20331112
DESCRIPTION:
LOCATION:
SUMMARY:Veteran's Day-No School
END:VEVENT
BEGIN:VEVENT
DTSTAMP:20260421T130224Z
UID:fe579e6c-a1df-4762-bacb-6432c1a6a7d4
DTSTART;VALUE=DATE:20341111
DTEND;VALUE=DATE:20341112
DESCRIPTION:
LOCATION:
SUMMARY:Veteran's Day-No School
END:VEVENT
BEGIN:VEVENT
DTSTAMP:20260421T130224Z
UID:54f29801-7c57-4759-bde7-4ef2d1eec03e
DTSTART;VALUE=DATE:20351111
DTEND;VALUE=DATE:20351112
DESCRIPTION:
LOCATION:
SUMMARY:Veteran's Day-No School
END:VEVENT
BEGIN:VEVENT
DTSTAMP:20260421T130224Z
UID:49a962ca-acb1-4628-b0d8-957b99aa7af5
DTSTART;VALUE=DATE:20361111
DTEND;VALUE=DATE:20361112
DESCRIPTION:
LOCATION:
SUMMARY:Veteran's Day-No School
END:VEVENT
BEGIN:VEVENT
DTSTAMP:20260421T130224Z
UID:aeb1afb4-4e07-4940-8b4f-e9810cdc8cb1
DTSTART;VALUE=DATE:20371111
DTEND;VALUE=DATE:20371112
DESCRIPTION:
LOCATION:
SUMMARY:Veteran's Day-No School
END:VEVENT
BEGIN:VEVENT
DTSTAMP:20260421T130224Z
UID:2661ffa2-1535-4b60-92b5-584b8920d461
DTSTART;VALUE=DATE:20381111
DTEND;VALUE=DATE:20381112
DESCRIPTION:
LOCATION:
SUMMARY:Veteran's Day-No School
END:VEVENT
BEGIN:VEVENT
DTSTAMP:20260421T130224Z
UID:1cd61f05-d1af-4f2a-951b-a2da5670d63e
DTSTART;VALUE=DATE:20391111
DTEND;VALUE=DATE:20391112
DESCRIPTION:
LOCATION:
SUMMARY:Veteran's Day-No School
END:VEVENT
BEGIN:VEVENT
DTSTAMP:20260421T130224Z
UID:486287c7-13d1-4704-b61f-af2f4c6befa9
DTSTART;VALUE=DATE:20401111
DTEND;VALUE=DATE:20401112
DESCRIPTION:
LOCATION:
SUMMARY:Veteran's Day-No School
END:VEVENT
BEGIN:VEVENT
DTSTAMP:20260421T130224Z
UID:6b5dd9ea-c8ed-4e6c-abaf-325a9eb52c2e
DTSTART;VALUE=DATE:20411111
DTEND;VALUE=DATE:20411112
DESCRIPTION:
LOCATION:
SUMMARY:Veteran's Day-No School
END:VEVENT
BEGIN:VEVENT
DTSTAMP:20260421T130224Z
UID:788fac61-0637-4bd3-8638-b43b2a7d3014
DTSTART;VALUE=DATE:20421111
DTEND;VALUE=DATE:20421112
DESCRIPTION:
LOCATION:
SUMMARY:Veteran's Day-No School
END:VEVENT
BEGIN:VEVENT
DTSTAMP:20260421T130224Z
UID:66ae7910-40d6-4ac7-b16a-0a4aa7ff9d7b
DTSTART;VALUE=DATE:20431111
DTEND;VALUE=DATE:20431112
DESCRIPTION:
LOCATION:
SUMMARY:Veteran's Day-No School
END:VEVENT
BEGIN:VEVENT
DTSTAMP:20260421T130224Z
UID:4cd92cc0-3834-4a9c-be73-e6aba818f8a8
DTSTART;VALUE=DATE:20441111
DTEND;VALUE=DATE:20441112
DESCRIPTION:
LOCATION:
SUMMARY:Veteran's Day-No School
END:VEVENT
BEGIN:VEVENT
DTSTAMP:20260421T130224Z
UID:c3602ccb-631f-4c4b-8f1f-aba76286f79c
DTSTART;VALUE=DATE:20451111
DTEND;VALUE=DATE:20451112
DESCRIPTION:
LOCATION:
SUMMARY:Veteran's Day-No School
END:VEVENT
BEGIN:VEVENT
DTSTAMP:20260421T130224Z
UID:5d648790-3eca-40ac-8283-d72503ca9e80
DTSTART;VALUE=DATE:20461111
DTEND;VALUE=DATE:20461112
DESCRIPTION:
LOCATION:
SUMMARY:Veteran's Day-No School
END:VEVENT
BEGIN:VEVENT
DTSTAMP:20260421T130224Z
UID:f57c4646-1d0e-4cb8-aa5b-e82599fce43c
DTSTART;VALUE=DATE:20471111
DTEND;VALUE=DATE:20471112
DESCRIPTION:
LOCATION:
SUMMARY:Veteran's Day-No School
END:VEVENT
BEGIN:VEVENT
DTSTAMP:20260421T130224Z
UID:35854631-8b3c-4097-b966-a995b43c683e
DTSTART;VALUE=DATE:20481111
DTEND;VALUE=DATE:20481112
DESCRIPTION:
LOCATION:
SUMMARY:Veteran's Day-No School
END:VEVENT
BEGIN:VEVENT
DTSTAMP:20260421T130224Z
UID:fc19b71f-de6e-4cc8-b536-be9c1d26b426
DTSTART;VALUE=DATE:20491111
DTEND;VALUE=DATE:20491112
DESCRIPTION:
LOCATION:
SUMMARY:Veteran's Day-No School
END:VEVENT
BEGIN:VEVENT
DTSTAMP:20260421T130224Z
UID:83b19d2d-e64b-49aa-b351-cc64c15700af
DTSTART;VALUE=DATE:20501111
DTEND;VALUE=DATE:20501112
DESCRIPTION:
LOCATION:
SUMMARY:Veteran's Day-No School
END:VEVENT
BEGIN:VEVENT
DTSTAMP:20260421T130224Z
UID:ce1741a1-7e08-4217-9f8d-74aa8eb666cb
DTSTART;VALUE=DATE:20511111
DTEND;VALUE=DATE:20511112
DESCRIPTION:
LOCATION:
SUMMARY:Veteran's Day-No School
END:VEVENT
BEGIN:VEVENT
DTSTAMP:20260421T130224Z
UID:e26f715e-6f53-496d-a1cc-848efe529d68
DTSTART;VALUE=DATE:20521111
DTEND;VALUE=DATE:20521112
DESCRIPTION:
LOCATION:
SUMMARY:Veteran's Day-No School
END:VEVENT
BEGIN:VEVENT
DTSTAMP:20260421T130224Z
UID:1242f67f-0a55-45b9-9347-b3097a786a23
DTSTART;VALUE=DATE:20531111
DTEND;VALUE=DATE:20531112
DESCRIPTION:
LOCATION:
SUMMARY:Veteran's Day-No School
END:VEVENT
BEGIN:VEVENT
DTSTAMP:20260421T130224Z
UID:12a0e916-65e6-4b52-b379-ed338eadd3fc
DTSTART;VALUE=DATE:20541111
DTEND;VALUE=DATE:20541112
DESCRIPTION:
LOCATION:
SUMMARY:Veteran's Day-No School
END:VEVENT
BEGIN:VEVENT
DTSTAMP:20260421T130224Z
UID:cf45166b-3f9a-4992-88a6-019e916e5a25
DTSTART;VALUE=DATE:20551111
DTEND;VALUE=DATE:20551112
DESCRIPTION:
LOCATION:
SUMMARY:Veteran's Day-No School
END:VEVENT
BEGIN:VEVENT
DTSTAMP:20260421T130224Z
UID:8e8aa5a6-cd7d-48c1-b2b9-20824df4ddbe
DTSTART;VALUE=DATE:20561111
DTEND;VALUE=DATE:20561112
DESCRIPTION:
LOCATION:
SUMMARY:Veteran's Day-No School
END:VEVENT
BEGIN:VEVENT
DTSTAMP:20260421T130224Z
UID:6df98562-d038-4b79-811b-86b58aa6065c
DTSTART;VALUE=DATE:20571111
DTEND;VALUE=DATE:20571112
DESCRIPTION:
LOCATION:
SUMMARY:Veteran's Day-No School
END:VEVENT
BEGIN:VEVENT
DTSTAMP:20260421T130224Z
UID:ea61fb6b-19e4-447f-95e8-33e554a4264b
DTSTART;VALUE=DATE:20581111
DTEND;VALUE=DATE:20581112
DESCRIPTION:
LOCATION:
SUMMARY:Veteran's Day-No School
END:VEVENT
BEGIN:VEVENT
DTSTAMP:20260421T130224Z
UID:817f7a06-efae-4091-8eb8-33549595a900
DTSTART;VALUE=DATE:20591111
DTEND;VALUE=DATE:20591112
DESCRIPTION:
LOCATION:
SUMMARY:Veteran's Day-No School
END:VEVENT
BEGIN:VEVENT
DTSTAMP:20260421T130224Z
UID:b613f576-84ed-45ce-add4-22d72ed7fcca
DTSTART;VALUE=DATE:20601111
DTEND;VALUE=DATE:20601112
DESCRIPTION:
LOCATION:
SUMMARY:Veteran's Day-No School
END:VEVENT
BEGIN:VEVENT
DTSTAMP:20260421T130224Z
UID:bc48b6da-63ab-4641-8bf5-09daef0cf677
DTSTART;VALUE=DATE:20611111
DTEND;VALUE=DATE:20611112
DESCRIPTION:
LOCATION:
SUMMARY:Veteran's Day-No School
END:VEVENT
BEGIN:VEVENT
DTSTAMP:20260421T130224Z
UID:d73300e8-6ee2-4c52-9194-3e2468a4d59b
DTSTART;VALUE=DATE:20621111
DTEND;VALUE=DATE:20621112
DESCRIPTION:
LOCATION:
SUMMARY:Veteran's Day-No School
END:VEVENT
BEGIN:VEVENT
DTSTAMP:20260421T130224Z
UID:0875b337-f218-49e9-8710-22cb141e2dd3
DTSTART;VALUE=DATE:20631111
DTEND;VALUE=DATE:20631112
DESCRIPTION:
LOCATION:
SUMMARY:Veteran's Day-No School
END:VEVENT
BEGIN:VEVENT
DTSTAMP:20260421T130224Z
UID:c1d538e8-4a2a-46fd-9aeb-5328f667edf7
DTSTART;VALUE=DATE:20641111
DTEND;VALUE=DATE:20641112
DESCRIPTION:
LOCATION:
SUMMARY:Veteran's Day-No School
END:VEVENT
BEGIN:VEVENT
DTSTAMP:20260421T130224Z
UID:073d1b8d-6dbf-4dfa-ae12-adddd9fa3e36
DTSTART;VALUE=DATE:20651111
DTEND;VALUE=DATE:20651112
DESCRIPTION:
LOCATION:
SUMMARY:Veteran's Day-No School
END:VEVENT
BEGIN:VEVENT
DTSTAMP:20260421T130224Z
UID:54349a66-6e42-4bfd-a680-c964dbe2cb57
DTSTART;VALUE=DATE:20661111
DTEND;VALUE=DATE:20661112
DESCRIPTION:
LOCATION:
SUMMARY:Veteran's Day-No School
END:VEVENT
BEGIN:VEVENT
DTSTAMP:20260421T130224Z
UID:30b79fef-a46f-425e-b598-046d574754a3
DTSTART;VALUE=DATE:20671111
DTEND;VALUE=DATE:20671112
DESCRIPTION:
LOCATION:
SUMMARY:Veteran's Day-No School
END:VEVENT
BEGIN:VEVENT
DTSTAMP:20260421T130224Z
UID:e7c603e0-921b-4e37-9550-2ce2841ea3c9
DTSTART;VALUE=DATE:20681111
DTEND;VALUE=DATE:20681112
DESCRIPTION:
LOCATION:
SUMMARY:Veteran's Day-No School
END:VEVENT
BEGIN:VEVENT
DTSTAMP:20260421T130224Z
UID:d402f295-3dee-493e-8263-2877eddaa6b2
DTSTART;VALUE=DATE:20691111
DTEND;VALUE=DATE:20691112
DESCRIPTION:
LOCATION:
SUMMARY:Veteran's Day-No School
END:VEVENT
BEGIN:VEVENT
DTSTAMP:20260421T130224Z
UID:49911ce2-225b-467c-9fb2-84266ac840c3
DTSTART;VALUE=DATE:20701111
DTEND;VALUE=DATE:20701112
DESCRIPTION:
LOCATION:
SUMMARY:Veteran's Day-No School
END:VEVENT
BEGIN:VEVENT
DTSTAMP:20260421T130224Z
UID:bc41d900-318f-4273-a261-ce07ee05c1ac
DTSTART;VALUE=DATE:20711111
DTEND;VALUE=DATE:20711112
DESCRIPTION:
LOCATION:
SUMMARY:Veteran's Day-No School
END:VEVENT
BEGIN:VEVENT
DTSTAMP:20260421T130224Z
UID:f1c18920-e068-4cad-982f-0c1c72272a2b
DTSTART;VALUE=DATE:20721111
DTEND;VALUE=DATE:20721112
DESCRIPTION:
LOCATION:
SUMMARY:Veteran's Day-No School
END:VEVENT
BEGIN:VEVENT
DTSTAMP:20260421T130224Z
UID:4a2db18a-7721-4fad-90e4-8f9efc567fc2
DTSTART;VALUE=DATE:20731111
DTEND;VALUE=DATE:20731112
DESCRIPTION:
LOCATION:
SUMMARY:Veteran's Day-No School
END:VEVENT
BEGIN:VEVENT
DTSTAMP:20260421T130224Z
UID:a55d2b13-74e1-4a90-a6d2-58575d6828d9
DTSTART;VALUE=DATE:20741111
DTEND;VALUE=DATE:20741112
DESCRIPTION:
LOCATION:
SUMMARY:Veteran's Day-No School
END:VEVENT
BEGIN:VEVENT
DTSTAMP:20260421T130224Z
UID:fce6df34-1cac-45a3-86fa-835875a8a993
DTSTART;VALUE=DATE:20751111
DTEND;VALUE=DATE:20751112
DESCRIPTION:
LOCATION:
SUMMARY:Veteran's Day-No School
END:VEVENT
BEGIN:VEVENT
DTSTAMP:20260421T130224Z
UID:70bab94c-68e8-49c4-9aa7-599fe8a735f5
DTSTART;VALUE=DATE:20761111
DTEND;VALUE=DATE:20761112
DESCRIPTION:
LOCATION:
SUMMARY:Veteran's Day-No School
END:VEVENT
BEGIN:VEVENT
DTSTAMP:20260421T130224Z
UID:bd7c049f-387e-48a9-bbac-e6e01eba32f6
DTSTART;VALUE=DATE:20771111
DTEND;VALUE=DATE:20771112
DESCRIPTION:
LOCATION:
SUMMARY:Veteran's Day-No School
END:VEVENT
BEGIN:VEVENT
DTSTAMP:20260421T130224Z
UID:a765534d-d106-4fc3-9128-49b65535146a
DTSTART;VALUE=DATE:20781111
DTEND;VALUE=DATE:20781112
DESCRIPTION:
LOCATION:
SUMMARY:Veteran's Day-No School
END:VEVENT
BEGIN:VEVENT
DTSTAMP:20260421T130224Z
UID:984e53b2-e0da-4551-9ab2-9ab7e1761632
DTSTART;VALUE=DATE:20791111
DTEND;VALUE=DATE:20791112
DESCRIPTION:
LOCATION:
SUMMARY:Veteran's Day-No School
END:VEVENT
BEGIN:VEVENT
DTSTAMP:20260421T130224Z
UID:e9572e1a-c572-4f49-a6e1-7691dc0d97d4
DTSTART;VALUE=DATE:20801111
DTEND;VALUE=DATE:20801112
DESCRIPTION:
LOCATION:
SUMMARY:Veteran's Day-No School
END:VEVENT
BEGIN:VEVENT
DTSTAMP:20260421T130224Z
UID:9b31d73b-f062-4066-992d-7e691d255d08
DTSTART;VALUE=DATE:20811111
DTEND;VALUE=DATE:20811112
DESCRIPTION:
LOCATION:
SUMMARY:Veteran's Day-No School
END:VEVENT
BEGIN:VEVENT
DTSTAMP:20260421T130224Z
UID:302dc233-c4ed-4f28-bfb4-e27563ea2761
DTSTART;VALUE=DATE:20821111
DTEND;VALUE=DATE:20821112
DESCRIPTION:
LOCATION:
SUMMARY:Veteran's Day-No School
END:VEVENT
BEGIN:VEVENT
DTSTAMP:20260421T130224Z
UID:1af08a38-82b1-483f-8796-b14d09ef21c1
DTSTART;VALUE=DATE:20831111
DTEND;VALUE=DATE:20831112
DESCRIPTION:
LOCATION:
SUMMARY:Veteran's Day-No School
END:VEVENT
BEGIN:VEVENT
DTSTAMP:20260421T130224Z
UID:3cda8f3d-8f5a-4aae-b55d-40ff886f2e3e
DTSTART;VALUE=DATE:20841111
DTEND;VALUE=DATE:20841112
DESCRIPTION:
LOCATION:
SUMMARY:Veteran's Day-No School
END:VEVENT
BEGIN:VEVENT
DTSTAMP:20260421T130224Z
UID:771353a3-b3a3-4614-b3ed-b9612de1b412
DTSTART;VALUE=DATE:20851111
DTEND;VALUE=DATE:20851112
DESCRIPTION:
LOCATION:
SUMMARY:Veteran's Day-No School
END:VEVENT
BEGIN:VEVENT
DTSTAMP:20260421T130224Z
UID:59a9b852-0cd9-43ef-a246-945845cfe9c2
DTSTART;VALUE=DATE:20861111
DTEND;VALUE=DATE:20861112
DESCRIPTION:
LOCATION:
SUMMARY:Veteran's Day-No School
END:VEVENT
BEGIN:VEVENT
DTSTAMP:20260421T130224Z
UID:375a0571-2c96-402e-be70-26fe18f218c5
DTSTART;VALUE=DATE:20871111
DTEND;VALUE=DATE:20871112
DESCRIPTION:
LOCATION:
SUMMARY:Veteran's Day-No School
END:VEVENT
BEGIN:VEVENT
DTSTAMP:20260421T130224Z
UID:b0e96c1a-3af8-4312-a461-bfbe5eed25e0
DTSTART;VALUE=DATE:20881111
DTEND;VALUE=DATE:20881112
DESCRIPTION:
LOCATION:
SUMMARY:Veteran's Day-No School
END:VEVENT
BEGIN:VEVENT
DTSTAMP:20260421T130224Z
UID:9c0d5f5f-7a04-4b07-a6c0-93958bcb9313
DTSTART;VALUE=DATE:20891111
DTEND;VALUE=DATE:20891112
DESCRIPTION:
LOCATION:
SUMMARY:Veteran's Day-No School
END:VEVENT
BEGIN:VEVENT
DTSTAMP:20260421T130224Z
UID:f5e54a6b-b8ea-4e95-a8b2-a3db6cc59f33
DTSTART;VALUE=DATE:20901111
DTEND;VALUE=DATE:20901112
DESCRIPTION:
LOCATION:
SUMMARY:Veteran's Day-No School
END:VEVENT
BEGIN:VEVENT
DTSTAMP:20260421T130224Z
UID:5668fae0-86d5-40a2-b67d-fb9e132ac18c
DTSTART;VALUE=DATE:20911111
DTEND;VALUE=DATE:20911112
DESCRIPTION:
LOCATION:
SUMMARY:Veteran's Day-No School
END:VEVENT
BEGIN:VEVENT
DTSTAMP:20260421T130224Z
UID:d47e6144-feb7-4c62-a43d-534044153d68
DTSTART;VALUE=DATE:20921111
DTEND;VALUE=DATE:20921112
DESCRIPTION:
LOCATION:
SUMMARY:Veteran's Day-No School
END:VEVENT
BEGIN:VEVENT
DTSTAMP:20260421T130224Z
UID:8fb33a07-62ed-4216-a7db-015c15df4b63
DTSTART;VALUE=DATE:20931111
DTEND;VALUE=DATE:20931112
DESCRIPTION:
LOCATION:
SUMMARY:Veteran's Day-No School
END:VEVENT
BEGIN:VEVENT
DTSTAMP:20260421T130224Z
UID:906322f9-2fa5-4a4f-8fc2-256138950ca5
DTSTART;VALUE=DATE:20941111
DTEND;VALUE=DATE:20941112
DESCRIPTION:
LOCATION:
SUMMARY:Veteran's Day-No School
END:VEVENT
BEGIN:VEVENT
DTSTAMP:20260421T130224Z
UID:0313499f-bb52-4a04-afd2-c5b7374076c4
DTSTART;VALUE=DATE:20951111
DTEND;VALUE=DATE:20951112
DESCRIPTION:
LOCATION:
SUMMARY:Veteran's Day-No School
END:VEVENT
BEGIN:VEVENT
DTSTAMP:20260421T130224Z
UID:69a4745a-c8c2-4ebe-be61-f35bb7f1c9e8
DTSTART;VALUE=DATE:20961111
DTEND;VALUE=DATE:20961112
DESCRIPTION:
LOCATION:
SUMMARY:Veteran's Day-No School
END:VEVENT
BEGIN:VEVENT
DTSTAMP:20260421T130224Z
UID:1e439e1f-afb3-4402-bfd8-91c950565d29
DTSTART;VALUE=DATE:20971111
DTEND;VALUE=DATE:20971112
DESCRIPTION:
LOCATION:
SUMMARY:Veteran's Day-No School
END:VEVENT
BEGIN:VEVENT
DTSTAMP:20260421T130224Z
UID:b1e2a0d4-614a-426b-b305-0a06c5c6a667
DTSTART;VALUE=DATE:20981111
DTEND;VALUE=DATE:20981112
DESCRIPTION:
LOCATION:
SUMMARY:Veteran's Day-No School
END:VEVENT
BEGIN:VEVENT
DTSTAMP:20260421T130224Z
UID:11c5204f-de26-4b25-a7ef-a7b9e6dfd80c
DTSTART;VALUE=DATE:20991111
DTEND;VALUE=DATE:20991112
DESCRIPTION:
LOCATION:
SUMMARY:Veteran's Day-No School
END:VEVENT
END:VCALENDAR
