BEGIN:VCALENDAR
VERSION:2.0
PRODID:icalendar-ruby
CALSCALE:GREGORIAN
BEGIN:VTIMEZONE
TZID:America/Chicago
BEGIN:DAYLIGHT
DTSTART:20260308T030000
TZOFFSETFROM:-0600
TZOFFSETTO:-0500
RRULE:FREQ=YEARLY;BYDAY=2SU;BYMONTH=3
TZNAME:CDT
END:DAYLIGHT
BEGIN:STANDARD
DTSTART:20261101T010000
TZOFFSETFROM:-0500
TZOFFSETTO:-0600
RRULE:FREQ=YEARLY;BYDAY=1SU;BYMONTH=11
TZNAME:CST
END:STANDARD
END:VTIMEZONE
BEGIN:VEVENT
DTSTAMP:20260419T220458Z
UID:8eb8ef82-a53e-4e84-af13-d85e5ec298b9
DTSTART:20260514T090000
DTEND:20260514T103000
DESCRIPTION:<p>SR awards for the Class of 2026</p>
LOCATION:Auditorium 
SUMMARY:HS Class Day
END:VEVENT
BEGIN:VEVENT
DTSTAMP:20260419T220458Z
UID:16d512d8-eb61-4a3b-b0a6-87ca3670d609
DTSTART:20260515T080000
DTEND:20260515T090000
DESCRIPTION:
LOCATION:
SUMMARY:Emergency Day- if not used- NO SCHOOL
END:VEVENT
BEGIN:VEVENT
DTSTAMP:20260419T220458Z
UID:f80be98f-de76-4627-9635-49169d74c547
DTSTART:20260517T130000
DTEND:20260517T140000
DESCRIPTION:
LOCATION:HS Gym
SUMMARY:HS Graduation
END:VEVENT
BEGIN:VEVENT
DTSTAMP:20260419T220458Z
UID:4f17ad7d-03f2-41b6-928d-3bef2bcb50f3
DTSTART:20260519T080000
DTEND:20260519T141500
DESCRIPTION:
LOCATION:
SUMMARY:Early Dismissal (2:15 PM) for HS Final Exams
END:VEVENT
BEGIN:VEVENT
DTSTAMP:20260419T220458Z
UID:a6a23977-591a-498c-a6ba-11ad9ecca85e
DTSTART:20260520T080000
DTEND:20260520T141500
DESCRIPTION:
LOCATION:
SUMMARY:Early Dismissal (2:15 PM) for HS Final Exams
END:VEVENT
BEGIN:VEVENT
DTSTAMP:20260419T220458Z
UID:908d5155-e107-407b-a311-dbde1906c3ca
DTSTART:20260522T080000
DTEND:20260522T090000
DESCRIPTION:
LOCATION:
SUMMARY:Emergency Day- if not used- NO SCHOOL
END:VEVENT
BEGIN:VEVENT
DTSTAMP:20260419T220458Z
UID:3888baeb-b49a-44df-8eab-b3477dc45a97
DTSTART:20260525T080000
DTEND:20260525T090000
DESCRIPTION:
LOCATION:
SUMMARY:NO SCHOOL- Memorial Day
END:VEVENT
BEGIN:VEVENT
DTSTAMP:20260419T220458Z
UID:b703cb22-e4fe-489b-b147-767f5b2f9cd6
DTSTART:20260526T080000
DTEND:20260526T090000
DESCRIPTION:
LOCATION:
SUMMARY:Emergency Day- if not used- NO SCHOOL
END:VEVENT
BEGIN:VEVENT
DTSTAMP:20260419T220458Z
UID:e54c8d38-f3ed-44a3-9679-833b37aada31
DTSTART:20260527T080000
DTEND:20260527T090000
DESCRIPTION:
LOCATION:
SUMMARY:Emergency Day- if not used- NO SCHOOL
END:VEVENT
BEGIN:VEVENT
DTSTAMP:20260419T220458Z
UID:d3e3f670-092f-46ae-bff5-2ef8598fdbe6
DTSTART:20260528T080000
DTEND:20260528T090000
DESCRIPTION:
LOCATION:
SUMMARY:Emergency Day- if not used- NO SCHOOL
END:VEVENT
END:VCALENDAR
