BEGIN:VCALENDAR
VERSION:2.0
PRODID:icalendar-ruby
CALSCALE:GREGORIAN
BEGIN:VTIMEZONE
TZID:America/Chicago
BEGIN:DAYLIGHT
DTSTART:20260308T030000
TZOFFSETFROM:-0600
TZOFFSETTO:-0500
RRULE:FREQ=YEARLY;BYDAY=2SU;BYMONTH=3
TZNAME:CDT
END:DAYLIGHT
BEGIN:STANDARD
DTSTART:20261101T010000
TZOFFSETFROM:-0500
TZOFFSETTO:-0600
RRULE:FREQ=YEARLY;BYDAY=1SU;BYMONTH=11
TZNAME:CST
END:STANDARD
END:VTIMEZONE
BEGIN:VEVENT
DTSTAMP:20260421T163059Z
UID:073ebc84-63e8-4afd-8f67-cb4e1bfddf58
DTSTART:20260423T180000
DTEND:20260423T184500
DESCRIPTION:
LOCATION:
SUMMARY:1st grade Music Program
END:VEVENT
BEGIN:VEVENT
DTSTAMP:20260421T163059Z
UID:8f688241-3e6a-4ce9-974f-ba6878a45842
DTSTART:20260427T134500
DTEND:20260427T141500
DESCRIPTION:
LOCATION:
SUMMARY:STAAR Parade
END:VEVENT
BEGIN:VEVENT
DTSTAMP:20260421T163059Z
UID:a380cb3d-5a30-4b85-b7f5-c680ab92f12c
DTSTART;VALUE=DATE:20260428
DTEND;VALUE=DATE:20260429
DESCRIPTION:
LOCATION:
SUMMARY:STAAR Math for 3rd & 4th grade students
END:VEVENT
BEGIN:VEVENT
DTSTAMP:20260421T163059Z
UID:1cd195ef-0ed7-4419-8845-80d3a74074c7
DTSTART:20260501T130000
DTEND:20260501T150000
DESCRIPTION:
LOCATION:
SUMMARY:STAAR Dance Party - 3rd & 4th graders
END:VEVENT
BEGIN:VEVENT
DTSTAMP:20260421T163059Z
UID:a04b647c-53ff-4808-8f12-ef9aeec8d0ac
DTSTART;VALUE=DATE:20260504
DTEND;VALUE=DATE:20260509
DESCRIPTION:
LOCATION:
SUMMARY:Teacher Appreciation Week
END:VEVENT
BEGIN:VEVENT
DTSTAMP:20260421T163059Z
UID:4119da1c-5a80-44d3-ba32-596edb097da9
DTSTART:20260505T074500
DTEND:20260505T081500
DESCRIPTION:
LOCATION:
SUMMARY:5 de mayo parade
END:VEVENT
BEGIN:VEVENT
DTSTAMP:20260421T163059Z
UID:f0da8d77-41fa-4dd1-8e6b-269cc0769737
DTSTART;VALUE=DATE:20260507
DTEND;VALUE=DATE:20260508
DESCRIPTION:
LOCATION:
SUMMARY:4th grade Track Meet
END:VEVENT
BEGIN:VEVENT
DTSTAMP:20260421T163059Z
UID:90b536c1-5a24-4dae-9fb8-d2cce69c7747
DTSTART:20260514T130000
DTEND:20260514T143000
DESCRIPTION:
LOCATION:
SUMMARY:House Spirit Rally
END:VEVENT
BEGIN:VEVENT
DTSTAMP:20260421T163059Z
UID:53bc7f8c-3fe6-47f1-a4eb-33fd5567ac5f
DTSTART:20260515T103000
DTEND:20260515T133000
DESCRIPTION:
LOCATION:
SUMMARY:Kona ice
END:VEVENT
BEGIN:VEVENT
DTSTAMP:20260421T163059Z
UID:d65479d9-aa6a-4e27-bf56-eda55c8de488
DTSTART:20260518T074500
DTEND:20260518T083000
DESCRIPTION:
LOCATION:
SUMMARY:1st - 3rd grade awards ceremonies - virtual
END:VEVENT
BEGIN:VEVENT
DTSTAMP:20260421T163059Z
UID:6266de1a-766d-4d54-9072-0ab883f2406a
DTSTART:20260519T073000
DTEND:20260519T083000
DESCRIPTION:
LOCATION:
SUMMARY:Senior Graduation Walks
END:VEVENT
BEGIN:VEVENT
DTSTAMP:20260421T163059Z
UID:548bac11-cacd-4991-ba04-745315efa0cf
DTSTART:20260521T090000
DTEND:20260521T103000
DESCRIPTION:
LOCATION:
SUMMARY:Kinder Graduation
END:VEVENT
BEGIN:VEVENT
DTSTAMP:20260421T163059Z
UID:a0dca5e0-4a94-4334-bf7b-a32a52d0efac
DTSTART:20260522T070000
DTEND:20260522T113000
DESCRIPTION:
LOCATION:
SUMMARY:Last day of School/Early Release
END:VEVENT
BEGIN:VEVENT
DTSTAMP:20260421T163059Z
UID:67bc4068-059f-4689-ada1-cbeaf0dfb2bc
DTSTART:20260522T083000
DTEND:20260522T100000
DESCRIPTION:
LOCATION:
SUMMARY:4th Grade Graduation
END:VEVENT
END:VCALENDAR
