BEGIN:VCALENDAR
VERSION:2.0
PRODID:icalendar-ruby
CALSCALE:GREGORIAN
BEGIN:VTIMEZONE
TZID:America/Chicago
BEGIN:DAYLIGHT
DTSTART:20260308T030000
TZOFFSETFROM:-0600
TZOFFSETTO:-0500
RRULE:FREQ=YEARLY;BYDAY=2SU;BYMONTH=3
TZNAME:CDT
END:DAYLIGHT
BEGIN:STANDARD
DTSTART:20261101T010000
TZOFFSETFROM:-0500
TZOFFSETTO:-0600
RRULE:FREQ=YEARLY;BYDAY=1SU;BYMONTH=11
TZNAME:CST
END:STANDARD
END:VTIMEZONE
BEGIN:VEVENT
DTSTAMP:20260420T033136Z
UID:561b5ba9-1a1d-43e4-a53a-7906c13c140c
DTSTART;VALUE=DATE:20260420
DTEND;VALUE=DATE:20260425
DESCRIPTION:
LOCATION:
SUMMARY:4th grade art guest
END:VEVENT
BEGIN:VEVENT
DTSTAMP:20260420T033136Z
UID:c4955c2c-bb89-4610-b0a9-309d138b1ac8
DTSTART:20260507T080000
DTEND:20260507T140000
DESCRIPTION:
LOCATION:Merrill Green Stadium\, 3450 Campus Dr\, Bryan\, TX 77802\, USA
SUMMARY:4th grade track meet
END:VEVENT
BEGIN:VEVENT
DTSTAMP:20260420T033136Z
UID:af4df50f-c7fb-4b75-8bff-c74d7103f1fb
DTSTART;VALUE=DATE:20260520
DTEND;VALUE=DATE:20260521
DESCRIPTION:
LOCATION:
SUMMARY:KC Field Day
END:VEVENT
BEGIN:VEVENT
DTSTAMP:20260420T033136Z
UID:6055d430-90ce-451f-9d9b-53b2bd328f32
DTSTART:20260520T080000
DTEND:20260520T150000
DESCRIPTION:
LOCATION:
SUMMARY:KC Field Day
END:VEVENT
BEGIN:VEVENT
DTSTAMP:20260420T033136Z
UID:fbc08d90-df32-4515-bdf2-2aa65acb9306
DTSTART:20260521T090000
DTEND:20260521T101500
DESCRIPTION:
LOCATION:
SUMMARY:KC 4th grade graduation
END:VEVENT
BEGIN:VEVENT
DTSTAMP:20260420T033136Z
UID:2f5641b7-411b-4f9b-b5b2-a91795e7fe5c
DTSTART:20260521T130000
DTEND:20260521T140000
DESCRIPTION:
LOCATION:
SUMMARY:KC kinder graduation
END:VEVENT
END:VCALENDAR
