BEGIN:VCALENDAR
VERSION:2.0
PRODID:icalendar-ruby
CALSCALE:GREGORIAN
BEGIN:VTIMEZONE
TZID:America/New_York
BEGIN:DAYLIGHT
DTSTART:20260308T030000
TZOFFSETFROM:-0500
TZOFFSETTO:-0400
RRULE:FREQ=YEARLY;BYDAY=2SU;BYMONTH=3
TZNAME:EDT
END:DAYLIGHT
BEGIN:STANDARD
DTSTART:20261101T010000
TZOFFSETFROM:-0400
TZOFFSETTO:-0500
RRULE:FREQ=YEARLY;BYDAY=1SU;BYMONTH=11
TZNAME:EST
END:STANDARD
END:VTIMEZONE
BEGIN:VEVENT
DTSTAMP:20260421T161746Z
UID:f7e4d423-a326-46c7-b7be-f29caeb49d0c
DTSTART:20260421T133000
DTEND:20260421T143000
DESCRIPTION:
LOCATION:
SUMMARY:Girls Tennis vs NW Whitfield
END:VEVENT
BEGIN:VEVENT
DTSTAMP:20260421T161746Z
UID:e4937b6e-1f00-485d-b7bb-d4e9670bfe2f
DTSTART:20260421T153000
DTEND:20260421T163000
DESCRIPTION:
LOCATION:
SUMMARY:Boys Tennis vs Jefferson County
END:VEVENT
BEGIN:VEVENT
DTSTAMP:20260421T161746Z
UID:94c0c8d2-3be0-4bdf-b527-6b98e2915caf
DTSTART:20260421T180000
DTEND:20260421T190000
DESCRIPTION:
LOCATION:
SUMMARY:V Girls Soccer @ Richmond Academy
END:VEVENT
BEGIN:VEVENT
DTSTAMP:20260421T161746Z
UID:3f830361-7340-4261-a5ac-1a545fb0188b
DTSTART:20260422T160000
DTEND:20260422T170000
DESCRIPTION:
LOCATION:JP Evans Gymnasium 
SUMMARY:Mary Persons All Sports Physicals (Rising 6th-8th graders)
END:VEVENT
BEGIN:VEVENT
DTSTAMP:20260421T161746Z
UID:5dd6914d-efb3-4e87-8176-b23ea6f28bc8
DTSTART:20260422T171500
DTEND:20260422T181500
DESCRIPTION:
LOCATION:JP Evans Gymnasium 
SUMMARY:Mary Persons All Sports Physicals (Rising 9th-12th graders)
END:VEVENT
BEGIN:VEVENT
DTSTAMP:20260421T161746Z
UID:b26b89bc-071b-4b8d-a1a3-3cc3db58de3a
DTSTART:20260423T080000
DTEND:20260423T090000
DESCRIPTION:
LOCATION:
SUMMARY:Region 2aaa Track meet
END:VEVENT
BEGIN:VEVENT
DTSTAMP:20260421T161746Z
UID:7378c4b4-9b50-4433-af96-3dad90ff482e
DTSTART:20260423T153000
DTEND:20260423T160000
DESCRIPTION:
LOCATION:
SUMMARY:Girls Tennis vs Islands
END:VEVENT
BEGIN:VEVENT
DTSTAMP:20260421T161746Z
UID:6b3bbd04-0e84-4f16-a3fc-b4a771156209
DTSTART:20260423T183000
DTEND:20260423T193000
DESCRIPTION:
LOCATION:
SUMMARY:V Boys Soccer vs Riverdale
END:VEVENT
BEGIN:VEVENT
DTSTAMP:20260421T161746Z
UID:b1389f4b-552f-4d2b-9809-5170fa5ce55f
DTSTART:20260424T160000
DTEND:20260424T170000
DESCRIPTION:
LOCATION:
SUMMARY:Baseball @ Cherokee Bluff (double header)
END:VEVENT
BEGIN:VEVENT
DTSTAMP:20260421T161746Z
UID:acdeabc0-4356-4613-b4d4-1f36d6ebba76
DTSTART;VALUE=DATE:20260428
DTEND;VALUE=DATE:20260429
DESCRIPTION:
LOCATION:
SUMMARY:Golf Girls Region Tournament @ Callaway Gardens - TBD
END:VEVENT
BEGIN:VEVENT
DTSTAMP:20260421T161746Z
UID:5d766140-15ef-48ca-8e3b-d7c8b7862791
DTSTART;VALUE=DATE:20260429
DTEND;VALUE=DATE:20260430
DESCRIPTION:
LOCATION:
SUMMARY:Golf Boys Region Tournament @ Callaway Gardens - TBD
END:VEVENT
BEGIN:VEVENT
DTSTAMP:20260421T161746Z
UID:8cc3d165-bebe-4781-a335-e2ed47cb47df
DTSTART:20260430T180000
DTEND:20260430T200000
DESCRIPTION:
LOCATION:Monroe County Fine Arts Center\, 27 Brooklyn Ave\, Forsyth\, GA 31
 029\, USA
SUMMARY:MPHS Presents: "Guys & Dolls"
END:VEVENT
BEGIN:VEVENT
DTSTAMP:20260421T161746Z
UID:7c90669a-b87c-472a-ba07-f2554d86c142
DTSTART:20260501T180000
DTEND:20260501T200000
DESCRIPTION:
LOCATION:Monroe County Fine Arts Center\, 27 Brooklyn Ave\, Forsyth\, GA 31
 029\, USA
SUMMARY:MPHS Presents: "Guys & Dolls"
END:VEVENT
BEGIN:VEVENT
DTSTAMP:20260421T161746Z
UID:78ba8f06-8c22-4076-9307-9afa332c7830
DTSTART;VALUE=DATE:20260502
DTEND;VALUE=DATE:20260503
DESCRIPTION:
LOCATION:
SUMMARY:Track & Field Boys  Sectionals in Albany\, Ga - TBD
END:VEVENT
BEGIN:VEVENT
DTSTAMP:20260421T161746Z
UID:aca15219-087e-4ec2-9c47-67b7636fbc63
DTSTART:20260502T080000
DTEND:20260502T120000
DESCRIPTION:
LOCATION:Mary Persons High School\, 300 Montpelier Ave\, Forsyth\, GA 31029
 \, USA
SUMMARY:SAT at MPHS
END:VEVENT
BEGIN:VEVENT
DTSTAMP:20260421T161746Z
UID:922f2b71-c00b-46a1-acab-1bbf34a9ca32
DTSTART:20260502T130000
DTEND:20260502T150000
DESCRIPTION:
LOCATION:Monroe County Fine Arts Center\, 27 Brooklyn Ave\, Forsyth\, GA 31
 029\, USA
SUMMARY:MPHS Presents: "Guys & Dolls"
END:VEVENT
BEGIN:VEVENT
DTSTAMP:20260421T161746Z
UID:a1d47fb0-a5ec-4113-97af-3c53bc222881
DTSTART:20260502T180000
DTEND:20260502T200000
DESCRIPTION:
LOCATION:Monroe County Fine Arts Center\, 27 Brooklyn Ave\, Forsyth\, GA 31
 029\, USA
SUMMARY:MPHS Presents: "Guys & Dolls"
END:VEVENT
BEGIN:VEVENT
DTSTAMP:20260421T161746Z
UID:0be93512-cf81-439c-b78a-9c3441423980
DTSTART:20260504T180000
DTEND:20260504T190000
DESCRIPTION:
LOCATION:Monroe County Fine Arts Center\, 27 Brooklyn Ave\, Forsyth\, GA 31
 029\, USA
SUMMARY:MCMS Chorus Concert
END:VEVENT
BEGIN:VEVENT
DTSTAMP:20260421T161746Z
UID:09855ab0-00fc-48c2-82eb-2b454181d479
DTSTART:20260505T180000
DTEND:20260505T190000
DESCRIPTION:
LOCATION:Monroe County Fine Arts Center\, 27 Brooklyn Ave\, Forsyth\, GA 31
 029\, USA
SUMMARY:MP Chorus Concert
END:VEVENT
BEGIN:VEVENT
DTSTAMP:20260421T161746Z
UID:1b9fc759-9899-4624-a025-0650003b7a27
DTSTART:20260506T180000
DTEND:20260506T190000
DESCRIPTION:
LOCATION:Monroe County Fine Arts Center\, 27 Brooklyn Ave\, Forsyth\, GA 31
 029\, USA
SUMMARY:MCMS Band Concert
END:VEVENT
BEGIN:VEVENT
DTSTAMP:20260421T161746Z
UID:4035589a-4edd-46c1-a001-5deb509fbe33
DTSTART:20260507T180000
DTEND:20260507T190000
DESCRIPTION:
LOCATION:Monroe County Fine Arts Center\, 27 Brooklyn Ave\, Forsyth\, GA 31
 029\, USA
SUMMARY:MP Band Concert
END:VEVENT
BEGIN:VEVENT
DTSTAMP:20260421T161746Z
UID:64177be1-1d10-4b6d-bebc-52ade0adab63
DTSTART:20260508T130000
DTEND:20260508T140000
DESCRIPTION:
LOCATION:
SUMMARY:Rising Star
END:VEVENT
BEGIN:VEVENT
DTSTAMP:20260421T161746Z
UID:3deae214-8396-472a-990d-84f9b8fcf870
DTSTART:20260509T080000
DTEND:20260509T090000
DESCRIPTION:
LOCATION:
SUMMARY:GHSA State Finals Lake Sinclair
END:VEVENT
BEGIN:VEVENT
DTSTAMP:20260421T161746Z
UID:aac8f8ef-4f57-4c64-927e-dbb753ac8709
DTSTART:20260512T173000
DTEND:20260512T183000
DESCRIPTION:
LOCATION:
SUMMARY:Board Meeting
END:VEVENT
BEGIN:VEVENT
DTSTAMP:20260421T161746Z
UID:b57ef024-2e2d-4cd3-b754-3f9dad016d82
DTSTART;VALUE=DATE:20260514
DTEND;VALUE=DATE:20260515
DESCRIPTION:
LOCATION:
SUMMARY:Track & Field Boys  State in Athens\, Ga - TBD
END:VEVENT
BEGIN:VEVENT
DTSTAMP:20260421T161746Z
UID:eb3fd557-0edf-4aff-9d68-d3e78b984918
DTSTART:20260514T173000
DTEND:20260514T193000
DESCRIPTION:
LOCATION:Monroe County Fine Arts Center\, 27 Brooklyn Ave\, Forsyth\, GA 31
 029\, USA
SUMMARY:MCMS Honors Night
END:VEVENT
BEGIN:VEVENT
DTSTAMP:20260421T161746Z
UID:fbbee0c5-2ad2-43fd-a0cb-559b03d7ac7e
DTSTART:20260515T132500
DTEND:20260515T150000
DESCRIPTION:
LOCATION:
SUMMARY:CHAMP Early Release
END:VEVENT
BEGIN:VEVENT
DTSTAMP:20260421T161746Z
UID:e9155fc8-7b4b-46fb-889e-dc8d78c58240
DTSTART:20260517T180000
DTEND:20260517T190000
DESCRIPTION:
LOCATION:New Providence Baptist Church\, 2560 US-41\, Forsyth\, GA 31029\, 
 USA
SUMMARY:Baccalaureate
END:VEVENT
BEGIN:VEVENT
DTSTAMP:20260421T161746Z
UID:a99bd9de-306b-4bec-8262-d955aca465cc
DTSTART:20260519T180000
DTEND:20260519T190000
DESCRIPTION:
LOCATION:
SUMMARY:MP Senior Honors Night
END:VEVENT
BEGIN:VEVENT
DTSTAMP:20260421T161746Z
UID:50d3edbe-fed2-462d-9cc5-8d46064068dd
DTSTART:20260520T180000
DTEND:20260520T190000
DESCRIPTION:
LOCATION:Monroe County Fine Arts Center\, 27 Brooklyn Ave\, Forsyth\, GA 31
 029\, USA
SUMMARY:Nurse Pinning Ceremony
END:VEVENT
BEGIN:VEVENT
DTSTAMP:20260421T161746Z
UID:3ac79338-60e1-44e0-9d2f-25c65bba5d62
DTSTART;VALUE=DATE:20260522
DTEND;VALUE=DATE:20260523
DESCRIPTION:
LOCATION:
SUMMARY:Last Day of School
END:VEVENT
BEGIN:VEVENT
DTSTAMP:20260421T161746Z
UID:b701de0d-88c8-46ea-bb78-ee5d0bd5cbae
DTSTART:20260522T200000
DTEND:20260522T210000
DESCRIPTION:
LOCATION:
SUMMARY:MPHS Graduation
END:VEVENT
BEGIN:VEVENT
DTSTAMP:20260421T161746Z
UID:f74b738c-4bb7-463f-8c4d-e7f6a3cad12c
DTSTART:20260728T120000
DTEND:20260728T130000
DESCRIPTION:
LOCATION:
SUMMARY:MPHS New Student Orientation
END:VEVENT
BEGIN:VEVENT
DTSTAMP:20260421T161746Z
UID:11b8007e-9767-4c5b-a350-2088853957ae
DTSTART:20260728T133000
DTEND:20260728T173000
DESCRIPTION:
LOCATION:
SUMMARY:Elementary Open House 
END:VEVENT
BEGIN:VEVENT
DTSTAMP:20260421T161746Z
UID:69643dd9-50e0-485d-a102-580976758330
DTSTART:20260728T150000
DTEND:20260728T160000
DESCRIPTION:
LOCATION:
SUMMARY:MPHS Freshman Campus 9th grade / Fine Arts Center 
END:VEVENT
BEGIN:VEVENT
DTSTAMP:20260421T161746Z
UID:10e38440-bc87-46aa-8ce7-fd00bee218cf
DTSTART:20260728T150000
DTEND:20260728T180000
DESCRIPTION:
LOCATION:
SUMMARY:MPHS Main Campus 10th Grade Open House
END:VEVENT
BEGIN:VEVENT
DTSTAMP:20260421T161746Z
UID:131209a9-6cc3-4431-bbb9-052dceae6526
DTSTART:20260728T163000
DTEND:20260728T190000
DESCRIPTION:
LOCATION:
SUMMARY:MCMS Open House 
END:VEVENT
BEGIN:VEVENT
DTSTAMP:20260421T161746Z
UID:cab13f35-4039-4ece-8ba5-a158fd32c25d
DTSTART:20260728T170000
DTEND:20260728T180000
DESCRIPTION:
LOCATION:
SUMMARY:MPHS Freshman Campus 9th grade / Fine Arts Center 
END:VEVENT
BEGIN:VEVENT
DTSTAMP:20260421T161746Z
UID:46f004e5-3bf3-4e86-9bbf-a19b93d41a64
DTSTART:20260801T083000
DTEND:20260801T103000
DESCRIPTION:
LOCATION:
SUMMARY:Back to School Bash ( Fine Arts Center) 
END:VEVENT
BEGIN:VEVENT
DTSTAMP:20260421T161746Z
UID:249b42c6-1342-4f8b-bf51-462e888ffcb3
DTSTART;VALUE=DATE:20260803
DTEND;VALUE=DATE:20260804
DESCRIPTION:
LOCATION:
SUMMARY:First Day Of School 
END:VEVENT
BEGIN:VEVENT
DTSTAMP:20260421T161746Z
UID:324e7b96-8ac6-4d1f-8062-a22c996254ee
DTSTART:20261112T110000
DTEND:20261112T130000
DESCRIPTION:
LOCATION:
SUMMARY:Thanksgiving Lunch at Monroe County Schools
END:VEVENT
BEGIN:VEVENT
DTSTAMP:20260421T161746Z
UID:9c798ce9-3cfe-42ba-8851-9d434ddb2c92
DTSTART:20261114T080000
DTEND:20261114T130000
DESCRIPTION:
LOCATION:Samuel E. Hubbard Elementary School\, 6908 558 GA-83\, Forsyth\, G
 A 31029\, USA
SUMMARY:District Robotics Tournament
END:VEVENT
BEGIN:VEVENT
DTSTAMP:20260421T161746Z
UID:559cca74-be90-431f-b918-0ea4cfe9570a
DTSTART:20270111T180000
DTEND:20270111T190000
DESCRIPTION:
LOCATION:
SUMMARY:MCS Spelling Bee
END:VEVENT
BEGIN:VEVENT
DTSTAMP:20260421T161746Z
UID:671fb3ce-975b-496c-ab94-4dc4bcd324a2
DTSTART:20270121T120000
DTEND:20270121T130000
DESCRIPTION:
LOCATION:MPFC Gym
SUMMARY:College & Career Fair - Community is Invited
END:VEVENT
BEGIN:VEVENT
DTSTAMP:20260421T161746Z
UID:b0f5fb0f-9296-4ad3-93a6-92be3574528f
DTSTART:20270218T183000
DTEND:20270218T193000
DESCRIPTION:
LOCATION:FAC
SUMMARY:Rising 9th Grade Transition Night
END:VEVENT
BEGIN:VEVENT
DTSTAMP:20260421T161746Z
UID:e099e738-c9b0-409c-bf43-c637bdeb1fab
DTSTART:20270220T080000
DTEND:20270220T130000
DESCRIPTION:
LOCATION:Samuel E. Hubbard Elementary School\, 6908 558 GA-83\, Forsyth\, G
 A 31029\, USA
SUMMARY:District Science Olympiad
END:VEVENT
END:VCALENDAR
