BEGIN:VCALENDAR
VERSION:2.0
PRODID:icalendar-ruby
CALSCALE:GREGORIAN
BEGIN:VTIMEZONE
TZID:America/Chicago
BEGIN:DAYLIGHT
DTSTART:20260308T030000
TZOFFSETFROM:-0600
TZOFFSETTO:-0500
RRULE:FREQ=YEARLY;BYDAY=2SU;BYMONTH=3
TZNAME:CDT
END:DAYLIGHT
BEGIN:STANDARD
DTSTART:20261101T010000
TZOFFSETFROM:-0500
TZOFFSETTO:-0600
RRULE:FREQ=YEARLY;BYDAY=1SU;BYMONTH=11
TZNAME:CST
END:STANDARD
END:VTIMEZONE
BEGIN:VEVENT
DTSTAMP:20260425T033232Z
UID:dbee1321-9531-48ee-89e9-438c4388657d
DTSTART;VALUE=DATE:20260424
DTEND;VALUE=DATE:20260425
DESCRIPTION:
LOCATION:
SUMMARY:No School- Staff Professional Development Day
END:VEVENT
BEGIN:VEVENT
DTSTAMP:20260425T033232Z
UID:b1e3857e-449e-4e79-a9ba-5b5714f5af7e
DTSTART:20260504T180000
DTEND:20260504T193000
DESCRIPTION:
LOCATION:
SUMMARY:6th Grade Transition Night
END:VEVENT
BEGIN:VEVENT
DTSTAMP:20260425T033232Z
UID:359a921e-ead0-4cc8-adda-c0bd556c747f
DTSTART:20260507T190000
DTEND:20260507T200000
DESCRIPTION:
LOCATION:Gold Gym 
SUMMARY:CMS- Drama Performance
END:VEVENT
BEGIN:VEVENT
DTSTAMP:20260425T033232Z
UID:1c864720-e54d-4a05-a710-eee10f7d3b9e
DTSTART:20260508T190000
DTEND:20260508T200000
DESCRIPTION:
LOCATION:Gold Gym
SUMMARY:CMS- Drama Performance
END:VEVENT
BEGIN:VEVENT
DTSTAMP:20260425T033232Z
UID:9dd33ff9-5424-4f9c-9e1d-5a20b9afbff2
DTSTART:20260509T190000
DTEND:20260509T200000
DESCRIPTION:
LOCATION:Gold Gym
SUMMARY:CMS- Drama Performance
END:VEVENT
BEGIN:VEVENT
DTSTAMP:20260425T033232Z
UID:65ba46fd-03bb-4e40-a01a-5f8ba58ca494
DTSTART:20260513T183000
DTEND:20260513T193000
DESCRIPTION:
LOCATION:Gold Gym
SUMMARY:CMS- Enf of Year Academic and Citizenship Awards
END:VEVENT
BEGIN:VEVENT
DTSTAMP:20260425T033232Z
UID:48b648f6-3124-407e-8693-c94ac6a178ac
DTSTART:20260514T190000
DTEND:20260514T200000
DESCRIPTION:
LOCATION:
SUMMARY:CHS Graduation
END:VEVENT
BEGIN:VEVENT
DTSTAMP:20260425T033232Z
UID:b5f218fd-4236-4481-b3f5-5650421d8450
DTSTART:20260516T180000
DTEND:20260516T210000
DESCRIPTION:
LOCATION:
SUMMARY:CMS- 8th Grade Dance
END:VEVENT
BEGIN:VEVENT
DTSTAMP:20260425T033232Z
UID:0c6e1264-cfde-439f-83bd-e5470f1fed0e
DTSTART:20260519T130000
DTEND:20260519T140000
DESCRIPTION:
LOCATION:
SUMMARY:CMS- 8th Grade Recognition Ceremony
END:VEVENT
BEGIN:VEVENT
DTSTAMP:20260425T033232Z
UID:e9b9c039-d1ab-41b8-aed1-c841cc1d1d98
DTSTART;VALUE=DATE:20260520
DTEND;VALUE=DATE:20260521
DESCRIPTION:
LOCATION:
SUMMARY:CMS- 8th Grade Field Trip
END:VEVENT
BEGIN:VEVENT
DTSTAMP:20260425T033232Z
UID:77998541-470c-4f8a-bac0-00b38ac8f86a
DTSTART;VALUE=DATE:20260520
DTEND;VALUE=DATE:20260521
DESCRIPTION:
LOCATION:
SUMMARY:CMS- Field Day
END:VEVENT
BEGIN:VEVENT
DTSTAMP:20260425T033232Z
UID:5333c4fe-f6b1-48d1-b527-6b87f4d07ba4
DTSTART;VALUE=DATE:20260521
DTEND;VALUE=DATE:20260522
DESCRIPTION:
LOCATION:
SUMMARY:CMS- PBIS Talent Show/Rally (end of day)
END:VEVENT
BEGIN:VEVENT
DTSTAMP:20260425T033232Z
UID:1f92bdd6-6765-4b99-8847-313659c6f25d
DTSTART;VALUE=DATE:20260522
DTEND;VALUE=DATE:20260523
DESCRIPTION:
LOCATION:
SUMMARY:End of Quarter Four
END:VEVENT
BEGIN:VEVENT
DTSTAMP:20260425T033232Z
UID:2a4e4ddf-9ce5-494b-9dc4-1781d5f6679e
DTSTART;VALUE=DATE:20260522
DTEND;VALUE=DATE:20260523
DESCRIPTION:
LOCATION:
SUMMARY:Last Day of School- Early Release
END:VEVENT
END:VCALENDAR
