BEGIN:VCALENDAR
VERSION:2.0
PRODID:icalendar-ruby
CALSCALE:GREGORIAN
BEGIN:VTIMEZONE
TZID:America/Chicago
BEGIN:DAYLIGHT
DTSTART:20260308T030000
TZOFFSETFROM:-0600
TZOFFSETTO:-0500
RRULE:FREQ=YEARLY;BYDAY=2SU;BYMONTH=3
TZNAME:CDT
END:DAYLIGHT
BEGIN:STANDARD
DTSTART:20261101T010000
TZOFFSETFROM:-0500
TZOFFSETTO:-0600
RRULE:FREQ=YEARLY;BYDAY=1SU;BYMONTH=11
TZNAME:CST
END:STANDARD
END:VTIMEZONE
BEGIN:VEVENT
DTSTAMP:20260425T131657Z
UID:233831ea-7f54-417f-90b2-b44de0178722
DTSTART;VALUE=DATE:20260501
DTEND;VALUE=DATE:20260502
DESCRIPTION:
LOCATION:
SUMMARY:IC- College Spirit Day
END:VEVENT
BEGIN:VEVENT
DTSTAMP:20260425T131657Z
UID:52e7f650-6c56-46ab-9066-47ff28d807da
DTSTART:20260502T110000
DTEND:20260502T150000
DESCRIPTION:
LOCATION:
SUMMARY:IC- Family Fun Day
END:VEVENT
BEGIN:VEVENT
DTSTAMP:20260425T131657Z
UID:ac6178b3-d74e-4729-8bc9-6789a7d223cd
DTSTART;VALUE=DATE:20260504
DTEND;VALUE=DATE:20260509
DESCRIPTION:
LOCATION:
SUMMARY:IC- Teacher Appreciation Week
END:VEVENT
BEGIN:VEVENT
DTSTAMP:20260425T131657Z
UID:beb5515f-0ec3-4b2f-8978-3faf8c46454a
DTSTART:20260504T180000
DTEND:20260504T193000
DESCRIPTION:
LOCATION:
SUMMARY:6th Grade Transition Night
END:VEVENT
BEGIN:VEVENT
DTSTAMP:20260425T131657Z
UID:43df4251-77f7-48be-8bc5-58496699e2f7
DTSTART:20260507T180000
DTEND:20260507T190000
DESCRIPTION:
LOCATION:
SUMMARY:IC- PTO Meeting
END:VEVENT
BEGIN:VEVENT
DTSTAMP:20260425T131657Z
UID:ed006942-41cf-4ca4-800e-06e7144177a8
DTSTART;VALUE=DATE:20260508
DTEND;VALUE=DATE:20260509
DESCRIPTION:
LOCATION:
SUMMARY:All Elementary Schools- Jr. Olympics
END:VEVENT
BEGIN:VEVENT
DTSTAMP:20260425T131657Z
UID:7944b5d4-53a2-4579-97ac-5c38f2f4046c
DTSTART:20260513T083000
DTEND:20260513T090000
DESCRIPTION:
LOCATION:
SUMMARY:IC - 4th & 5th Grade Field Trip: Kansas City Zoo
END:VEVENT
BEGIN:VEVENT
DTSTAMP:20260425T131657Z
UID:ee62bede-d572-4370-a43a-5a4a5ac6a99b
DTSTART:20260514T190000
DTEND:20260514T200000
DESCRIPTION:
LOCATION:
SUMMARY:CHS Graduation
END:VEVENT
BEGIN:VEVENT
DTSTAMP:20260425T131657Z
UID:ef6354de-f96b-4043-9aa7-2bcde7b7eb89
DTSTART;VALUE=DATE:20260515
DTEND;VALUE=DATE:20260516
DESCRIPTION:
LOCATION:
SUMMARY:IC- Field Day and Yearbook Signing
END:VEVENT
BEGIN:VEVENT
DTSTAMP:20260425T131657Z
UID:3d985c20-cee2-4c11-9714-7d5f70841631
DTSTART:20260518T091500
DTEND:20260518T101500
DESCRIPTION:
LOCATION:
SUMMARY:IC- 5th Grade Recognition
END:VEVENT
BEGIN:VEVENT
DTSTAMP:20260425T131657Z
UID:557003d5-0fed-4864-9853-c7345db4b929
DTSTART:20260520T090000
DTEND:20260520T100000
DESCRIPTION:
LOCATION:
SUMMARY:IC- End of Year Honor's Assembly
END:VEVENT
BEGIN:VEVENT
DTSTAMP:20260425T131657Z
UID:3f547a86-0aec-48f5-a61d-6a36f0ff7b98
DTSTART:20260521T090000
DTEND:20260521T100000
DESCRIPTION:
LOCATION:
SUMMARY:IC- Talent Show
END:VEVENT
BEGIN:VEVENT
DTSTAMP:20260425T131657Z
UID:201ea42c-2419-4768-99ed-fa9c092092b3
DTSTART;VALUE=DATE:20260522
DTEND;VALUE=DATE:20260523
DESCRIPTION:
LOCATION:
SUMMARY:End of Quarter Four
END:VEVENT
BEGIN:VEVENT
DTSTAMP:20260425T131657Z
UID:c8a2739d-28fa-4b4f-9c10-16b0795aaab0
DTSTART;VALUE=DATE:20260522
DTEND;VALUE=DATE:20260523
DESCRIPTION:
LOCATION:
SUMMARY:Last Day of School- Early Release
END:VEVENT
END:VCALENDAR
