BEGIN:VCALENDAR
VERSION:2.0
PRODID:icalendar-ruby
CALSCALE:GREGORIAN
BEGIN:VTIMEZONE
TZID:America/New_York
BEGIN:DAYLIGHT
DTSTART:20260308T030000
TZOFFSETFROM:-0500
TZOFFSETTO:-0400
RRULE:FREQ=YEARLY;BYDAY=2SU;BYMONTH=3
TZNAME:EDT
END:DAYLIGHT
BEGIN:STANDARD
DTSTART:20261101T010000
TZOFFSETFROM:-0400
TZOFFSETTO:-0500
RRULE:FREQ=YEARLY;BYDAY=1SU;BYMONTH=11
TZNAME:EST
END:STANDARD
END:VTIMEZONE
BEGIN:VEVENT
DTSTAMP:20260425T113635Z
UID:cf849eb6-cf73-4fd8-a44f-ba4c67319cc1
DTSTART:20260425T100000
DTEND:20260425T120000
DESCRIPTION:
LOCATION:Halifax Area Middle School - MS Gym
SUMMARY:FB Open Gym Boys JV/Varsity Football
END:VEVENT
BEGIN:VEVENT
DTSTAMP:20260425T113635Z
UID:1725cdf3-704b-4d47-947b-3051ba845c06
DTSTART:20260427T150000
DTEND:20260427T170000
DESCRIPTION:
LOCATION:Halifax Area Middle School - MS Gym
SUMMARY:JV/Varsity SB Inclement Weather Practice Girls JV/Varsity Softball
END:VEVENT
BEGIN:VEVENT
DTSTAMP:20260425T113635Z
UID:f5fb62f9-e98e-4a71-be78-fe64b260e9df
DTSTART:20260427T170000
DTEND:20260427T190000
DESCRIPTION:
LOCATION:Halifax Area Middle School - MS Gym
SUMMARY:Inclement JV/V BA Practice Boys JV/Varsity Baseball
END:VEVENT
BEGIN:VEVENT
DTSTAMP:20260425T113635Z
UID:06113513-bc8a-4696-a733-5047f7e7d170
DTSTART:20260427T190000
DTEND:20260427T210000
DESCRIPTION:
LOCATION:Halifax Area Middle School - MS Gym
SUMMARY:Archery Practice - Nationals Coed HS/MS Archery
END:VEVENT
BEGIN:VEVENT
DTSTAMP:20260425T113635Z
UID:9b9bf402-c783-4db4-aa26-adffb14f2a52
DTSTART:20260428T073000
DTEND:20260428T140000
DESCRIPTION:
LOCATION:Halifax Area Middle School - MS Conference Room
SUMMARY:Summer Dobbin: MS PSSA testing
END:VEVENT
BEGIN:VEVENT
DTSTAMP:20260425T113635Z
UID:b7ecbd27-69ce-464b-952d-e9c2e71283f8
DTSTART:20260428T120000
DTEND:20260428T123000
DESCRIPTION:
LOCATION:Halifax Area Middle School - MS Principal CR
SUMMARY:Jennifer Wise: Meeting
END:VEVENT
BEGIN:VEVENT
DTSTAMP:20260425T113635Z
UID:ffb71acd-452e-43f9-ad8b-e7c05f444e03
DTSTART:20260428T143000
DTEND:20260428T160000
DESCRIPTION:
LOCATION:Halifax Area Middle School - 2nd Soccer Practice Field\, MS Gym\, 
 MS Hallways\, MS Parking Lot
SUMMARY:Brooke Yeager: Middle School Heart & Sole
END:VEVENT
BEGIN:VEVENT
DTSTAMP:20260425T113635Z
UID:7d47cb6b-4818-4eb6-a40a-4bf550c02f9d
DTSTART:20260428T170000
DTEND:20260428T190000
DESCRIPTION:
LOCATION:Halifax Area Middle School - MS Gym
SUMMARY:JV/Varsity SB Inclement Weather Practice Girls JV/Varsity Softball
END:VEVENT
BEGIN:VEVENT
DTSTAMP:20260425T113635Z
UID:c3353652-5479-4c5c-8498-c273aac2f2a5
DTSTART:20260429T073000
DTEND:20260429T140000
DESCRIPTION:
LOCATION:Halifax Area Middle School - MS Conference Room
SUMMARY:Summer Dobbin: MS PSSA testing
END:VEVENT
BEGIN:VEVENT
DTSTAMP:20260425T113635Z
UID:293e1425-f797-47cf-9f54-4395468204c9
DTSTART:20260429T150000
DTEND:20260429T170000
DESCRIPTION:
LOCATION:Halifax Area Middle School - MS Gym
SUMMARY:JV/Varsity SB Inclement Weather Practice Girls JV/Varsity Softball
END:VEVENT
BEGIN:VEVENT
DTSTAMP:20260425T113635Z
UID:69d50adb-7675-4bae-9b17-01ab2a937be6
DTSTART:20260429T170000
DTEND:20260429T190000
DESCRIPTION:
LOCATION:Halifax Area Middle School - MS Gym
SUMMARY:Inclement JV/V BA Practice Boys JV/Varsity Baseball
END:VEVENT
BEGIN:VEVENT
DTSTAMP:20260425T113635Z
UID:383cbfae-9f40-4f02-8cb2-c5900b4d24b9
DTSTART:20260430T073000
DTEND:20260430T140000
DESCRIPTION:
LOCATION:Halifax Area Middle School - MS Conference Room
SUMMARY:Summer Dobbin: MS PSSA testing
END:VEVENT
BEGIN:VEVENT
DTSTAMP:20260425T113635Z
UID:470e383b-4624-476e-9013-447709718f16
DTSTART:20260430T143000
DTEND:20260430T160000
DESCRIPTION:
LOCATION:Halifax Area Middle School - 2nd Soccer Practice Field\, MS Gym\, 
 MS Hallways\, MS Parking Lot
SUMMARY:Brooke Yeager: Middle School Heart & Sole
END:VEVENT
BEGIN:VEVENT
DTSTAMP:20260425T113635Z
UID:769cb855-ad1b-43e0-af00-35894ea0740d
DTSTART:20260430T170000
DTEND:20260430T190000
DESCRIPTION:
LOCATION:Halifax Area Middle School - MS Gym
SUMMARY:JV/Varsity SB Inclement Weather Practice Girls JV/Varsity Softball
END:VEVENT
BEGIN:VEVENT
DTSTAMP:20260425T113635Z
UID:dbefb66f-be65-4974-a16b-2847c2caec51
DTSTART:20260430T190000
DTEND:20260430T210000
DESCRIPTION:
LOCATION:Halifax Area Middle School - MS Gym
SUMMARY:Archery Practice - Nationals Coed HS/MS Archery
END:VEVENT
BEGIN:VEVENT
DTSTAMP:20260425T113635Z
UID:044ea4ce-9470-42bd-b513-b12ae57e2831
DTSTART:20260501T073000
DTEND:20260501T140000
DESCRIPTION:
LOCATION:Halifax Area Middle School - MS Conference Room
SUMMARY:Summer Dobbin: MS PSSA testing
END:VEVENT
BEGIN:VEVENT
DTSTAMP:20260425T113635Z
UID:9f179e2b-c7cd-4a0c-bdd8-a2949299289c
DTSTART:20260501T140000
DTEND:20260501T143000
DESCRIPTION:
LOCATION:Halifax Area Middle School - MS Conference Room
SUMMARY:Bonnie Kabonick: Martin - MS Site Based Meeting
END:VEVENT
BEGIN:VEVENT
DTSTAMP:20260425T113635Z
UID:6689ad8d-6c78-4fae-b4b9-982a6641d0b4
DTSTART:20260501T150000
DTEND:20260501T170000
DESCRIPTION:
LOCATION:Halifax Area Middle School - MS Gym
SUMMARY:JV/Varsity SB Inclement Weather Practice Girls JV/Varsity Softball
END:VEVENT
BEGIN:VEVENT
DTSTAMP:20260425T113635Z
UID:974956f4-c164-496e-8f12-d558fa24b278
DTSTART:20260501T170000
DTEND:20260501T190000
DESCRIPTION:
LOCATION:Halifax Area Middle School - MS Gym
SUMMARY:Inclement JV/V BA Practice Boys JV/Varsity Baseball
END:VEVENT
BEGIN:VEVENT
DTSTAMP:20260425T113635Z
UID:a340987f-3903-47a8-86e4-c3cd2ff166b1
DTSTART:20260504T150000
DTEND:20260504T170000
DESCRIPTION:
LOCATION:Halifax Area Middle School - MS Gym
SUMMARY:JV/Varsity SB Inclement Weather Practice Girls JV/Varsity Softball
END:VEVENT
BEGIN:VEVENT
DTSTAMP:20260425T113635Z
UID:e4eb2d4b-615c-465b-b64a-f0e56a910b63
DTSTART:20260504T170000
DTEND:20260504T190000
DESCRIPTION:
LOCATION:Halifax Area Middle School - MS Gym
SUMMARY:Inclement JV/V BA Practice Boys JV/Varsity Baseball
END:VEVENT
BEGIN:VEVENT
DTSTAMP:20260425T113635Z
UID:d82376c5-2b78-4fb1-8ec3-235d25dae887
DTSTART:20260504T190000
DTEND:20260504T210000
DESCRIPTION:
LOCATION:Halifax Area Middle School - MS Gym
SUMMARY:Archery Practice - Nationals Coed HS/MS Archery
END:VEVENT
BEGIN:VEVENT
DTSTAMP:20260425T113635Z
UID:2428acd4-37fc-4cef-bdd2-d611a18bc301
DTSTART:20260505T170000
DTEND:20260505T190000
DESCRIPTION:
LOCATION:Halifax Area Middle School - MS Gym
SUMMARY:JV/Varsity SB Inclement Weather Practice Girls JV/Varsity Softball
END:VEVENT
BEGIN:VEVENT
DTSTAMP:20260425T113635Z
UID:d211047e-21e0-48c4-b98a-cdad937740a0
DTSTART:20260506T150000
DTEND:20260506T170000
DESCRIPTION:
LOCATION:Halifax Area Middle School - MS Gym
SUMMARY:JV/Varsity SB Inclement Weather Practice Girls JV/Varsity Softball
END:VEVENT
BEGIN:VEVENT
DTSTAMP:20260425T113635Z
UID:0f790f5c-b1bd-46fa-905d-fddc29c6d0a8
DTSTART:20260506T170000
DTEND:20260506T190000
DESCRIPTION:
LOCATION:Halifax Area Middle School - MS Gym
SUMMARY:Inclement JV/V BA Practice Boys JV/Varsity Baseball
END:VEVENT
BEGIN:VEVENT
DTSTAMP:20260425T113635Z
UID:9fa4a020-52a4-4ff9-9709-36b190c52c0b
DTSTART:20260507T143000
DTEND:20260507T170000
DESCRIPTION:
LOCATION:Halifax Area Middle School - MS Gym
SUMMARY:JV/Varsity Inclement Weather Practice Boys JV/Varsity Baseball
END:VEVENT
BEGIN:VEVENT
DTSTAMP:20260425T113635Z
UID:98798d7a-63a3-4948-b455-508a7bbb15cc
DTSTART:20260507T170000
DTEND:20260507T190000
DESCRIPTION:
LOCATION:Halifax Area Middle School - MS Gym
SUMMARY:JV/Varsity SB Inclement Weather Practice Girls JV/Varsity Softball
END:VEVENT
BEGIN:VEVENT
DTSTAMP:20260425T113635Z
UID:0dc272c0-9667-4564-84b3-387105703c07
DTSTART:20260508T140000
DTEND:20260508T200000
DESCRIPTION:The HS gym lobby was requested to use but that is not an option
  to select.  
LOCATION:Halifax Area Middle School - HS Gym\, HS Gym Locker Rooms\, HS Gym
  Team Locker Rooms\, HS Mat Room\, MS Gym
SUMMARY:Summer Dobbin: MS Half Nighter
END:VEVENT
BEGIN:VEVENT
DTSTAMP:20260425T113635Z
UID:f99af52a-1178-45a3-adbd-1a231d51d821
DTSTART:20260508T150000
DTEND:20260508T170000
DESCRIPTION:
LOCATION:Halifax Area Middle School - MS Gym
SUMMARY:JV/Varsity SB Inclement Weather Practice Girls JV/Varsity Softball
END:VEVENT
BEGIN:VEVENT
DTSTAMP:20260425T113635Z
UID:25bc47f7-a17e-46c0-ace2-9ed1f3cb4938
DTSTART:20260508T170000
DTEND:20260508T190000
DESCRIPTION:
LOCATION:Halifax Area Middle School - MS Gym
SUMMARY:Inclement JV/V BA Practice Boys JV/Varsity Baseball
END:VEVENT
BEGIN:VEVENT
DTSTAMP:20260425T113635Z
UID:2defa1a6-1d31-40b7-b4bb-fb762e0e5b9e
DTSTART:20260511T150000
DTEND:20260511T170000
DESCRIPTION:
LOCATION:Halifax Area Middle School - MS Gym
SUMMARY:JV/Varsity SB Inclement Weather Practice Girls JV/Varsity Softball
END:VEVENT
BEGIN:VEVENT
DTSTAMP:20260425T113635Z
UID:fd4259f4-e06d-4a67-8b25-1cd046fa9437
DTSTART:20260511T170000
DTEND:20260511T190000
DESCRIPTION:
LOCATION:Halifax Area Middle School - MS Gym
SUMMARY:Inclement JV/V BA Practice Boys JV/Varsity Baseball
END:VEVENT
BEGIN:VEVENT
DTSTAMP:20260425T113635Z
UID:280dfeda-d9a1-491e-be5e-37afe1b024f2
DTSTART:20260512T080000
DTEND:20260512T103000
DESCRIPTION:
LOCATION:Halifax Area Middle School - MS Conference Room
SUMMARY:Lacey Goodrich: DCTS diagnostic testing
END:VEVENT
BEGIN:VEVENT
DTSTAMP:20260425T113635Z
UID:95a268d1-0427-4e37-8a40-e9f339088425
DTSTART:20260512T170000
DTEND:20260512T190000
DESCRIPTION:
LOCATION:Halifax Area Middle School - MS Gym
SUMMARY:JV/Varsity SB Inclement Weather Practice Girls JV/Varsity Softball
END:VEVENT
BEGIN:VEVENT
DTSTAMP:20260425T113635Z
UID:5c2a1c41-5bdc-4d32-bba0-ab2388482e1d
DTSTART:20260512T173000
DTEND:20260512T180000
DESCRIPTION:
LOCATION:Halifax Area Middle School - MS Gym
SUMMARY:Cheerleading Parent's Meeting 
END:VEVENT
BEGIN:VEVENT
DTSTAMP:20260425T113635Z
UID:e8ea4fae-3ac7-4fe9-bbf2-9135744700af
DTSTART:20260512T180000
DTEND:20260512T200000
DESCRIPTION:
LOCATION:Halifax Area Middle School - MS Gym
SUMMARY:Cheerleading Open Gym/Tryouts 
END:VEVENT
BEGIN:VEVENT
DTSTAMP:20260425T113635Z
UID:418e39cf-dc34-4706-b7fa-4d58ee72445b
DTSTART:20260513T150000
DTEND:20260513T170000
DESCRIPTION:
LOCATION:Halifax Area Middle School - MS Gym
SUMMARY:JV/Varsity SB Inclement Weather Practice Girls JV/Varsity Softball
END:VEVENT
BEGIN:VEVENT
DTSTAMP:20260425T113635Z
UID:486be3c5-311a-4af0-ade4-ce07d196e3ab
DTSTART:20260513T170000
DTEND:20260513T190000
DESCRIPTION:
LOCATION:Halifax Area Middle School - MS Gym
SUMMARY:Inclement JV/V BA Practice Boys JV/Varsity Baseball
END:VEVENT
BEGIN:VEVENT
DTSTAMP:20260425T113635Z
UID:4ea75ea7-34cf-4d47-8f17-cfa862b78b15
DTSTART:20260513T180000
DTEND:20260513T200000
DESCRIPTION:
LOCATION:Halifax Area Middle School - MS Gym
SUMMARY:Cheerleading Open Gym/Tryouts 
END:VEVENT
BEGIN:VEVENT
DTSTAMP:20260425T113635Z
UID:0acfd396-2507-4840-bd55-d7387cb0ddeb
DTSTART:20260514T170000
DTEND:20260514T190000
DESCRIPTION:
LOCATION:Halifax Area Middle School - MS Gym
SUMMARY:JV/Varsity SB Inclement Weather Practice Girls JV/Varsity Softball
END:VEVENT
BEGIN:VEVENT
DTSTAMP:20260425T113635Z
UID:63fcfc44-f0c5-473e-81a4-04526198233d
DTSTART:20260514T180000
DTEND:20260514T200000
DESCRIPTION:
LOCATION:Halifax Area Middle School - MS Gym
SUMMARY:Cheerleading Open Gym/Tryouts 
END:VEVENT
BEGIN:VEVENT
DTSTAMP:20260425T113635Z
UID:d2dfa6d9-f94a-44ed-8bb1-d12279a84c31
DTSTART:20260515T140000
DTEND:20260515T143000
DESCRIPTION:
LOCATION:Halifax Area Middle School - MS Conference Room
SUMMARY:Bonnie Kabonick: Martin - MS Site Based Meeting
END:VEVENT
BEGIN:VEVENT
DTSTAMP:20260425T113635Z
UID:787e64cd-34ce-4480-bc35-dabc89bad6a9
DTSTART:20260515T150000
DTEND:20260515T170000
DESCRIPTION:
LOCATION:Halifax Area Middle School - MS Gym
SUMMARY:JV/Varsity SB Inclement Weather Practice Girls JV/Varsity Softball
END:VEVENT
BEGIN:VEVENT
DTSTAMP:20260425T113635Z
UID:841ef355-0c76-47f2-91f7-79a13b2ff231
DTSTART:20260515T170000
DTEND:20260515T190000
DESCRIPTION:
LOCATION:Halifax Area Middle School - MS Gym
SUMMARY:Inclement JV/V BA Practice Boys JV/Varsity Baseball
END:VEVENT
BEGIN:VEVENT
DTSTAMP:20260425T113635Z
UID:cfa3a9a7-6e6c-41b5-9842-6564cd1ecc81
DTSTART:20260515T210000
DTEND:20260516T080000
DESCRIPTION:
LOCATION:Halifax Area Middle School - HS Auditorium\, HS Cafeteria\, HS Fac
 ulty Room\, HS Gym\, MS Gym
SUMMARY:Concert Band: Rehearse-A-Thon
END:VEVENT
BEGIN:VEVENT
DTSTAMP:20260425T113635Z
UID:409aa02a-fe47-40e0-9c95-8dc24ea3cb4f
DTSTART:20260518T150000
DTEND:20260518T170000
DESCRIPTION:
LOCATION:Halifax Area Middle School - MS Gym
SUMMARY:JV/Varsity SB Inclement Weather Practice Girls JV/Varsity Softball
END:VEVENT
BEGIN:VEVENT
DTSTAMP:20260425T113635Z
UID:60901a51-8c40-4841-9065-07b2b9f26508
DTSTART:20260518T170000
DTEND:20260518T190000
DESCRIPTION:
LOCATION:Halifax Area Middle School - MS Gym
SUMMARY:Inclement JV/V BA Practice Boys JV/Varsity Baseball
END:VEVENT
BEGIN:VEVENT
DTSTAMP:20260425T113635Z
UID:2c65a921-e21c-4bce-be92-222dab4aca72
DTSTART:20260518T180000
DTEND:20260518T210000
DESCRIPTION:
LOCATION:Halifax Area Middle School - MS Gym
SUMMARY:Archery Banquet - Cafe and MS Gym Coed HS/MS Archery
END:VEVENT
BEGIN:VEVENT
DTSTAMP:20260425T113635Z
UID:73fcda64-53fe-4960-a831-6c3cddb45690
DTSTART:20260519T170000
DTEND:20260519T190000
DESCRIPTION:
LOCATION:Halifax Area Middle School - MS Gym
SUMMARY:JV/Varsity SB Inclement Weather Practice Girls JV/Varsity Softball
END:VEVENT
BEGIN:VEVENT
DTSTAMP:20260425T113635Z
UID:d0642256-6da5-4fab-92ad-aef678f10413
DTSTART:20260520T150000
DTEND:20260520T170000
DESCRIPTION:
LOCATION:Halifax Area Middle School - MS Gym
SUMMARY:JV/Varsity SB Inclement Weather Practice Girls JV/Varsity Softball
END:VEVENT
BEGIN:VEVENT
DTSTAMP:20260425T113635Z
UID:093ce6b7-67f9-4156-a8d7-a35e39ec3ee9
DTSTART:20260520T170000
DTEND:20260520T190000
DESCRIPTION:
LOCATION:Halifax Area Middle School - MS Gym
SUMMARY:Inclement JV/V BA Practice Boys JV/Varsity Baseball
END:VEVENT
BEGIN:VEVENT
DTSTAMP:20260425T113635Z
UID:ed51becd-985e-4fff-a94c-abf393bc26c7
DTSTART:20260521T170000
DTEND:20260521T190000
DESCRIPTION:
LOCATION:Halifax Area Middle School - MS Gym
SUMMARY:JV/Varsity SB Inclement Weather Practice Girls JV/Varsity Softball
END:VEVENT
BEGIN:VEVENT
DTSTAMP:20260425T113635Z
UID:b78446c1-fac0-4958-9756-7c8e46fc617d
DTSTART:20260522T150000
DTEND:20260522T170000
DESCRIPTION:
LOCATION:Halifax Area Middle School - MS Gym
SUMMARY:JV/Varsity SB Inclement Weather Practice Girls JV/Varsity Softball
END:VEVENT
BEGIN:VEVENT
DTSTAMP:20260425T113635Z
UID:e7bd1d17-37fa-456a-b2ef-88950e74b609
DTSTART:20260522T170000
DTEND:20260522T190000
DESCRIPTION:
LOCATION:Halifax Area Middle School - MS Gym
SUMMARY:Inclement JV/V BA Practice Boys JV/Varsity Baseball
END:VEVENT
END:VCALENDAR
