BEGIN:VCALENDAR
VERSION:2.0
PRODID:icalendar-ruby
CALSCALE:GREGORIAN
BEGIN:VTIMEZONE
TZID:America/New_York
BEGIN:DAYLIGHT
DTSTART:20260308T030000
TZOFFSETFROM:-0500
TZOFFSETTO:-0400
RRULE:FREQ=YEARLY;BYDAY=2SU;BYMONTH=3
TZNAME:EDT
END:DAYLIGHT
BEGIN:STANDARD
DTSTART:20261101T010000
TZOFFSETFROM:-0400
TZOFFSETTO:-0500
RRULE:FREQ=YEARLY;BYDAY=1SU;BYMONTH=11
TZNAME:EST
END:STANDARD
END:VTIMEZONE
BEGIN:VEVENT
DTSTAMP:20260425T135756Z
UID:37616f65-7047-484d-a931-7160a50c6519
DTSTART:20260428T153000
DTEND:20260428T170000
DESCRIPTION:
LOCATION:Halifax Elementary School - ES Cafeteria\, ES Playground
SUMMARY:Brooke Yeager: GOTR
END:VEVENT
BEGIN:VEVENT
DTSTAMP:20260425T135756Z
UID:f0d2e220-04f6-4289-a576-736048d7ed9d
DTSTART:20260430T153000
DTEND:20260430T170000
DESCRIPTION:
LOCATION:Halifax Elementary School - ES Cafeteria\, ES Playground
SUMMARY:Brooke Yeager: GOTR
END:VEVENT
BEGIN:VEVENT
DTSTAMP:20260425T135756Z
UID:e6fe0054-eb97-48bd-9a24-281fb10edff2
DTSTART:20260512T183000
DTEND:20260512T193000
DESCRIPTION:
LOCATION:Halifax Elementary School - ES Library
SUMMARY:Halifax Elementary PTO: HE PTO Meeting
END:VEVENT
BEGIN:VEVENT
DTSTAMP:20260425T135756Z
UID:e7bd71a1-642b-46de-b22f-dcb43062073c
DTSTART:20260522T100000
DTEND:20260522T110000
DESCRIPTION:
LOCATION:Halifax Elementary School - HE Lobby/Hallway
SUMMARY:Dayna King: Senior Class Walk to the Elementary
END:VEVENT
BEGIN:VEVENT
DTSTAMP:20260425T135756Z
UID:b8ff2ef5-e9a1-43ae-9382-3615c054b273
DTSTART:20260526T073000
DTEND:20260526T143000
DESCRIPTION:We will be throughout school doing service projects.......We wi
 ll need rags/tools from maintenance department.
LOCATION:Halifax Elementary School - Athletic Field Concession Stand\, Camp
  Hebron\, Courtyard\, ES Playground\, Halifax Community Park\, Halifax Poo
 l\, HS Athletic Field w/o lights\, HS Classroom(s)\, HS Hallways\, HS Mat 
 Room\, HS Parking Lot
SUMMARY:Heather Crook: Halifax Day of Service
END:VEVENT
BEGIN:VEVENT
DTSTAMP:20260425T135756Z
UID:1aec9182-f93c-4d42-a8a2-bb41ccd0fde9
DTSTART:20260622T090000
DTEND:20260622T110000
DESCRIPTION:Art Camp\; supervisor will be Joy Brewer
LOCATION:Halifax Elementary School - ES Classroom(s)
SUMMARY:Halifax Wildcat Education Foundation: Art Camp
END:VEVENT
BEGIN:VEVENT
DTSTAMP:20260425T135756Z
UID:ad2ec85c-3aee-45a1-be8e-b8b793987dfb
DTSTART:20260623T090000
DTEND:20260623T110000
DESCRIPTION:Art Camp\; supervisor will be Joy Brewer
LOCATION:Halifax Elementary School - ES Classroom(s)
SUMMARY:Halifax Wildcat Education Foundation: Art Camp
END:VEVENT
BEGIN:VEVENT
DTSTAMP:20260425T135756Z
UID:6f36e03f-f6f5-4069-84ef-2d68c4cffc14
DTSTART:20260624T090000
DTEND:20260624T110000
DESCRIPTION:Art Camp\; supervisor will be Joy Brewer
LOCATION:Halifax Elementary School - ES Classroom(s)
SUMMARY:Halifax Wildcat Education Foundation: Art Camp
END:VEVENT
BEGIN:VEVENT
DTSTAMP:20260425T135756Z
UID:311c2dc8-b5d7-46e6-9656-60dd8b5bf4fd
DTSTART:20260625T090000
DTEND:20260625T110000
DESCRIPTION:Art Camp\; supervisor will be Joy Brewer
LOCATION:Halifax Elementary School - ES Classroom(s)
SUMMARY:Halifax Wildcat Education Foundation: Art Camp
END:VEVENT
END:VCALENDAR
