BEGIN:VCALENDAR
VERSION:2.0
PRODID:icalendar-ruby
CALSCALE:GREGORIAN
BEGIN:VTIMEZONE
TZID:America/New_York
BEGIN:DAYLIGHT
DTSTART:20260308T030000
TZOFFSETFROM:-0500
TZOFFSETTO:-0400
RRULE:FREQ=YEARLY;BYDAY=2SU;BYMONTH=3
TZNAME:EDT
END:DAYLIGHT
BEGIN:STANDARD
DTSTART:20261101T010000
TZOFFSETFROM:-0400
TZOFFSETTO:-0500
RRULE:FREQ=YEARLY;BYDAY=1SU;BYMONTH=11
TZNAME:EST
END:STANDARD
END:VTIMEZONE
BEGIN:VEVENT
DTSTAMP:20260424T084859Z
UID:cf801914-fb5c-4d84-ac2f-9b92086ab338
DTSTART:20260428T190000
DTEND:20260428T200000
DESCRIPTION:
LOCATION:
SUMMARY:BOE Meeting
END:VEVENT
BEGIN:VEVENT
DTSTAMP:20260424T084859Z
UID:aae88139-4f02-4efa-bd2a-28ed4ceac7b7
DTSTART:20260429T180000
DTEND:20260429T193000
DESCRIPTION:
LOCATION:
SUMMARY:Upper Program Spring Concert
END:VEVENT
END:VCALENDAR
