BEGIN:VCALENDAR
VERSION:2.0
PRODID:icalendar-ruby
CALSCALE:GREGORIAN
BEGIN:VTIMEZONE
TZID:America/New_York
BEGIN:DAYLIGHT
DTSTART:20260308T030000
TZOFFSETFROM:-0500
TZOFFSETTO:-0400
RRULE:FREQ=YEARLY;BYDAY=2SU;BYMONTH=3
TZNAME:EDT
END:DAYLIGHT
BEGIN:STANDARD
DTSTART:20261101T010000
TZOFFSETFROM:-0400
TZOFFSETTO:-0500
RRULE:FREQ=YEARLY;BYDAY=1SU;BYMONTH=11
TZNAME:EST
END:STANDARD
END:VTIMEZONE
BEGIN:VEVENT
DTSTAMP:20260420T003434Z
UID:62e84566-201b-4c6f-ae9e-f72d3f0fdb8b
DTSTART;VALUE=DATE:20260420
DTEND;VALUE=DATE:20260421
DESCRIPTION:<html><head><meta http-equiv="Content-Type" content="text/html\
 ; charset=utf-8"><meta name="ProgId" content="Word.Document"><meta name="G
 enerator" content="Microsoft Word 15"><meta name="Originator" content="Mic
 rosoft Word 15"><style><!--@font-face	{font-family:"Cambria Math"}@font-fa
 ce	{font-family:Aptos}p.MsoNormal\, li.MsoNormal\, div.MsoNormal	{margin:0
 in\;	font-size:12.0pt\;	font-family:"Aptos"\,sans-serif}a:link\, span.MsoH
 yperlink	{color:#467886\;	text-decoration:underline}a:visited\, span.MsoHy
 perlinkFollowed	{color:#96607D\;	text-decoration:underline}span.EmailStyle
 17	{font-family:"Aptos"\,sans-serif\;	color:windowtext}.MsoChpDefault	{}@p
 age WordSection1	{margin:1.0in 1.0in 1.0in 1.0in}div.WordSection1	{}--></s
 tyle></head><body lang="EN-US" link="#467886" vlink="#96607D" style="word-
 wrap:break-word"><div class="WordSection1"><p class="MsoNormal"><span styl
 e="font-size:11.0pt">&nbsp\;</span></p></div></body></html>
LOCATION:
SUMMARY:End of 3rd Marking Period
END:VEVENT
BEGIN:VEVENT
DTSTAMP:20260420T003434Z
UID:debbdd0f-ef05-4081-b35c-e1d6d6e2a5d0
DTSTART:20260506T180000
DTEND:20260506T200000
DESCRIPTION:<html><head><meta http-equiv="Content-Type" content="text/html\
 ; charset=utf-8"><meta name="Generator" content="Microsoft Word 15 (filter
 ed medium)"><style><!--@font-face	{font-family:"Cambria Math"}@font-face	{
 font-family:Aptos}p.MsoNormal\, li.MsoNormal\, div.MsoNormal	{margin:0in\;
 	font-size:12.0pt\;	font-family:"Aptos"\,sans-serif}span.EmailStyle17	{fon
 t-family:"Aptos"\,sans-serif\;	color:windowtext}.MsoChpDefault	{}@page Wor
 dSection1	{margin:1.0in 1.0in 1.0in 1.0in}div.WordSection1	{}--></style></
 head><body lang="EN-US" link="#467886" vlink="#96607D" style="word-wrap:br
 eak-word"><div class="WordSection1"><p class="MsoNormal"><span style="font
 -size:11.0pt">&nbsp\;</span></p></div></body></html>
LOCATION:South Plainfield High School Media Center
SUMMARY:BOE Regular Board Meeting/Budget Hearing and Adoption
END:VEVENT
BEGIN:VEVENT
DTSTAMP:20260420T003434Z
UID:c645cfbc-acb0-4a20-bc2b-3535e35e75c6
DTSTART;VALUE=DATE:20260521
DTEND;VALUE=DATE:20260523
DESCRIPTION:<html><head><meta http-equiv="Content-Type" content="text/html\
 ; charset=utf-8"><meta name="ProgId" content="Word.Document"><meta name="G
 enerator" content="Microsoft Word 15"><meta name="Originator" content="Mic
 rosoft Word 15"><style><!--@font-face	{font-family:"Cambria Math"}@font-fa
 ce	{font-family:Aptos}p.MsoNormal\, li.MsoNormal\, div.MsoNormal	{margin:0
 in\;	font-size:12.0pt\;	font-family:"Aptos"\,sans-serif}a:link\, span.MsoH
 yperlink	{color:#467886\;	text-decoration:underline}a:visited\, span.MsoHy
 perlinkFollowed	{color:#96607D\;	text-decoration:underline}span.EmailStyle
 17	{font-family:"Aptos"\,sans-serif\;	color:windowtext}.MsoChpDefault	{}@p
 age WordSection1	{margin:1.0in 1.0in 1.0in 1.0in}div.WordSection1	{}--></s
 tyle></head><body lang="EN-US" link="#467886" vlink="#96607D" style="word-
 wrap:break-word"><div class="WordSection1"><p class="MsoNormal"><span styl
 e="font-size:11.0pt">&nbsp\;</span></p></div></body></html>
LOCATION:
SUMMARY:Optional Holiday - Schools/Offices May be CLOSED
END:VEVENT
BEGIN:VEVENT
DTSTAMP:20260420T003434Z
UID:80eb9c70-235c-4bc5-bc31-adf0fec28a3c
DTSTART;VALUE=DATE:20260525
DTEND;VALUE=DATE:20260526
DESCRIPTION:<html><head><meta http-equiv="Content-Type" content="text/html\
 ; charset=utf-8"><meta name="ProgId" content="Word.Document"><meta name="G
 enerator" content="Microsoft Word 15"><meta name="Originator" content="Mic
 rosoft Word 15"><style><!--@font-face	{font-family:"Cambria Math"}@font-fa
 ce	{font-family:Aptos}p.MsoNormal\, li.MsoNormal\, div.MsoNormal	{margin:0
 in\;	font-size:12.0pt\;	font-family:"Aptos"\,sans-serif}a:link\, span.MsoH
 yperlink	{color:#467886\;	text-decoration:underline}a:visited\, span.MsoHy
 perlinkFollowed	{color:#96607D\;	text-decoration:underline}span.EmailStyle
 17	{font-family:"Aptos"\,sans-serif\;	color:windowtext}.MsoChpDefault	{}@p
 age WordSection1	{margin:1.0in 1.0in 1.0in 1.0in}div.WordSection1	{}--></s
 tyle></head><body lang="EN-US" link="#467886" vlink="#96607D" style="word-
 wrap:break-word"><div class="WordSection1"><p class="MsoNormal"><span styl
 e="font-size:11.0pt">&nbsp\;</span></p></div></body></html>
LOCATION:
SUMMARY:Memorial Day  - Schools/Offices CLOSED
END:VEVENT
BEGIN:VEVENT
DTSTAMP:20260420T003434Z
UID:678836c0-317c-4d39-a165-c58e9caacfeb
DTSTART;VALUE=DATE:20260526
DTEND;VALUE=DATE:20260527
DESCRIPTION:<html><head><meta http-equiv="Content-Type" content="text/html\
 ; charset=utf-8"><meta name="ProgId" content="Word.Document"><meta name="G
 enerator" content="Microsoft Word 15"><meta name="Originator" content="Mic
 rosoft Word 15"><style><!--@font-face	{font-family:"Cambria Math"}@font-fa
 ce	{font-family:Aptos}p.MsoNormal\, li.MsoNormal\, div.MsoNormal	{margin:0
 in\;	font-size:12.0pt\;	font-family:"Aptos"\,sans-serif}a:link\, span.MsoH
 yperlink	{color:#467886\;	text-decoration:underline}a:visited\, span.MsoHy
 perlinkFollowed	{color:#96607D\;	text-decoration:underline}span.EmailStyle
 17	{font-family:"Aptos"\,sans-serif\;	color:windowtext}.MsoChpDefault	{}@p
 age WordSection1	{margin:1.0in 1.0in 1.0in 1.0in}div.WordSection1	{}--></s
 tyle></head><body lang="EN-US" link="#467886" vlink="#96607D" style="word-
 wrap:break-word"><div class="WordSection1"><p class="MsoNormal"><span styl
 e="font-size:11.0pt">&nbsp\;</span></p></div></body></html>
LOCATION:
SUMMARY:Optional Holiday - Schools/Offices May be CLOSED
END:VEVENT
BEGIN:VEVENT
DTSTAMP:20260420T003434Z
UID:10d5db92-91ae-4eb0-b026-56d1229a59c6
DTSTART;VALUE=DATE:20260602
DTEND;VALUE=DATE:20260603
DESCRIPTION:<html><head><meta http-equiv="Content-Type" content="text/html\
 ; charset=utf-8"><meta name="ProgId" content="Word.Document"><meta name="G
 enerator" content="Microsoft Word 15"><meta name="Originator" content="Mic
 rosoft Word 15"><style><!--@font-face	{font-family:"Cambria Math"}@font-fa
 ce	{font-family:Aptos}p.MsoNormal\, li.MsoNormal\, div.MsoNormal	{margin:0
 in\;	font-size:12.0pt\;	font-family:"Aptos"\,sans-serif}a:link\, span.MsoH
 yperlink	{color:#467886\;	text-decoration:underline}a:visited\, span.MsoHy
 perlinkFollowed	{color:#96607D\;	text-decoration:underline}span.EmailStyle
 17	{font-family:"Aptos"\,sans-serif\;	color:windowtext}.MsoChpDefault	{}@p
 age WordSection1	{margin:1.0in 1.0in 1.0in 1.0in}div.WordSection1	{}--></s
 tyle></head><body lang="EN-US" link="#467886" vlink="#96607D" style="word-
 wrap:break-word"><div class="WordSection1"><p class="MsoNormal"><span styl
 e="font-size:11.0pt">&nbsp\;</span></p></div></body></html>
LOCATION:
SUMMARY:Professional Day - Students out - Teachers in Attendance
END:VEVENT
BEGIN:VEVENT
DTSTAMP:20260420T003434Z
UID:884fd0a5-5a3e-4581-8249-2d484fa37665
DTSTART:20260610T180000
DTEND:20260610T200000
DESCRIPTION:<html><head><meta http-equiv="Content-Type" content="text/html\
 ; charset=utf-8"><meta name="Generator" content="Microsoft Word 15 (filter
 ed medium)"><style><!--@font-face	{font-family:"Cambria Math"}@font-face	{
 font-family:Aptos}p.MsoNormal\, li.MsoNormal\, div.MsoNormal	{margin:0in\;
 	font-size:12.0pt\;	font-family:"Aptos"\,sans-serif}span.EmailStyle17	{fon
 t-family:"Aptos"\,sans-serif\;	color:windowtext}.MsoChpDefault	{}@page Wor
 dSection1	{margin:1.0in 1.0in 1.0in 1.0in}div.WordSection1	{}--></style></
 head><body lang="EN-US" link="#467886" vlink="#96607D" style="word-wrap:br
 eak-word"><div class="WordSection1"><p class="MsoNormal"><span style="font
 -size:11.0pt">&nbsp\;</span></p></div></body></html>
LOCATION:South Plainfield High School Media Center
SUMMARY:BOE Regular Board Meeting
END:VEVENT
BEGIN:VEVENT
DTSTAMP:20260420T003434Z
UID:7a6ffad1-8dd7-4edc-895e-3aaa8823a9d8
DTSTART;VALUE=DATE:20260618
DTEND;VALUE=DATE:20260620
DESCRIPTION:<html><head><meta http-equiv="Content-Type" content="text/html\
 ; charset=utf-8"><meta name="ProgId" content="Word.Document"><meta name="G
 enerator" content="Microsoft Word 15"><meta name="Originator" content="Mic
 rosoft Word 15"><style><!--@font-face	{font-family:"Cambria Math"}@font-fa
 ce	{font-family:Aptos}p.MsoNormal\, li.MsoNormal\, div.MsoNormal	{margin:0
 in\;	font-size:12.0pt\;	font-family:"Aptos"\,sans-serif}a:link\, span.MsoH
 yperlink	{color:#467886\;	text-decoration:underline}a:visited\, span.MsoHy
 perlinkFollowed	{color:#96607D\;	text-decoration:underline}span.EmailStyle
 17	{font-family:"Aptos"\,sans-serif\;	color:windowtext}.MsoChpDefault	{}@p
 age WordSection1	{margin:1.0in 1.0in 1.0in 1.0in}div.WordSection1	{}--></s
 tyle></head><body lang="EN-US" link="#467886" vlink="#96607D" style="word-
 wrap:break-word"><div class="WordSection1"><p class="MsoNormal"><span styl
 e="font-size:11.0pt">&nbsp\;</span></p></div></body></html>
LOCATION:
SUMMARY:Early Dismissal for all Students
END:VEVENT
BEGIN:VEVENT
DTSTAMP:20260420T003434Z
UID:21849f56-dae4-4140-9edf-c8317ab736a9
DTSTART;VALUE=DATE:20260618
DTEND;VALUE=DATE:20260619
DESCRIPTION:<html><head><meta http-equiv="Content-Type" content="text/html\
 ; charset=utf-8"><meta name="ProgId" content="Word.Document"><meta name="G
 enerator" content="Microsoft Word 15"><meta name="Originator" content="Mic
 rosoft Word 15"><style><!--@font-face	{font-family:"Cambria Math"}@font-fa
 ce	{font-family:Aptos}p.MsoNormal\, li.MsoNormal\, div.MsoNormal	{margin:0
 in\;	font-size:12.0pt\;	font-family:"Aptos"\,sans-serif}a:link\, span.MsoH
 yperlink	{color:#467886\;	text-decoration:underline}a:visited\, span.MsoHy
 perlinkFollowed	{color:#96607D\;	text-decoration:underline}span.EmailStyle
 17	{font-family:"Aptos"\,sans-serif\;	color:windowtext}.MsoChpDefault	{}@p
 age WordSection1	{margin:1.0in 1.0in 1.0in 1.0in}div.WordSection1	{}--></s
 tyle></head><body lang="EN-US" link="#467886" vlink="#96607D" style="word-
 wrap:break-word"><div class="WordSection1"><p class="MsoNormal"><span styl
 e="font-size:11.0pt">&nbsp\;</span></p></div></body></html>
LOCATION:
SUMMARY:Middle School Promotion Exercises
END:VEVENT
BEGIN:VEVENT
DTSTAMP:20260420T003434Z
UID:073cf954-ddf4-413d-a5c4-74d3e34ce4ec
DTSTART;VALUE=DATE:20260619
DTEND;VALUE=DATE:20260620
DESCRIPTION:<html><head><meta http-equiv="Content-Type" content="text/html\
 ; charset=utf-8"><meta name="ProgId" content="Word.Document"><meta name="G
 enerator" content="Microsoft Word 15"><meta name="Originator" content="Mic
 rosoft Word 15"><style><!--@font-face	{font-family:"Cambria Math"}@font-fa
 ce	{font-family:Aptos}p.MsoNormal\, li.MsoNormal\, div.MsoNormal	{margin:0
 in\;	font-size:12.0pt\;	font-family:"Aptos"\,sans-serif}a:link\, span.MsoH
 yperlink	{color:#467886\;	text-decoration:underline}a:visited\, span.MsoHy
 perlinkFollowed	{color:#96607D\;	text-decoration:underline}span.EmailStyle
 17	{font-family:"Aptos"\,sans-serif\;	color:windowtext}.MsoChpDefault	{}@p
 age WordSection1	{margin:1.0in 1.0in 1.0in 1.0in}div.WordSection1	{}--></s
 tyle></head><body lang="EN-US" link="#467886" vlink="#96607D" style="word-
 wrap:break-word"><div class="WordSection1"><p class="MsoNormal"><span styl
 e="font-size:11.0pt">&nbsp\;</span></p></div></body></html>
LOCATION:
SUMMARY:End of Marking Period - Last Day for Students
END:VEVENT
BEGIN:VEVENT
DTSTAMP:20260420T003434Z
UID:73ae188a-6063-4045-ad25-34ffc7089053
DTSTART;VALUE=DATE:20260619
DTEND;VALUE=DATE:20260620
DESCRIPTION:<html><head><meta http-equiv="Content-Type" content="text/html\
 ; charset=utf-8"><meta name="ProgId" content="Word.Document"><meta name="G
 enerator" content="Microsoft Word 15"><meta name="Originator" content="Mic
 rosoft Word 15"><style><!--@font-face	{font-family:"Cambria Math"}@font-fa
 ce	{font-family:Aptos}p.MsoNormal\, li.MsoNormal\, div.MsoNormal	{margin:0
 in\;	font-size:12.0pt\;	font-family:"Aptos"\,sans-serif}a:link\, span.MsoH
 yperlink	{color:#467886\;	text-decoration:underline}a:visited\, span.MsoHy
 perlinkFollowed	{color:#96607D\;	text-decoration:underline}span.EmailStyle
 17	{font-family:"Aptos"\,sans-serif\;	color:windowtext}.MsoChpDefault	{}@p
 age WordSection1	{margin:1.0in 1.0in 1.0in 1.0in}div.WordSection1	{}--></s
 tyle></head><body lang="EN-US" link="#467886" vlink="#96607D" style="word-
 wrap:break-word"><div class="WordSection1"><p class="MsoNormal"><span styl
 e="font-size:11.0pt">&nbsp\;</span></p></div></body></html>
LOCATION:
SUMMARY:High School Graduation
END:VEVENT
BEGIN:VEVENT
DTSTAMP:20260420T003434Z
UID:b0051b50-0228-4318-a07e-55238216cd8c
DTSTART:20260715T180000
DTEND:20260715T200000
DESCRIPTION:<html><head><meta http-equiv="Content-Type" content="text/html\
 ; charset=utf-8"><meta name="Generator" content="Microsoft Word 15 (filter
 ed medium)"><style><!--@font-face	{font-family:"Cambria Math"}@font-face	{
 font-family:Aptos}p.MsoNormal\, li.MsoNormal\, div.MsoNormal	{margin:0in\;
 	font-size:12.0pt\;	font-family:"Aptos"\,sans-serif}span.EmailStyle17	{fon
 t-family:"Aptos"\,sans-serif\;	color:windowtext}.MsoChpDefault	{}@page Wor
 dSection1	{margin:1.0in 1.0in 1.0in 1.0in}div.WordSection1	{}--></style></
 head><body lang="EN-US" link="#467886" vlink="#96607D" style="word-wrap:br
 eak-word"><div class="WordSection1"><p class="MsoNormal"><span style="font
 -size:11.0pt">&nbsp\;</span></p></div></body></html>
LOCATION:South Plainfield High School Media Center
SUMMARY:BOE Regular Public Meeting
END:VEVENT
BEGIN:VEVENT
DTSTAMP:20260420T003434Z
UID:12b2b3fe-f51b-4bb1-9fd2-c394bc82364a
DTSTART:20260812T180000
DTEND:20260812T200000
DESCRIPTION:<html><head><meta http-equiv="Content-Type" content="text/html\
 ; charset=utf-8"><meta name="Generator" content="Microsoft Word 15 (filter
 ed medium)"><style><!--@font-face	{font-family:"Cambria Math"}@font-face	{
 font-family:Aptos}p.MsoNormal\, li.MsoNormal\, div.MsoNormal	{margin:0in\;
 	font-size:12.0pt\;	font-family:"Aptos"\,sans-serif}span.EmailStyle17	{fon
 t-family:"Aptos"\,sans-serif\;	color:windowtext}.MsoChpDefault	{}@page Wor
 dSection1	{margin:1.0in 1.0in 1.0in 1.0in}div.WordSection1	{}--></style></
 head><body lang="EN-US" link="#467886" vlink="#96607D" style="word-wrap:br
 eak-word"><div class="WordSection1"><p class="MsoNormal"><span style="font
 -size:11.0pt">&nbsp\;</span></p></div></body></html>
LOCATION:South Plainfield High School Media Center
SUMMARY:BOE Regular Public Meeting
END:VEVENT
BEGIN:VEVENT
DTSTAMP:20260420T003434Z
UID:ea4c39cc-d5d8-40f2-8e07-8257d06fc112
DTSTART:20260916T180000
DTEND:20260916T200000
DESCRIPTION:<html><head><meta http-equiv="Content-Type" content="text/html\
 ; charset=utf-8"><meta name="Generator" content="Microsoft Word 15 (filter
 ed medium)"><style><!--@font-face	{font-family:"Cambria Math"}@font-face	{
 font-family:Aptos}p.MsoNormal\, li.MsoNormal\, div.MsoNormal	{margin:0in\;
 	font-size:12.0pt\;	font-family:"Aptos"\,sans-serif}span.EmailStyle17	{fon
 t-family:"Aptos"\,sans-serif\;	color:windowtext}.MsoChpDefault	{}@page Wor
 dSection1	{margin:1.0in 1.0in 1.0in 1.0in}div.WordSection1	{}--></style></
 head><body lang="EN-US" link="#467886" vlink="#96607D" style="word-wrap:br
 eak-word"><div class="WordSection1"><p class="MsoNormal"><span style="font
 -size:11.0pt">&nbsp\;</span></p></div></body></html>
LOCATION:South Plainfield High School Media Center
SUMMARY:BOE Regular Public Meeting
END:VEVENT
BEGIN:VEVENT
DTSTAMP:20260420T003434Z
UID:e834551e-b6cb-45cb-be81-ba44342b69da
DTSTART:20261014T180000
DTEND:20261014T200000
DESCRIPTION:<html><head><meta http-equiv="Content-Type" content="text/html\
 ; charset=utf-8"><meta name="Generator" content="Microsoft Word 15 (filter
 ed medium)"><style><!--@font-face	{font-family:"Cambria Math"}@font-face	{
 font-family:Aptos}p.MsoNormal\, li.MsoNormal\, div.MsoNormal	{margin:0in\;
 	font-size:12.0pt\;	font-family:"Aptos"\,sans-serif}span.EmailStyle17	{fon
 t-family:"Aptos"\,sans-serif\;	color:windowtext}.MsoChpDefault	{}@page Wor
 dSection1	{margin:1.0in 1.0in 1.0in 1.0in}div.WordSection1	{}--></style></
 head><body lang="EN-US" link="#467886" vlink="#96607D" style="word-wrap:br
 eak-word"><div class="WordSection1"><p class="MsoNormal"><span style="font
 -size:11.0pt">&nbsp\;</span></p></div></body></html>
LOCATION:South Plainfield High School Media Center
SUMMARY:BOE Regular Board Meeting
END:VEVENT
BEGIN:VEVENT
DTSTAMP:20260420T003434Z
UID:96afe4e1-3c82-4e57-ada9-219b5c32a1fd
DTSTART:20261118T180000
DTEND:20261118T200000
DESCRIPTION:<html><head><meta http-equiv="Content-Type" content="text/html\
 ; charset=utf-8"><meta name="Generator" content="Microsoft Word 15 (filter
 ed medium)"><style><!--@font-face	{font-family:"Cambria Math"}@font-face	{
 font-family:Aptos}p.MsoNormal\, li.MsoNormal\, div.MsoNormal	{margin:0in\;
 	font-size:12.0pt\;	font-family:"Aptos"\,sans-serif}span.EmailStyle17	{fon
 t-family:"Aptos"\,sans-serif\;	color:windowtext}.MsoChpDefault	{}@page Wor
 dSection1	{margin:1.0in 1.0in 1.0in 1.0in}div.WordSection1	{}--></style></
 head><body lang="EN-US" link="#467886" vlink="#96607D" style="word-wrap:br
 eak-word"><div class="WordSection1"><p class="MsoNormal"><span style="font
 -size:11.0pt">&nbsp\;</span></p></div></body></html>
LOCATION:South Plainfield High School Media Center
SUMMARY:BOE Regular Board Meeting
END:VEVENT
END:VCALENDAR
