BEGIN:VCALENDAR
VERSION:2.0
PRODID:icalendar-ruby
CALSCALE:GREGORIAN
BEGIN:VTIMEZONE
TZID:America/New_York
BEGIN:DAYLIGHT
DTSTART:20260308T030000
TZOFFSETFROM:-0500
TZOFFSETTO:-0400
RRULE:FREQ=YEARLY;BYDAY=2SU;BYMONTH=3
TZNAME:EDT
END:DAYLIGHT
BEGIN:STANDARD
DTSTART:20261101T010000
TZOFFSETFROM:-0400
TZOFFSETTO:-0500
RRULE:FREQ=YEARLY;BYDAY=1SU;BYMONTH=11
TZNAME:EST
END:STANDARD
END:VTIMEZONE
BEGIN:VEVENT
DTSTAMP:20260419T183128Z
UID:eb9fe9dd-2b07-4bbe-8923-6a022550c7f1
DTSTART;VALUE=DATE:20260420
DTEND;VALUE=DATE:20260421
DESCRIPTION:<html><head><meta http-equiv="Content-Type" content="text/html\
 ; charset=utf-8"><meta name="ProgId" content="Word.Document"><meta name="G
 enerator" content="Microsoft Word 15"><meta name="Originator" content="Mic
 rosoft Word 15"><style><!--@font-face	{font-family:"Cambria Math"}@font-fa
 ce	{font-family:Aptos}p.MsoNormal\, li.MsoNormal\, div.MsoNormal	{margin:0
 in\;	font-size:12.0pt\;	font-family:"Aptos"\,sans-serif}a:link\, span.MsoH
 yperlink	{color:#467886\;	text-decoration:underline}a:visited\, span.MsoHy
 perlinkFollowed	{color:#96607D\;	text-decoration:underline}span.EmailStyle
 17	{font-family:"Aptos"\,sans-serif\;	color:windowtext}.MsoChpDefault	{}@p
 age WordSection1	{margin:1.0in 1.0in 1.0in 1.0in}div.WordSection1	{}--></s
 tyle></head><body lang="EN-US" link="#467886" vlink="#96607D" style="word-
 wrap:break-word"><div class="WordSection1"><p class="MsoNormal"><span styl
 e="font-size:11.0pt">&nbsp\;</span></p></div></body></html>
LOCATION:
SUMMARY:End of 3rd Marking Period
END:VEVENT
BEGIN:VEVENT
DTSTAMP:20260419T183128Z
UID:b5de3983-2149-4fdb-ae4b-13ae725c724b
DTSTART:20260420T080000
DTEND:20260420T090000
DESCRIPTION:
LOCATION:
SUMMARY:End of 3rd Marking Period
END:VEVENT
BEGIN:VEVENT
DTSTAMP:20260419T183128Z
UID:52287625-ccc6-42ec-b0b0-ff0e52a053fb
DTSTART:20260422T150000
DTEND:20260422T160000
DESCRIPTION:
LOCATION:
SUMMARY:Talent Show Auditions
END:VEVENT
BEGIN:VEVENT
DTSTAMP:20260419T183128Z
UID:d6fd8181-3941-4bb3-a636-a7231c05c94d
DTSTART:20260423T080000
DTEND:20260423T090000
DESCRIPTION:
LOCATION:
SUMMARY:Bring You Child to Work Day
END:VEVENT
BEGIN:VEVENT
DTSTAMP:20260419T183128Z
UID:2002c8ff-9e89-42e9-b60d-de036a1efd71
DTSTART:20260430T080000
DTEND:20260430T090000
DESCRIPTION:
LOCATION:
SUMMARY:PTSO Pet Adoption Event
END:VEVENT
BEGIN:VEVENT
DTSTAMP:20260419T183128Z
UID:f519dcdf-4562-42d2-b12c-8eb8bd51e26e
DTSTART:20260430T080000
DTEND:20260430T090000
DESCRIPTION:
LOCATION:
SUMMARY:Student of the Month Assembly
END:VEVENT
BEGIN:VEVENT
DTSTAMP:20260419T183128Z
UID:debe7a61-7954-44f9-be23-c9f0132b297d
DTSTART:20260501T080000
DTEND:20260501T090000
DESCRIPTION:
LOCATION:
SUMMARY:Report Cards Available in Genesis
END:VEVENT
BEGIN:VEVENT
DTSTAMP:20260419T183128Z
UID:b2acfb04-c752-4928-92d2-626c1b4c787e
DTSTART:20260504T080000
DTEND:20260504T090000
DESCRIPTION:
LOCATION:
SUMMARY:NJSLA Testing (Grades 3 &4)
END:VEVENT
BEGIN:VEVENT
DTSTAMP:20260419T183128Z
UID:32982510-3a1f-4733-8c53-b598db1de60a
DTSTART:20260505T080000
DTEND:20260505T090000
DESCRIPTION:
LOCATION:
SUMMARY:NJSLA Testing (Grades 3 &4)
END:VEVENT
BEGIN:VEVENT
DTSTAMP:20260419T183128Z
UID:773753b1-3a9c-4f34-96d5-d7be306eb7d4
DTSTART:20260506T080000
DTEND:20260506T090000
DESCRIPTION:
LOCATION:
SUMMARY:NJSLA Testing (Grades 3 &4)
END:VEVENT
BEGIN:VEVENT
DTSTAMP:20260419T183128Z
UID:bb25abb4-df0f-4fe4-ada6-c0fca571ae77
DTSTART:20260506T180000
DTEND:20260506T200000
DESCRIPTION:<html><head><meta http-equiv="Content-Type" content="text/html\
 ; charset=utf-8"><meta name="Generator" content="Microsoft Word 15 (filter
 ed medium)"><style><!--@font-face	{font-family:"Cambria Math"}@font-face	{
 font-family:Aptos}p.MsoNormal\, li.MsoNormal\, div.MsoNormal	{margin:0in\;
 	font-size:12.0pt\;	font-family:"Aptos"\,sans-serif}span.EmailStyle17	{fon
 t-family:"Aptos"\,sans-serif\;	color:windowtext}.MsoChpDefault	{}@page Wor
 dSection1	{margin:1.0in 1.0in 1.0in 1.0in}div.WordSection1	{}--></style></
 head><body lang="EN-US" link="#467886" vlink="#96607D" style="word-wrap:br
 eak-word"><div class="WordSection1"><p class="MsoNormal"><span style="font
 -size:11.0pt">&nbsp\;</span></p></div></body></html>
LOCATION:South Plainfield High School Media Center
SUMMARY:BOE Regular Board Meeting/Budget Hearing and Adoption
END:VEVENT
BEGIN:VEVENT
DTSTAMP:20260419T183128Z
UID:748dd4cf-561b-494f-a297-757f69b80c15
DTSTART:20260507T080000
DTEND:20260507T090000
DESCRIPTION:
LOCATION:
SUMMARY:NJSLA Testing (Grades 3 &4)
END:VEVENT
BEGIN:VEVENT
DTSTAMP:20260419T183128Z
UID:9a5add5a-d4a0-455a-a1ac-006faa18acb6
DTSTART:20260508T080000
DTEND:20260508T090000
DESCRIPTION:
LOCATION:
SUMMARY:NJSLA Testing (Grades 3 &4)
END:VEVENT
BEGIN:VEVENT
DTSTAMP:20260419T183128Z
UID:61c8a7b7-37d2-4184-9ccd-dba826b4e169
DTSTART:20260511T080000
DTEND:20260515T090000
DESCRIPTION:
LOCATION:
SUMMARY:Multicultural Week
END:VEVENT
BEGIN:VEVENT
DTSTAMP:20260419T183128Z
UID:2145a245-fbe3-4d88-b6f7-293f5c8c5f7b
DTSTART:20260512T193000
DTEND:20260512T203000
DESCRIPTION:
LOCATION:
SUMMARY:PTSO Meeting
END:VEVENT
BEGIN:VEVENT
DTSTAMP:20260419T183128Z
UID:e4abb8eb-29dd-448b-b21b-d8dc9f23d2e9
DTSTART:20260518T183000
DTEND:20260518T203000
DESCRIPTION:
LOCATION:
SUMMARY:Spring Concert & Art Show
END:VEVENT
BEGIN:VEVENT
DTSTAMP:20260419T183128Z
UID:5a0d1f46-faa3-45b2-b5d4-e8b0df8a7fd0
DTSTART:20260519T080000
DTEND:20260519T090000
DESCRIPTION:
LOCATION:
SUMMARY:Field Day
END:VEVENT
BEGIN:VEVENT
DTSTAMP:20260419T183128Z
UID:a525c10a-aa06-4884-b09d-ac03a10ffe6a
DTSTART;VALUE=DATE:20260521
DTEND;VALUE=DATE:20260523
DESCRIPTION:<html><head><meta http-equiv="Content-Type" content="text/html\
 ; charset=utf-8"><meta name="ProgId" content="Word.Document"><meta name="G
 enerator" content="Microsoft Word 15"><meta name="Originator" content="Mic
 rosoft Word 15"><style><!--@font-face	{font-family:"Cambria Math"}@font-fa
 ce	{font-family:Aptos}p.MsoNormal\, li.MsoNormal\, div.MsoNormal	{margin:0
 in\;	font-size:12.0pt\;	font-family:"Aptos"\,sans-serif}a:link\, span.MsoH
 yperlink	{color:#467886\;	text-decoration:underline}a:visited\, span.MsoHy
 perlinkFollowed	{color:#96607D\;	text-decoration:underline}span.EmailStyle
 17	{font-family:"Aptos"\,sans-serif\;	color:windowtext}.MsoChpDefault	{}@p
 age WordSection1	{margin:1.0in 1.0in 1.0in 1.0in}div.WordSection1	{}--></s
 tyle></head><body lang="EN-US" link="#467886" vlink="#96607D" style="word-
 wrap:break-word"><div class="WordSection1"><p class="MsoNormal"><span styl
 e="font-size:11.0pt">&nbsp\;</span></p></div></body></html>
LOCATION:
SUMMARY:Optional Holiday - Schools/Offices May be CLOSED
END:VEVENT
BEGIN:VEVENT
DTSTAMP:20260419T183128Z
UID:db23995f-7eb0-4f2c-bfe7-5c81e7d67d12
DTSTART:20260521T080000
DTEND:20260521T090000
DESCRIPTION:
LOCATION:
SUMMARY:4th GRade Orientation Trip to Grant School
END:VEVENT
BEGIN:VEVENT
DTSTAMP:20260419T183128Z
UID:66d7f0a0-f925-4bdc-98a6-e1abe6057a0a
DTSTART;VALUE=DATE:20260525
DTEND;VALUE=DATE:20260526
DESCRIPTION:<html><head><meta http-equiv="Content-Type" content="text/html\
 ; charset=utf-8"><meta name="ProgId" content="Word.Document"><meta name="G
 enerator" content="Microsoft Word 15"><meta name="Originator" content="Mic
 rosoft Word 15"><style><!--@font-face	{font-family:"Cambria Math"}@font-fa
 ce	{font-family:Aptos}p.MsoNormal\, li.MsoNormal\, div.MsoNormal	{margin:0
 in\;	font-size:12.0pt\;	font-family:"Aptos"\,sans-serif}a:link\, span.MsoH
 yperlink	{color:#467886\;	text-decoration:underline}a:visited\, span.MsoHy
 perlinkFollowed	{color:#96607D\;	text-decoration:underline}span.EmailStyle
 17	{font-family:"Aptos"\,sans-serif\;	color:windowtext}.MsoChpDefault	{}@p
 age WordSection1	{margin:1.0in 1.0in 1.0in 1.0in}div.WordSection1	{}--></s
 tyle></head><body lang="EN-US" link="#467886" vlink="#96607D" style="word-
 wrap:break-word"><div class="WordSection1"><p class="MsoNormal"><span styl
 e="font-size:11.0pt">&nbsp\;</span></p></div></body></html>
LOCATION:
SUMMARY:Memorial Day  - Schools/Offices CLOSED
END:VEVENT
BEGIN:VEVENT
DTSTAMP:20260419T183128Z
UID:0e8bd270-a78d-4671-aa0c-2de6eb4ce956
DTSTART;VALUE=DATE:20260526
DTEND;VALUE=DATE:20260527
DESCRIPTION:<html><head><meta http-equiv="Content-Type" content="text/html\
 ; charset=utf-8"><meta name="ProgId" content="Word.Document"><meta name="G
 enerator" content="Microsoft Word 15"><meta name="Originator" content="Mic
 rosoft Word 15"><style><!--@font-face	{font-family:"Cambria Math"}@font-fa
 ce	{font-family:Aptos}p.MsoNormal\, li.MsoNormal\, div.MsoNormal	{margin:0
 in\;	font-size:12.0pt\;	font-family:"Aptos"\,sans-serif}a:link\, span.MsoH
 yperlink	{color:#467886\;	text-decoration:underline}a:visited\, span.MsoHy
 perlinkFollowed	{color:#96607D\;	text-decoration:underline}span.EmailStyle
 17	{font-family:"Aptos"\,sans-serif\;	color:windowtext}.MsoChpDefault	{}@p
 age WordSection1	{margin:1.0in 1.0in 1.0in 1.0in}div.WordSection1	{}--></s
 tyle></head><body lang="EN-US" link="#467886" vlink="#96607D" style="word-
 wrap:break-word"><div class="WordSection1"><p class="MsoNormal"><span styl
 e="font-size:11.0pt">&nbsp\;</span></p></div></body></html>
LOCATION:
SUMMARY:Optional Holiday - Schools/Offices May be CLOSED
END:VEVENT
BEGIN:VEVENT
DTSTAMP:20260419T183128Z
UID:e74ab3a2-4d5c-48f2-83c0-44273a78dc57
DTSTART:20260526T080000
DTEND:20260526T090000
DESCRIPTION:
LOCATION:
SUMMARY:Career Day
END:VEVENT
BEGIN:VEVENT
DTSTAMP:20260419T183128Z
UID:64bbc872-5b70-4e7c-84e8-ff27d404a44b
DTSTART:20260528T080000
DTEND:20260528T090000
DESCRIPTION:
LOCATION:
SUMMARY:Student of the Month Assembly
END:VEVENT
BEGIN:VEVENT
DTSTAMP:20260419T183128Z
UID:f8dded74-49e9-4031-b4c8-1dabf6add081
DTSTART:20260529T080000
DTEND:20260529T090000
DESCRIPTION:
LOCATION:
SUMMARY:Day of Service
END:VEVENT
BEGIN:VEVENT
DTSTAMP:20260419T183128Z
UID:27d3246c-9b92-47c4-a0a2-150f022da43e
DTSTART:20260601T090000
DTEND:20260601T110000
DESCRIPTION:
LOCATION:
SUMMARY:Talent Show
END:VEVENT
BEGIN:VEVENT
DTSTAMP:20260419T183128Z
UID:acc17f79-2ea3-4f08-85bf-abe2e5450e78
DTSTART;VALUE=DATE:20260602
DTEND;VALUE=DATE:20260603
DESCRIPTION:<html><head><meta http-equiv="Content-Type" content="text/html\
 ; charset=utf-8"><meta name="ProgId" content="Word.Document"><meta name="G
 enerator" content="Microsoft Word 15"><meta name="Originator" content="Mic
 rosoft Word 15"><style><!--@font-face	{font-family:"Cambria Math"}@font-fa
 ce	{font-family:Aptos}p.MsoNormal\, li.MsoNormal\, div.MsoNormal	{margin:0
 in\;	font-size:12.0pt\;	font-family:"Aptos"\,sans-serif}a:link\, span.MsoH
 yperlink	{color:#467886\;	text-decoration:underline}a:visited\, span.MsoHy
 perlinkFollowed	{color:#96607D\;	text-decoration:underline}span.EmailStyle
 17	{font-family:"Aptos"\,sans-serif\;	color:windowtext}.MsoChpDefault	{}@p
 age WordSection1	{margin:1.0in 1.0in 1.0in 1.0in}div.WordSection1	{}--></s
 tyle></head><body lang="EN-US" link="#467886" vlink="#96607D" style="word-
 wrap:break-word"><div class="WordSection1"><p class="MsoNormal"><span styl
 e="font-size:11.0pt">&nbsp\;</span></p></div></body></html>
LOCATION:
SUMMARY:Professional Day - Students out - Teachers in Attendance
END:VEVENT
BEGIN:VEVENT
DTSTAMP:20260419T183128Z
UID:7469a7de-60a9-4a3b-b9ec-056856715a43
DTSTART:20260605T080000
DTEND:20260605T090000
DESCRIPTION:
LOCATION:
SUMMARY:Carnival Day
END:VEVENT
BEGIN:VEVENT
DTSTAMP:20260419T183128Z
UID:ffb2ea39-91f8-4212-aa84-83d204cb6da9
DTSTART:20260608T080000
DTEND:20260608T090000
DESCRIPTION:
LOCATION:
SUMMARY:Carnival Day (Rain Date)
END:VEVENT
BEGIN:VEVENT
DTSTAMP:20260419T183128Z
UID:cae49900-e5c1-45f9-a80c-6afb110fbbd0
DTSTART:20260609T080000
DTEND:20260609T090000
DESCRIPTION:
LOCATION:
SUMMARY:4th Grade Trip
END:VEVENT
BEGIN:VEVENT
DTSTAMP:20260419T183128Z
UID:c5560dbd-86c6-40ae-bfea-5c38d7a80121
DTSTART:20260610T180000
DTEND:20260610T200000
DESCRIPTION:<html><head><meta http-equiv="Content-Type" content="text/html\
 ; charset=utf-8"><meta name="Generator" content="Microsoft Word 15 (filter
 ed medium)"><style><!--@font-face	{font-family:"Cambria Math"}@font-face	{
 font-family:Aptos}p.MsoNormal\, li.MsoNormal\, div.MsoNormal	{margin:0in\;
 	font-size:12.0pt\;	font-family:"Aptos"\,sans-serif}span.EmailStyle17	{fon
 t-family:"Aptos"\,sans-serif\;	color:windowtext}.MsoChpDefault	{}@page Wor
 dSection1	{margin:1.0in 1.0in 1.0in 1.0in}div.WordSection1	{}--></style></
 head><body lang="EN-US" link="#467886" vlink="#96607D" style="word-wrap:br
 eak-word"><div class="WordSection1"><p class="MsoNormal"><span style="font
 -size:11.0pt">&nbsp\;</span></p></div></body></html>
LOCATION:South Plainfield High School Media Center
SUMMARY:BOE Regular Board Meeting
END:VEVENT
BEGIN:VEVENT
DTSTAMP:20260419T183128Z
UID:7e36b79e-1360-4ce7-9730-d3cbc6eebf68
DTSTART:20260612T080000
DTEND:20260612T090000
DESCRIPTION:
LOCATION:
SUMMARY:4th Grade Breakfast and Yearbook Signing
END:VEVENT
BEGIN:VEVENT
DTSTAMP:20260419T183128Z
UID:4718cfbe-10dd-4d31-a184-efd0b3cdb5cb
DTSTART;VALUE=DATE:20260618
DTEND;VALUE=DATE:20260620
DESCRIPTION:<html><head><meta http-equiv="Content-Type" content="text/html\
 ; charset=utf-8"><meta name="ProgId" content="Word.Document"><meta name="G
 enerator" content="Microsoft Word 15"><meta name="Originator" content="Mic
 rosoft Word 15"><style><!--@font-face	{font-family:"Cambria Math"}@font-fa
 ce	{font-family:Aptos}p.MsoNormal\, li.MsoNormal\, div.MsoNormal	{margin:0
 in\;	font-size:12.0pt\;	font-family:"Aptos"\,sans-serif}a:link\, span.MsoH
 yperlink	{color:#467886\;	text-decoration:underline}a:visited\, span.MsoHy
 perlinkFollowed	{color:#96607D\;	text-decoration:underline}span.EmailStyle
 17	{font-family:"Aptos"\,sans-serif\;	color:windowtext}.MsoChpDefault	{}@p
 age WordSection1	{margin:1.0in 1.0in 1.0in 1.0in}div.WordSection1	{}--></s
 tyle></head><body lang="EN-US" link="#467886" vlink="#96607D" style="word-
 wrap:break-word"><div class="WordSection1"><p class="MsoNormal"><span styl
 e="font-size:11.0pt">&nbsp\;</span></p></div></body></html>
LOCATION:
SUMMARY:Early Dismissal for all Students
END:VEVENT
BEGIN:VEVENT
DTSTAMP:20260419T183128Z
UID:11c3849a-26e5-4c22-91e9-095ff8b17756
DTSTART;VALUE=DATE:20260618
DTEND;VALUE=DATE:20260619
DESCRIPTION:<html><head><meta http-equiv="Content-Type" content="text/html\
 ; charset=utf-8"><meta name="ProgId" content="Word.Document"><meta name="G
 enerator" content="Microsoft Word 15"><meta name="Originator" content="Mic
 rosoft Word 15"><style><!--@font-face	{font-family:"Cambria Math"}@font-fa
 ce	{font-family:Aptos}p.MsoNormal\, li.MsoNormal\, div.MsoNormal	{margin:0
 in\;	font-size:12.0pt\;	font-family:"Aptos"\,sans-serif}a:link\, span.MsoH
 yperlink	{color:#467886\;	text-decoration:underline}a:visited\, span.MsoHy
 perlinkFollowed	{color:#96607D\;	text-decoration:underline}span.EmailStyle
 17	{font-family:"Aptos"\,sans-serif\;	color:windowtext}.MsoChpDefault	{}@p
 age WordSection1	{margin:1.0in 1.0in 1.0in 1.0in}div.WordSection1	{}--></s
 tyle></head><body lang="EN-US" link="#467886" vlink="#96607D" style="word-
 wrap:break-word"><div class="WordSection1"><p class="MsoNormal"><span styl
 e="font-size:11.0pt">&nbsp\;</span></p></div></body></html>
LOCATION:
SUMMARY:Middle School Promotion Exercises
END:VEVENT
BEGIN:VEVENT
DTSTAMP:20260419T183128Z
UID:7dd12d4d-1db6-47cf-84f4-533bc9c6b734
DTSTART;VALUE=DATE:20260619
DTEND;VALUE=DATE:20260620
DESCRIPTION:<html><head><meta http-equiv="Content-Type" content="text/html\
 ; charset=utf-8"><meta name="ProgId" content="Word.Document"><meta name="G
 enerator" content="Microsoft Word 15"><meta name="Originator" content="Mic
 rosoft Word 15"><style><!--@font-face	{font-family:"Cambria Math"}@font-fa
 ce	{font-family:Aptos}p.MsoNormal\, li.MsoNormal\, div.MsoNormal	{margin:0
 in\;	font-size:12.0pt\;	font-family:"Aptos"\,sans-serif}a:link\, span.MsoH
 yperlink	{color:#467886\;	text-decoration:underline}a:visited\, span.MsoHy
 perlinkFollowed	{color:#96607D\;	text-decoration:underline}span.EmailStyle
 17	{font-family:"Aptos"\,sans-serif\;	color:windowtext}.MsoChpDefault	{}@p
 age WordSection1	{margin:1.0in 1.0in 1.0in 1.0in}div.WordSection1	{}--></s
 tyle></head><body lang="EN-US" link="#467886" vlink="#96607D" style="word-
 wrap:break-word"><div class="WordSection1"><p class="MsoNormal"><span styl
 e="font-size:11.0pt">&nbsp\;</span></p></div></body></html>
LOCATION:
SUMMARY:End of Marking Period - Last Day for Students
END:VEVENT
BEGIN:VEVENT
DTSTAMP:20260419T183128Z
UID:1972ae9d-8cc7-47b9-881e-b2e8b9f637c9
DTSTART;VALUE=DATE:20260619
DTEND;VALUE=DATE:20260620
DESCRIPTION:<html><head><meta http-equiv="Content-Type" content="text/html\
 ; charset=utf-8"><meta name="ProgId" content="Word.Document"><meta name="G
 enerator" content="Microsoft Word 15"><meta name="Originator" content="Mic
 rosoft Word 15"><style><!--@font-face	{font-family:"Cambria Math"}@font-fa
 ce	{font-family:Aptos}p.MsoNormal\, li.MsoNormal\, div.MsoNormal	{margin:0
 in\;	font-size:12.0pt\;	font-family:"Aptos"\,sans-serif}a:link\, span.MsoH
 yperlink	{color:#467886\;	text-decoration:underline}a:visited\, span.MsoHy
 perlinkFollowed	{color:#96607D\;	text-decoration:underline}span.EmailStyle
 17	{font-family:"Aptos"\,sans-serif\;	color:windowtext}.MsoChpDefault	{}@p
 age WordSection1	{margin:1.0in 1.0in 1.0in 1.0in}div.WordSection1	{}--></s
 tyle></head><body lang="EN-US" link="#467886" vlink="#96607D" style="word-
 wrap:break-word"><div class="WordSection1"><p class="MsoNormal"><span styl
 e="font-size:11.0pt">&nbsp\;</span></p></div></body></html>
LOCATION:
SUMMARY:High School Graduation
END:VEVENT
BEGIN:VEVENT
DTSTAMP:20260419T183128Z
UID:811d67bb-5ae4-4d88-af09-c01d3a3566d7
DTSTART:20260715T180000
DTEND:20260715T200000
DESCRIPTION:<html><head><meta http-equiv="Content-Type" content="text/html\
 ; charset=utf-8"><meta name="Generator" content="Microsoft Word 15 (filter
 ed medium)"><style><!--@font-face	{font-family:"Cambria Math"}@font-face	{
 font-family:Aptos}p.MsoNormal\, li.MsoNormal\, div.MsoNormal	{margin:0in\;
 	font-size:12.0pt\;	font-family:"Aptos"\,sans-serif}span.EmailStyle17	{fon
 t-family:"Aptos"\,sans-serif\;	color:windowtext}.MsoChpDefault	{}@page Wor
 dSection1	{margin:1.0in 1.0in 1.0in 1.0in}div.WordSection1	{}--></style></
 head><body lang="EN-US" link="#467886" vlink="#96607D" style="word-wrap:br
 eak-word"><div class="WordSection1"><p class="MsoNormal"><span style="font
 -size:11.0pt">&nbsp\;</span></p></div></body></html>
LOCATION:South Plainfield High School Media Center
SUMMARY:BOE Regular Public Meeting
END:VEVENT
BEGIN:VEVENT
DTSTAMP:20260419T183128Z
UID:bf922af1-94a5-49fa-8af0-195907cf8557
DTSTART:20260812T180000
DTEND:20260812T200000
DESCRIPTION:<html><head><meta http-equiv="Content-Type" content="text/html\
 ; charset=utf-8"><meta name="Generator" content="Microsoft Word 15 (filter
 ed medium)"><style><!--@font-face	{font-family:"Cambria Math"}@font-face	{
 font-family:Aptos}p.MsoNormal\, li.MsoNormal\, div.MsoNormal	{margin:0in\;
 	font-size:12.0pt\;	font-family:"Aptos"\,sans-serif}span.EmailStyle17	{fon
 t-family:"Aptos"\,sans-serif\;	color:windowtext}.MsoChpDefault	{}@page Wor
 dSection1	{margin:1.0in 1.0in 1.0in 1.0in}div.WordSection1	{}--></style></
 head><body lang="EN-US" link="#467886" vlink="#96607D" style="word-wrap:br
 eak-word"><div class="WordSection1"><p class="MsoNormal"><span style="font
 -size:11.0pt">&nbsp\;</span></p></div></body></html>
LOCATION:South Plainfield High School Media Center
SUMMARY:BOE Regular Public Meeting
END:VEVENT
BEGIN:VEVENT
DTSTAMP:20260419T183128Z
UID:80e18fa9-a10a-468d-94dc-a80a0aca54a4
DTSTART:20260916T180000
DTEND:20260916T200000
DESCRIPTION:<html><head><meta http-equiv="Content-Type" content="text/html\
 ; charset=utf-8"><meta name="Generator" content="Microsoft Word 15 (filter
 ed medium)"><style><!--@font-face	{font-family:"Cambria Math"}@font-face	{
 font-family:Aptos}p.MsoNormal\, li.MsoNormal\, div.MsoNormal	{margin:0in\;
 	font-size:12.0pt\;	font-family:"Aptos"\,sans-serif}span.EmailStyle17	{fon
 t-family:"Aptos"\,sans-serif\;	color:windowtext}.MsoChpDefault	{}@page Wor
 dSection1	{margin:1.0in 1.0in 1.0in 1.0in}div.WordSection1	{}--></style></
 head><body lang="EN-US" link="#467886" vlink="#96607D" style="word-wrap:br
 eak-word"><div class="WordSection1"><p class="MsoNormal"><span style="font
 -size:11.0pt">&nbsp\;</span></p></div></body></html>
LOCATION:South Plainfield High School Media Center
SUMMARY:BOE Regular Public Meeting
END:VEVENT
BEGIN:VEVENT
DTSTAMP:20260419T183128Z
UID:a984d9c7-0434-4dc8-8041-c63814999a6d
DTSTART:20261014T180000
DTEND:20261014T200000
DESCRIPTION:<html><head><meta http-equiv="Content-Type" content="text/html\
 ; charset=utf-8"><meta name="Generator" content="Microsoft Word 15 (filter
 ed medium)"><style><!--@font-face	{font-family:"Cambria Math"}@font-face	{
 font-family:Aptos}p.MsoNormal\, li.MsoNormal\, div.MsoNormal	{margin:0in\;
 	font-size:12.0pt\;	font-family:"Aptos"\,sans-serif}span.EmailStyle17	{fon
 t-family:"Aptos"\,sans-serif\;	color:windowtext}.MsoChpDefault	{}@page Wor
 dSection1	{margin:1.0in 1.0in 1.0in 1.0in}div.WordSection1	{}--></style></
 head><body lang="EN-US" link="#467886" vlink="#96607D" style="word-wrap:br
 eak-word"><div class="WordSection1"><p class="MsoNormal"><span style="font
 -size:11.0pt">&nbsp\;</span></p></div></body></html>
LOCATION:South Plainfield High School Media Center
SUMMARY:BOE Regular Board Meeting
END:VEVENT
BEGIN:VEVENT
DTSTAMP:20260419T183128Z
UID:efa3b9ed-f260-435f-aabc-7bbecb6434c8
DTSTART:20261118T180000
DTEND:20261118T200000
DESCRIPTION:<html><head><meta http-equiv="Content-Type" content="text/html\
 ; charset=utf-8"><meta name="Generator" content="Microsoft Word 15 (filter
 ed medium)"><style><!--@font-face	{font-family:"Cambria Math"}@font-face	{
 font-family:Aptos}p.MsoNormal\, li.MsoNormal\, div.MsoNormal	{margin:0in\;
 	font-size:12.0pt\;	font-family:"Aptos"\,sans-serif}span.EmailStyle17	{fon
 t-family:"Aptos"\,sans-serif\;	color:windowtext}.MsoChpDefault	{}@page Wor
 dSection1	{margin:1.0in 1.0in 1.0in 1.0in}div.WordSection1	{}--></style></
 head><body lang="EN-US" link="#467886" vlink="#96607D" style="word-wrap:br
 eak-word"><div class="WordSection1"><p class="MsoNormal"><span style="font
 -size:11.0pt">&nbsp\;</span></p></div></body></html>
LOCATION:South Plainfield High School Media Center
SUMMARY:BOE Regular Board Meeting
END:VEVENT
END:VCALENDAR
