BEGIN:VCALENDAR
VERSION:2.0
PRODID:icalendar-ruby
CALSCALE:GREGORIAN
BEGIN:VTIMEZONE
TZID:America/New_York
BEGIN:DAYLIGHT
DTSTART:20260308T030000
TZOFFSETFROM:-0500
TZOFFSETTO:-0400
RRULE:FREQ=YEARLY;BYDAY=2SU;BYMONTH=3
TZNAME:EDT
END:DAYLIGHT
BEGIN:STANDARD
DTSTART:20261101T010000
TZOFFSETFROM:-0400
TZOFFSETTO:-0500
RRULE:FREQ=YEARLY;BYDAY=1SU;BYMONTH=11
TZNAME:EST
END:STANDARD
END:VTIMEZONE
BEGIN:VEVENT
DTSTAMP:20260419T183933Z
UID:fb15f99d-b89f-432c-8927-c545953bf697
DTSTART:20260422T084500
DTEND:20260422T113000
DESCRIPTION:
LOCATION:
SUMMARY:JFK Spring Picture Day
END:VEVENT
BEGIN:VEVENT
DTSTAMP:20260419T183933Z
UID:779a3ace-c88e-4953-99dc-defcb357d0b5
DTSTART:20260424T140000
DTEND:20260424T150000
DESCRIPTION:
LOCATION:
SUMMARY:JFK Pretzel Day
END:VEVENT
END:VCALENDAR
