BEGIN:VCALENDAR
VERSION:2.0
PRODID:icalendar-ruby
CALSCALE:GREGORIAN
BEGIN:VTIMEZONE
TZID:America/New_York
BEGIN:DAYLIGHT
DTSTART:20260308T030000
TZOFFSETFROM:-0500
TZOFFSETTO:-0400
RRULE:FREQ=YEARLY;BYDAY=2SU;BYMONTH=3
TZNAME:EDT
END:DAYLIGHT
BEGIN:STANDARD
DTSTART:20261101T010000
TZOFFSETFROM:-0400
TZOFFSETTO:-0500
RRULE:FREQ=YEARLY;BYDAY=1SU;BYMONTH=11
TZNAME:EST
END:STANDARD
END:VTIMEZONE
BEGIN:VEVENT
DTSTAMP:20260426T021913Z
UID:92f870c0-c7f4-419d-9d59-f000826ffdff
DTSTART:20260518T084000
DTEND:20260518T094000
DESCRIPTION:
LOCATION:
SUMMARY:Points with the Principal: Building Classroom Communities for the U
 pcoming Year
END:VEVENT
BEGIN:VEVENT
DTSTAMP:20260426T021913Z
UID:d1049a13-e6ed-4648-9c9b-df2e6768ea62
DTSTART;VALUE=DATE:20260525
DTEND;VALUE=DATE:20260526
DESCRIPTION:
LOCATION:
SUMMARY:No School: Holiday
END:VEVENT
BEGIN:VEVENT
DTSTAMP:20260426T021913Z
UID:9e457bb5-6dbb-4e9f-8d0c-57281f2fa973
DTSTART;VALUE=DATE:20260612
DTEND;VALUE=DATE:20260613
DESCRIPTION:
LOCATION:
SUMMARY:Field Day
END:VEVENT
BEGIN:VEVENT
DTSTAMP:20260426T021913Z
UID:cdc35c3a-78e8-432e-bfa1-df95b0a5d0f3
DTSTART;VALUE=DATE:20260615
DTEND;VALUE=DATE:20260616
DESCRIPTION:
LOCATION:
SUMMARY:Field Day Rain Date
END:VEVENT
BEGIN:VEVENT
DTSTAMP:20260426T021913Z
UID:3ab0263f-a211-42d7-bdb8-8df606b30f53
DTSTART;VALUE=DATE:20260618
DTEND;VALUE=DATE:20260619
DESCRIPTION:
LOCATION:
SUMMARY:Last Student Day * Each Cancelled Day Adds One Day
END:VEVENT
BEGIN:VEVENT
DTSTAMP:20260426T021913Z
UID:d66d4041-aed4-4569-b37d-575cbecb78bd
DTSTART;VALUE=DATE:20270324
DTEND;VALUE=DATE:20270325
DESCRIPTION:
LOCATION:
SUMMARY:Pam's b-day
END:VEVENT
BEGIN:VEVENT
DTSTAMP:20260426T021913Z
UID:6c3b117f-7345-4ec0-bd7c-19ab6d11ffa8
DTSTART;VALUE=DATE:20280324
DTEND;VALUE=DATE:20280325
DESCRIPTION:
LOCATION:
SUMMARY:Pam's b-day
END:VEVENT
BEGIN:VEVENT
DTSTAMP:20260426T021913Z
UID:35308ef9-de39-4ebd-9262-c52a56b271f2
DTSTART;VALUE=DATE:20290324
DTEND;VALUE=DATE:20290325
DESCRIPTION:
LOCATION:
SUMMARY:Pam's b-day
END:VEVENT
BEGIN:VEVENT
DTSTAMP:20260426T021913Z
UID:afd9989c-2183-405c-9635-3909f2b66f3f
DTSTART;VALUE=DATE:20300324
DTEND;VALUE=DATE:20300325
DESCRIPTION:
LOCATION:
SUMMARY:Pam's b-day
END:VEVENT
BEGIN:VEVENT
DTSTAMP:20260426T021913Z
UID:7dec87b7-f7f1-4109-a562-850b4cb3ff29
DTSTART;VALUE=DATE:20310324
DTEND;VALUE=DATE:20310325
DESCRIPTION:
LOCATION:
SUMMARY:Pam's b-day
END:VEVENT
BEGIN:VEVENT
DTSTAMP:20260426T021913Z
UID:36aba083-e2ce-4447-8716-5fab56b87062
DTSTART;VALUE=DATE:20320324
DTEND;VALUE=DATE:20320325
DESCRIPTION:
LOCATION:
SUMMARY:Pam's b-day
END:VEVENT
BEGIN:VEVENT
DTSTAMP:20260426T021913Z
UID:514b337a-e36a-4331-ab2f-6564c13a5369
DTSTART;VALUE=DATE:20330324
DTEND;VALUE=DATE:20330325
DESCRIPTION:
LOCATION:
SUMMARY:Pam's b-day
END:VEVENT
BEGIN:VEVENT
DTSTAMP:20260426T021913Z
UID:ab29a1a1-f32f-48c6-9a1b-3c9cd0cac7d7
DTSTART;VALUE=DATE:20340324
DTEND;VALUE=DATE:20340325
DESCRIPTION:
LOCATION:
SUMMARY:Pam's b-day
END:VEVENT
BEGIN:VEVENT
DTSTAMP:20260426T021913Z
UID:40693282-8863-4adc-9160-5b33c2d815fd
DTSTART;VALUE=DATE:20350324
DTEND;VALUE=DATE:20350325
DESCRIPTION:
LOCATION:
SUMMARY:Pam's b-day
END:VEVENT
BEGIN:VEVENT
DTSTAMP:20260426T021913Z
UID:bc09739b-0661-4da9-bc20-dacbc99e54cf
DTSTART;VALUE=DATE:20360324
DTEND;VALUE=DATE:20360325
DESCRIPTION:
LOCATION:
SUMMARY:Pam's b-day
END:VEVENT
BEGIN:VEVENT
DTSTAMP:20260426T021913Z
UID:99d3336b-8775-44bc-bafd-5abe5d79c872
DTSTART;VALUE=DATE:20370324
DTEND;VALUE=DATE:20370325
DESCRIPTION:
LOCATION:
SUMMARY:Pam's b-day
END:VEVENT
BEGIN:VEVENT
DTSTAMP:20260426T021913Z
UID:3e7956f7-6b70-4447-ac4c-5fc41531a0ea
DTSTART;VALUE=DATE:20380324
DTEND;VALUE=DATE:20380325
DESCRIPTION:
LOCATION:
SUMMARY:Pam's b-day
END:VEVENT
BEGIN:VEVENT
DTSTAMP:20260426T021913Z
UID:721fd8a2-a7e9-43d2-9737-661c35fd44d7
DTSTART;VALUE=DATE:20390324
DTEND;VALUE=DATE:20390325
DESCRIPTION:
LOCATION:
SUMMARY:Pam's b-day
END:VEVENT
BEGIN:VEVENT
DTSTAMP:20260426T021913Z
UID:dac350f3-9e6b-4d45-953c-13d5cdba86ce
DTSTART;VALUE=DATE:20400324
DTEND;VALUE=DATE:20400325
DESCRIPTION:
LOCATION:
SUMMARY:Pam's b-day
END:VEVENT
BEGIN:VEVENT
DTSTAMP:20260426T021913Z
UID:aa5e1a95-7ec9-4d41-95ca-9df58b6f48f4
DTSTART;VALUE=DATE:20410324
DTEND;VALUE=DATE:20410325
DESCRIPTION:
LOCATION:
SUMMARY:Pam's b-day
END:VEVENT
BEGIN:VEVENT
DTSTAMP:20260426T021913Z
UID:82e456d4-e687-4f1e-8018-20cf0c93ba3e
DTSTART;VALUE=DATE:20420324
DTEND;VALUE=DATE:20420325
DESCRIPTION:
LOCATION:
SUMMARY:Pam's b-day
END:VEVENT
BEGIN:VEVENT
DTSTAMP:20260426T021913Z
UID:47bf314c-2f3e-4e40-a51e-21adaec2b21b
DTSTART;VALUE=DATE:20430324
DTEND;VALUE=DATE:20430325
DESCRIPTION:
LOCATION:
SUMMARY:Pam's b-day
END:VEVENT
BEGIN:VEVENT
DTSTAMP:20260426T021913Z
UID:532c8c53-0454-43f0-8c7c-0a5071f45c3c
DTSTART;VALUE=DATE:20440324
DTEND;VALUE=DATE:20440325
DESCRIPTION:
LOCATION:
SUMMARY:Pam's b-day
END:VEVENT
BEGIN:VEVENT
DTSTAMP:20260426T021913Z
UID:8a675223-d7ff-4ce3-a5d1-0b8790d3e1f7
DTSTART;VALUE=DATE:20450324
DTEND;VALUE=DATE:20450325
DESCRIPTION:
LOCATION:
SUMMARY:Pam's b-day
END:VEVENT
BEGIN:VEVENT
DTSTAMP:20260426T021913Z
UID:70c6ac43-b380-490e-a6df-cac7af2ef096
DTSTART;VALUE=DATE:20460324
DTEND;VALUE=DATE:20460325
DESCRIPTION:
LOCATION:
SUMMARY:Pam's b-day
END:VEVENT
BEGIN:VEVENT
DTSTAMP:20260426T021913Z
UID:c048eb74-c572-4127-bf8a-7e19c633c75a
DTSTART;VALUE=DATE:20470324
DTEND;VALUE=DATE:20470325
DESCRIPTION:
LOCATION:
SUMMARY:Pam's b-day
END:VEVENT
BEGIN:VEVENT
DTSTAMP:20260426T021913Z
UID:a4123b38-fd99-487d-974c-de42e9b6d5b1
DTSTART;VALUE=DATE:20480324
DTEND;VALUE=DATE:20480325
DESCRIPTION:
LOCATION:
SUMMARY:Pam's b-day
END:VEVENT
BEGIN:VEVENT
DTSTAMP:20260426T021913Z
UID:b39c0d7d-e04c-407c-a6d3-c56a29be3013
DTSTART;VALUE=DATE:20490324
DTEND;VALUE=DATE:20490325
DESCRIPTION:
LOCATION:
SUMMARY:Pam's b-day
END:VEVENT
BEGIN:VEVENT
DTSTAMP:20260426T021913Z
UID:662adeee-b1ba-49b7-aaf3-a725876da0de
DTSTART;VALUE=DATE:20500324
DTEND;VALUE=DATE:20500325
DESCRIPTION:
LOCATION:
SUMMARY:Pam's b-day
END:VEVENT
BEGIN:VEVENT
DTSTAMP:20260426T021913Z
UID:d4beaf4b-90ca-4de0-b179-4ae4ee9d6fae
DTSTART;VALUE=DATE:20510324
DTEND;VALUE=DATE:20510325
DESCRIPTION:
LOCATION:
SUMMARY:Pam's b-day
END:VEVENT
BEGIN:VEVENT
DTSTAMP:20260426T021913Z
UID:df375e1a-940d-48d2-9a3c-e54204472aa7
DTSTART;VALUE=DATE:20520324
DTEND;VALUE=DATE:20520325
DESCRIPTION:
LOCATION:
SUMMARY:Pam's b-day
END:VEVENT
BEGIN:VEVENT
DTSTAMP:20260426T021913Z
UID:460e3788-56ba-4b2f-8d7e-1a95e60f2f1e
DTSTART;VALUE=DATE:20530324
DTEND;VALUE=DATE:20530325
DESCRIPTION:
LOCATION:
SUMMARY:Pam's b-day
END:VEVENT
BEGIN:VEVENT
DTSTAMP:20260426T021913Z
UID:6c9f933a-5b1e-489a-8970-f098709e1299
DTSTART;VALUE=DATE:20540324
DTEND;VALUE=DATE:20540325
DESCRIPTION:
LOCATION:
SUMMARY:Pam's b-day
END:VEVENT
BEGIN:VEVENT
DTSTAMP:20260426T021913Z
UID:25f62614-8bc0-4bff-8c21-b91cd4dc7c37
DTSTART;VALUE=DATE:20550324
DTEND;VALUE=DATE:20550325
DESCRIPTION:
LOCATION:
SUMMARY:Pam's b-day
END:VEVENT
BEGIN:VEVENT
DTSTAMP:20260426T021913Z
UID:c02f40ae-b9ad-41d0-974a-13d0a7e6e3dd
DTSTART;VALUE=DATE:20560324
DTEND;VALUE=DATE:20560325
DESCRIPTION:
LOCATION:
SUMMARY:Pam's b-day
END:VEVENT
BEGIN:VEVENT
DTSTAMP:20260426T021913Z
UID:b46534e9-2748-4870-b4fb-ca1b67ca0d03
DTSTART;VALUE=DATE:20570324
DTEND;VALUE=DATE:20570325
DESCRIPTION:
LOCATION:
SUMMARY:Pam's b-day
END:VEVENT
BEGIN:VEVENT
DTSTAMP:20260426T021913Z
UID:ee39818b-4cf5-471b-a46e-881a780ecd74
DTSTART;VALUE=DATE:20580324
DTEND;VALUE=DATE:20580325
DESCRIPTION:
LOCATION:
SUMMARY:Pam's b-day
END:VEVENT
BEGIN:VEVENT
DTSTAMP:20260426T021913Z
UID:7aefca93-0502-4cdc-8758-d5a63f84fada
DTSTART;VALUE=DATE:20590324
DTEND;VALUE=DATE:20590325
DESCRIPTION:
LOCATION:
SUMMARY:Pam's b-day
END:VEVENT
BEGIN:VEVENT
DTSTAMP:20260426T021913Z
UID:f6c48b50-6299-4c91-a5af-a28adb9e9d2d
DTSTART;VALUE=DATE:20600324
DTEND;VALUE=DATE:20600325
DESCRIPTION:
LOCATION:
SUMMARY:Pam's b-day
END:VEVENT
BEGIN:VEVENT
DTSTAMP:20260426T021913Z
UID:1b9c1e66-1748-4360-9841-66ec5688fadd
DTSTART;VALUE=DATE:20610324
DTEND;VALUE=DATE:20610325
DESCRIPTION:
LOCATION:
SUMMARY:Pam's b-day
END:VEVENT
BEGIN:VEVENT
DTSTAMP:20260426T021913Z
UID:beedc0d0-c54f-4451-99a1-27a1858d1510
DTSTART;VALUE=DATE:20620324
DTEND;VALUE=DATE:20620325
DESCRIPTION:
LOCATION:
SUMMARY:Pam's b-day
END:VEVENT
BEGIN:VEVENT
DTSTAMP:20260426T021913Z
UID:b28d2ada-76b3-4aa2-a1b3-233930433f9c
DTSTART;VALUE=DATE:20630324
DTEND;VALUE=DATE:20630325
DESCRIPTION:
LOCATION:
SUMMARY:Pam's b-day
END:VEVENT
BEGIN:VEVENT
DTSTAMP:20260426T021913Z
UID:11dbcae6-17cb-4f8a-a6aa-a40b7cc80b7a
DTSTART;VALUE=DATE:20640324
DTEND;VALUE=DATE:20640325
DESCRIPTION:
LOCATION:
SUMMARY:Pam's b-day
END:VEVENT
BEGIN:VEVENT
DTSTAMP:20260426T021913Z
UID:73c4083e-612e-48da-b1fd-fbe5e9544de8
DTSTART;VALUE=DATE:20650324
DTEND;VALUE=DATE:20650325
DESCRIPTION:
LOCATION:
SUMMARY:Pam's b-day
END:VEVENT
BEGIN:VEVENT
DTSTAMP:20260426T021913Z
UID:7190cc76-c8dc-42e9-bb3e-7758dcadbb6c
DTSTART;VALUE=DATE:20660324
DTEND;VALUE=DATE:20660325
DESCRIPTION:
LOCATION:
SUMMARY:Pam's b-day
END:VEVENT
BEGIN:VEVENT
DTSTAMP:20260426T021913Z
UID:1a4830a2-244c-4151-aa42-c5da4f4c9510
DTSTART;VALUE=DATE:20670324
DTEND;VALUE=DATE:20670325
DESCRIPTION:
LOCATION:
SUMMARY:Pam's b-day
END:VEVENT
BEGIN:VEVENT
DTSTAMP:20260426T021913Z
UID:90170b33-a127-4edf-9859-747fb7614db4
DTSTART;VALUE=DATE:20680324
DTEND;VALUE=DATE:20680325
DESCRIPTION:
LOCATION:
SUMMARY:Pam's b-day
END:VEVENT
BEGIN:VEVENT
DTSTAMP:20260426T021913Z
UID:45cc6ca3-41a3-424c-a7ff-fda7adf87600
DTSTART;VALUE=DATE:20690324
DTEND;VALUE=DATE:20690325
DESCRIPTION:
LOCATION:
SUMMARY:Pam's b-day
END:VEVENT
BEGIN:VEVENT
DTSTAMP:20260426T021913Z
UID:ae33ccf0-2371-4562-9286-443ad7469df9
DTSTART;VALUE=DATE:20700324
DTEND;VALUE=DATE:20700325
DESCRIPTION:
LOCATION:
SUMMARY:Pam's b-day
END:VEVENT
BEGIN:VEVENT
DTSTAMP:20260426T021913Z
UID:42bc82a7-6d5f-4623-9ce2-92cc4f02c5aa
DTSTART;VALUE=DATE:20710324
DTEND;VALUE=DATE:20710325
DESCRIPTION:
LOCATION:
SUMMARY:Pam's b-day
END:VEVENT
BEGIN:VEVENT
DTSTAMP:20260426T021913Z
UID:6bcdc1df-5c68-4dba-920e-268ba2237854
DTSTART;VALUE=DATE:20720324
DTEND;VALUE=DATE:20720325
DESCRIPTION:
LOCATION:
SUMMARY:Pam's b-day
END:VEVENT
BEGIN:VEVENT
DTSTAMP:20260426T021913Z
UID:63a78fac-ae72-4a9c-9a1c-9bb95d49e566
DTSTART;VALUE=DATE:20730324
DTEND;VALUE=DATE:20730325
DESCRIPTION:
LOCATION:
SUMMARY:Pam's b-day
END:VEVENT
BEGIN:VEVENT
DTSTAMP:20260426T021913Z
UID:3da15114-7c6e-4b1f-9787-4a67a3806434
DTSTART;VALUE=DATE:20740324
DTEND;VALUE=DATE:20740325
DESCRIPTION:
LOCATION:
SUMMARY:Pam's b-day
END:VEVENT
BEGIN:VEVENT
DTSTAMP:20260426T021913Z
UID:c652a408-5f50-4c04-8fc1-224a6afc04bb
DTSTART;VALUE=DATE:20750324
DTEND;VALUE=DATE:20750325
DESCRIPTION:
LOCATION:
SUMMARY:Pam's b-day
END:VEVENT
BEGIN:VEVENT
DTSTAMP:20260426T021913Z
UID:6199825a-8c87-4460-ba6d-1059fa72813d
DTSTART;VALUE=DATE:20760324
DTEND;VALUE=DATE:20760325
DESCRIPTION:
LOCATION:
SUMMARY:Pam's b-day
END:VEVENT
BEGIN:VEVENT
DTSTAMP:20260426T021913Z
UID:86b7dc6a-e7d8-4c60-b2ad-9095d9d3bc0c
DTSTART;VALUE=DATE:20770324
DTEND;VALUE=DATE:20770325
DESCRIPTION:
LOCATION:
SUMMARY:Pam's b-day
END:VEVENT
BEGIN:VEVENT
DTSTAMP:20260426T021913Z
UID:36d0af5b-fbb3-41b2-8e24-93d81618689b
DTSTART;VALUE=DATE:20780324
DTEND;VALUE=DATE:20780325
DESCRIPTION:
LOCATION:
SUMMARY:Pam's b-day
END:VEVENT
BEGIN:VEVENT
DTSTAMP:20260426T021913Z
UID:9ee01ac8-268e-4259-b71d-da395d81d4ea
DTSTART;VALUE=DATE:20790324
DTEND;VALUE=DATE:20790325
DESCRIPTION:
LOCATION:
SUMMARY:Pam's b-day
END:VEVENT
BEGIN:VEVENT
DTSTAMP:20260426T021913Z
UID:7e9e565d-1820-4fd1-a1b3-5c77d1a34e38
DTSTART;VALUE=DATE:20800324
DTEND;VALUE=DATE:20800325
DESCRIPTION:
LOCATION:
SUMMARY:Pam's b-day
END:VEVENT
BEGIN:VEVENT
DTSTAMP:20260426T021913Z
UID:79ab898c-751d-4620-b365-cc144d00a17e
DTSTART;VALUE=DATE:20810324
DTEND;VALUE=DATE:20810325
DESCRIPTION:
LOCATION:
SUMMARY:Pam's b-day
END:VEVENT
BEGIN:VEVENT
DTSTAMP:20260426T021913Z
UID:78113e6d-c562-42ca-bdf7-ee208fe4280e
DTSTART;VALUE=DATE:20820324
DTEND;VALUE=DATE:20820325
DESCRIPTION:
LOCATION:
SUMMARY:Pam's b-day
END:VEVENT
BEGIN:VEVENT
DTSTAMP:20260426T021913Z
UID:d7b1c14d-8647-443b-961c-79a10d2d8716
DTSTART;VALUE=DATE:20830324
DTEND;VALUE=DATE:20830325
DESCRIPTION:
LOCATION:
SUMMARY:Pam's b-day
END:VEVENT
BEGIN:VEVENT
DTSTAMP:20260426T021913Z
UID:62ab780c-a2d7-4aa3-aae3-53061c120fa1
DTSTART;VALUE=DATE:20840324
DTEND;VALUE=DATE:20840325
DESCRIPTION:
LOCATION:
SUMMARY:Pam's b-day
END:VEVENT
BEGIN:VEVENT
DTSTAMP:20260426T021913Z
UID:718b4cf9-e1d2-405d-88b2-f7d0477f3d36
DTSTART;VALUE=DATE:20850324
DTEND;VALUE=DATE:20850325
DESCRIPTION:
LOCATION:
SUMMARY:Pam's b-day
END:VEVENT
BEGIN:VEVENT
DTSTAMP:20260426T021913Z
UID:85128608-7182-458f-8f37-dbfbc8c7f096
DTSTART;VALUE=DATE:20860324
DTEND;VALUE=DATE:20860325
DESCRIPTION:
LOCATION:
SUMMARY:Pam's b-day
END:VEVENT
BEGIN:VEVENT
DTSTAMP:20260426T021913Z
UID:eb16bda7-5e18-4272-9e88-cff1255457b4
DTSTART;VALUE=DATE:20870324
DTEND;VALUE=DATE:20870325
DESCRIPTION:
LOCATION:
SUMMARY:Pam's b-day
END:VEVENT
BEGIN:VEVENT
DTSTAMP:20260426T021913Z
UID:90cb9bc9-e114-4c6b-95c9-146c362eaf3b
DTSTART;VALUE=DATE:20880324
DTEND;VALUE=DATE:20880325
DESCRIPTION:
LOCATION:
SUMMARY:Pam's b-day
END:VEVENT
BEGIN:VEVENT
DTSTAMP:20260426T021913Z
UID:b9430919-b0c2-4b7b-bcf8-809143e533a3
DTSTART;VALUE=DATE:20890324
DTEND;VALUE=DATE:20890325
DESCRIPTION:
LOCATION:
SUMMARY:Pam's b-day
END:VEVENT
BEGIN:VEVENT
DTSTAMP:20260426T021913Z
UID:170c9d9c-3560-49d6-82d8-27e312b91429
DTSTART;VALUE=DATE:20900324
DTEND;VALUE=DATE:20900325
DESCRIPTION:
LOCATION:
SUMMARY:Pam's b-day
END:VEVENT
BEGIN:VEVENT
DTSTAMP:20260426T021913Z
UID:cadd9e69-22b0-4020-ac80-1a0a790acc77
DTSTART;VALUE=DATE:20910324
DTEND;VALUE=DATE:20910325
DESCRIPTION:
LOCATION:
SUMMARY:Pam's b-day
END:VEVENT
BEGIN:VEVENT
DTSTAMP:20260426T021913Z
UID:581caa17-4b80-4ed4-8d82-75d3fb8a34ec
DTSTART;VALUE=DATE:20920324
DTEND;VALUE=DATE:20920325
DESCRIPTION:
LOCATION:
SUMMARY:Pam's b-day
END:VEVENT
BEGIN:VEVENT
DTSTAMP:20260426T021913Z
UID:a1c0d186-ac7a-483c-bb1f-14f66359ead6
DTSTART;VALUE=DATE:20930324
DTEND;VALUE=DATE:20930325
DESCRIPTION:
LOCATION:
SUMMARY:Pam's b-day
END:VEVENT
BEGIN:VEVENT
DTSTAMP:20260426T021913Z
UID:d6d33579-2363-4c39-b890-d88c2bf65b4f
DTSTART;VALUE=DATE:20940324
DTEND;VALUE=DATE:20940325
DESCRIPTION:
LOCATION:
SUMMARY:Pam's b-day
END:VEVENT
BEGIN:VEVENT
DTSTAMP:20260426T021913Z
UID:a4443bb0-25b5-49ad-b240-6019352694df
DTSTART;VALUE=DATE:20950324
DTEND;VALUE=DATE:20950325
DESCRIPTION:
LOCATION:
SUMMARY:Pam's b-day
END:VEVENT
BEGIN:VEVENT
DTSTAMP:20260426T021913Z
UID:a5fe0c0e-d293-4a7f-b3a7-d296344e854a
DTSTART;VALUE=DATE:20960324
DTEND;VALUE=DATE:20960325
DESCRIPTION:
LOCATION:
SUMMARY:Pam's b-day
END:VEVENT
BEGIN:VEVENT
DTSTAMP:20260426T021913Z
UID:7ddd6e3c-da87-4669-8a08-3fabc9093d85
DTSTART;VALUE=DATE:20970324
DTEND;VALUE=DATE:20970325
DESCRIPTION:
LOCATION:
SUMMARY:Pam's b-day
END:VEVENT
BEGIN:VEVENT
DTSTAMP:20260426T021913Z
UID:dca05c12-5937-4d55-a18b-c90977fc89a0
DTSTART;VALUE=DATE:20980324
DTEND;VALUE=DATE:20980325
DESCRIPTION:
LOCATION:
SUMMARY:Pam's b-day
END:VEVENT
BEGIN:VEVENT
DTSTAMP:20260426T021913Z
UID:83019ba5-50a4-45b8-b56a-ee2e0473cc69
DTSTART;VALUE=DATE:20990324
DTEND;VALUE=DATE:20990325
DESCRIPTION:
LOCATION:
SUMMARY:Pam's b-day
END:VEVENT
END:VCALENDAR
