BEGIN:VCALENDAR
VERSION:2.0
PRODID:icalendar-ruby
CALSCALE:GREGORIAN
BEGIN:VTIMEZONE
TZID:America/New_York
BEGIN:DAYLIGHT
DTSTART:20260308T030000
TZOFFSETFROM:-0500
TZOFFSETTO:-0400
RRULE:FREQ=YEARLY;BYDAY=2SU;BYMONTH=3
TZNAME:EDT
END:DAYLIGHT
BEGIN:STANDARD
DTSTART:20261101T010000
TZOFFSETFROM:-0400
TZOFFSETTO:-0500
RRULE:FREQ=YEARLY;BYDAY=1SU;BYMONTH=11
TZNAME:EST
END:STANDARD
END:VTIMEZONE
BEGIN:VEVENT
DTSTAMP:20260423T135452Z
UID:5041c45a-45f2-40a4-998b-07ce07c68036
DTSTART:20260507T173000
DTEND:20260507T193000
DESCRIPTION:
LOCATION:
SUMMARY:PTSO Family Skate @ Happy Valley Skating Rink
END:VEVENT
BEGIN:VEVENT
DTSTAMP:20260423T135452Z
UID:cf27b57c-82cb-4953-8573-e5dd791a75b5
DTSTART:20260520T173000
DTEND:20260520T183000
DESCRIPTION:
LOCATION:
SUMMARY:PTSO Meeting in Library
END:VEVENT
BEGIN:VEVENT
DTSTAMP:20260423T135452Z
UID:30631819-9a46-40d1-ad6b-f0339e842278
DTSTART:20260521T143000
DTEND:20260521T153000
DESCRIPTION:
LOCATION:
SUMMARY:Student Ambassadors Meeting
END:VEVENT
BEGIN:VEVENT
DTSTAMP:20260423T135452Z
UID:fc815042-32e0-48ea-8db7-d5627e4067c8
DTSTART:20260604T173000
DTEND:20260604T193000
DESCRIPTION:
LOCATION:
SUMMARY:PTSO Family Skate @ Happy Valley Skating Rink
END:VEVENT
BEGIN:VEVENT
DTSTAMP:20260423T135452Z
UID:148c039c-8885-4088-951b-eff20de917a9
DTSTART:20260617T173000
DTEND:20260617T183000
DESCRIPTION:
LOCATION:
SUMMARY:PTSO Meeting in Library
END:VEVENT
BEGIN:VEVENT
DTSTAMP:20260423T135452Z
UID:24a30ca6-dce3-42bb-bc88-3ce9f68ce7b7
DTSTART:20260702T173000
DTEND:20260702T193000
DESCRIPTION:
LOCATION:
SUMMARY:PTSO Family Skate @ Happy Valley Skating Rink
END:VEVENT
BEGIN:VEVENT
DTSTAMP:20260423T135452Z
UID:76ca9c95-54c0-43f2-b3ef-5f86cf16d8df
DTSTART:20260715T173000
DTEND:20260715T183000
DESCRIPTION:
LOCATION:
SUMMARY:PTSO Meeting in Library
END:VEVENT
BEGIN:VEVENT
DTSTAMP:20260423T135452Z
UID:36446432-500c-41a1-8f94-f65cfbcd63b4
DTSTART:20260806T173000
DTEND:20260806T193000
DESCRIPTION:
LOCATION:
SUMMARY:PTSO Family Skate @ Happy Valley Skating Rink
END:VEVENT
BEGIN:VEVENT
DTSTAMP:20260423T135452Z
UID:03ca3e29-5c64-4ef3-a7a9-67d7d460c847
DTSTART:20260819T173000
DTEND:20260819T183000
DESCRIPTION:
LOCATION:
SUMMARY:PTSO Meeting in Library
END:VEVENT
BEGIN:VEVENT
DTSTAMP:20260423T135452Z
UID:ee1a9a8c-27eb-44f0-ae17-ff12aa766c7c
DTSTART:20260903T173000
DTEND:20260903T193000
DESCRIPTION:
LOCATION:
SUMMARY:PTSO Family Skate @ Happy Valley Skating Rink
END:VEVENT
BEGIN:VEVENT
DTSTAMP:20260423T135452Z
UID:cecaaa02-61aa-4363-b262-0149c31861d0
DTSTART:20260916T173000
DTEND:20260916T183000
DESCRIPTION:
LOCATION:
SUMMARY:PTSO Meeting in Library
END:VEVENT
BEGIN:VEVENT
DTSTAMP:20260423T135452Z
UID:260d84dc-c613-4281-bcac-71ffe3c67a28
DTSTART:20261001T173000
DTEND:20261001T193000
DESCRIPTION:
LOCATION:
SUMMARY:PTSO Family Skate @ Happy Valley Skating Rink
END:VEVENT
BEGIN:VEVENT
DTSTAMP:20260423T135452Z
UID:cfdd2e22-0074-4da2-8635-d4681ea7651d
DTSTART:20261021T173000
DTEND:20261021T183000
DESCRIPTION:
LOCATION:
SUMMARY:PTSO Meeting in Library
END:VEVENT
BEGIN:VEVENT
DTSTAMP:20260423T135452Z
UID:10b32d93-ef78-4231-ae56-ea01c957f65d
DTSTART:20261105T173000
DTEND:20261105T193000
DESCRIPTION:
LOCATION:
SUMMARY:PTSO Family Skate @ Happy Valley Skating Rink
END:VEVENT
BEGIN:VEVENT
DTSTAMP:20260423T135452Z
UID:0c0ab46f-4ac6-472f-8243-04df77c0251f
DTSTART:20261118T173000
DTEND:20261118T183000
DESCRIPTION:
LOCATION:
SUMMARY:PTSO Meeting in Library
END:VEVENT
BEGIN:VEVENT
DTSTAMP:20260423T135452Z
UID:9a3b4c41-eaa3-4d43-8470-a1613ff2291f
DTSTART:20261216T173000
DTEND:20261216T183000
DESCRIPTION:
LOCATION:
SUMMARY:PTSO Meeting in Library
END:VEVENT
BEGIN:VEVENT
DTSTAMP:20260423T135452Z
UID:3cce66d5-404e-411b-81c6-b7a021f19712
DTSTART:20270120T173000
DTEND:20270120T183000
DESCRIPTION:
LOCATION:
SUMMARY:PTSO Meeting in Library
END:VEVENT
BEGIN:VEVENT
DTSTAMP:20260423T135452Z
UID:98c9fc34-f7bf-459b-ae0b-5e6669722390
DTSTART:20270217T173000
DTEND:20270217T183000
DESCRIPTION:
LOCATION:
SUMMARY:PTSO Meeting in Library
END:VEVENT
BEGIN:VEVENT
DTSTAMP:20260423T135452Z
UID:4358b32e-e28f-4871-bf37-095e9e3b413d
DTSTART:20270317T173000
DTEND:20270317T183000
DESCRIPTION:
LOCATION:
SUMMARY:PTSO Meeting in Library
END:VEVENT
BEGIN:VEVENT
DTSTAMP:20260423T135452Z
UID:e1accbb5-99a6-4eeb-9f71-1c02afe5808e
DTSTART:20270421T173000
DTEND:20270421T183000
DESCRIPTION:
LOCATION:
SUMMARY:PTSO Meeting in Library
END:VEVENT
END:VCALENDAR
