BEGIN:VCALENDAR
VERSION:2.0
PRODID:icalendar-ruby
CALSCALE:GREGORIAN
BEGIN:VTIMEZONE
TZID:America/New_York
BEGIN:DAYLIGHT
DTSTART:20260308T030000
TZOFFSETFROM:-0500
TZOFFSETTO:-0400
RRULE:FREQ=YEARLY;BYDAY=2SU;BYMONTH=3
TZNAME:EDT
END:DAYLIGHT
BEGIN:STANDARD
DTSTART:20261101T010000
TZOFFSETFROM:-0400
TZOFFSETTO:-0500
RRULE:FREQ=YEARLY;BYDAY=1SU;BYMONTH=11
TZNAME:EST
END:STANDARD
END:VTIMEZONE
BEGIN:VEVENT
DTSTAMP:20260423T135446Z
UID:98d51714-d526-46f4-a869-9c39f6ab2365
DTSTART:20260507T183000
DTEND:20260507T193000
DESCRIPTION:LOCATED IN THE LIBRARY.
LOCATION:
SUMMARY:PTSO MEETING 
END:VEVENT
BEGIN:VEVENT
DTSTAMP:20260423T135446Z
UID:ce03293d-7d6f-4fc2-a685-a8ea4d92d925
DTSTART:20260518T173000
DTEND:20260518T190000
DESCRIPTION:
LOCATION:Marshall Board Room
SUMMARY:WCCS School Board Meeting
END:VEVENT
BEGIN:VEVENT
DTSTAMP:20260423T135446Z
UID:467e1933-e6af-43cb-b8f5-1f286abbb159
DTSTART:20260604T183000
DTEND:20260604T193000
DESCRIPTION:LOCATED IN THE LIBRARY.
LOCATION:
SUMMARY:PTSO MEETING 
END:VEVENT
BEGIN:VEVENT
DTSTAMP:20260423T135446Z
UID:40b00491-fd21-4e82-aa79-ee189aa22fa0
DTSTART:20260615T173000
DTEND:20260615T190000
DESCRIPTION:
LOCATION:Marshall Board Room
SUMMARY:WCCS School Board Meeting
END:VEVENT
BEGIN:VEVENT
DTSTAMP:20260423T135446Z
UID:b2ac8ace-c293-420a-aa54-7ac05234ac67
DTSTART:20260702T183000
DTEND:20260702T193000
DESCRIPTION:LOCATED IN THE LIBRARY.
LOCATION:
SUMMARY:PTSO MEETING 
END:VEVENT
BEGIN:VEVENT
DTSTAMP:20260423T135446Z
UID:f5499b3d-ceb7-412c-8152-376c96e03f6f
DTSTART:20260720T173000
DTEND:20260720T190000
DESCRIPTION:
LOCATION:Marshall Board Room
SUMMARY:WCCS School Board Meeting
END:VEVENT
BEGIN:VEVENT
DTSTAMP:20260423T135446Z
UID:774d1181-2851-4e31-8782-c11f7163d190
DTSTART:20260806T183000
DTEND:20260806T193000
DESCRIPTION:LOCATED IN THE LIBRARY.
LOCATION:
SUMMARY:PTSO MEETING 
END:VEVENT
BEGIN:VEVENT
DTSTAMP:20260423T135446Z
UID:715adc1b-67d7-4b39-96b7-27e1b40a7fac
DTSTART:20260817T173000
DTEND:20260817T190000
DESCRIPTION:
LOCATION:Marshall Board Room
SUMMARY:WCCS School Board Meeting
END:VEVENT
BEGIN:VEVENT
DTSTAMP:20260423T135446Z
UID:3183e758-0604-49ea-bccf-3a32c2734d24
DTSTART:20260903T183000
DTEND:20260903T193000
DESCRIPTION:LOCATED IN THE LIBRARY.
LOCATION:
SUMMARY:PTSO MEETING 
END:VEVENT
BEGIN:VEVENT
DTSTAMP:20260423T135446Z
UID:a18646e8-8f89-4c3d-86a4-5cfbe7f69088
DTSTART:20260921T173000
DTEND:20260921T190000
DESCRIPTION:
LOCATION:Marshall Board Room
SUMMARY:WCCS School Board Meeting
END:VEVENT
BEGIN:VEVENT
DTSTAMP:20260423T135446Z
UID:15b5691c-0604-495a-81a3-6a53aaf944d8
DTSTART:20261001T183000
DTEND:20261001T193000
DESCRIPTION:LOCATED IN THE LIBRARY.
LOCATION:
SUMMARY:PTSO MEETING 
END:VEVENT
BEGIN:VEVENT
DTSTAMP:20260423T135446Z
UID:67662101-14f4-4340-acb8-8e91e2639681
DTSTART:20261019T173000
DTEND:20261019T190000
DESCRIPTION:
LOCATION:Marshall Board Room
SUMMARY:WCCS School Board Meeting
END:VEVENT
BEGIN:VEVENT
DTSTAMP:20260423T135446Z
UID:ffb41fbf-a123-4bca-9132-f3b8d370345a
DTSTART:20261105T183000
DTEND:20261105T193000
DESCRIPTION:LOCATED IN THE LIBRARY.
LOCATION:
SUMMARY:PTSO MEETING 
END:VEVENT
BEGIN:VEVENT
DTSTAMP:20260423T135446Z
UID:84ea16d3-ecf7-42bb-a227-491a60e55680
DTSTART:20261116T173000
DTEND:20261116T190000
DESCRIPTION:
LOCATION:Marshall Board Room
SUMMARY:WCCS School Board Meeting
END:VEVENT
BEGIN:VEVENT
DTSTAMP:20260423T135446Z
UID:4611cd79-23d2-41a6-be35-b320324ca42d
DTSTART:20261203T183000
DTEND:20261203T193000
DESCRIPTION:LOCATED IN THE LIBRARY.
LOCATION:
SUMMARY:PTSO MEETING 
END:VEVENT
BEGIN:VEVENT
DTSTAMP:20260423T135446Z
UID:2667f04f-e3ba-4ec7-80de-a2c0d6741a13
DTSTART:20261221T173000
DTEND:20261221T190000
DESCRIPTION:
LOCATION:Marshall Board Room
SUMMARY:WCCS School Board Meeting
END:VEVENT
BEGIN:VEVENT
DTSTAMP:20260423T135446Z
UID:4d2a3c11-ab86-471c-bd8e-10d6f348c070
DTSTART:20270107T183000
DTEND:20270107T193000
DESCRIPTION:LOCATED IN THE LIBRARY.
LOCATION:
SUMMARY:PTSO MEETING 
END:VEVENT
BEGIN:VEVENT
DTSTAMP:20260423T135446Z
UID:3bfaa764-523f-465a-aadd-72dd821cabb4
DTSTART:20270118T173000
DTEND:20270118T190000
DESCRIPTION:
LOCATION:Marshall Board Room
SUMMARY:WCCS School Board Meeting
END:VEVENT
BEGIN:VEVENT
DTSTAMP:20260423T135446Z
UID:9856340b-788d-4ff0-a92a-638f705d5c4d
DTSTART:20270204T183000
DTEND:20270204T193000
DESCRIPTION:LOCATED IN THE LIBRARY.
LOCATION:
SUMMARY:PTSO MEETING 
END:VEVENT
BEGIN:VEVENT
DTSTAMP:20260423T135446Z
UID:7a5b1394-f30b-48a8-baef-91f7199f52a9
DTSTART:20270215T173000
DTEND:20270215T190000
DESCRIPTION:
LOCATION:Marshall Board Room
SUMMARY:WCCS School Board Meeting
END:VEVENT
BEGIN:VEVENT
DTSTAMP:20260423T135446Z
UID:8d5f3ddc-79f4-45a5-b965-0b7c450ab7a7
DTSTART:20270304T183000
DTEND:20270304T193000
DESCRIPTION:LOCATED IN THE LIBRARY.
LOCATION:
SUMMARY:PTSO MEETING 
END:VEVENT
BEGIN:VEVENT
DTSTAMP:20260423T135446Z
UID:8dd13a7f-aadc-4e5e-865d-3e8f61de63ed
DTSTART:20270315T173000
DTEND:20270315T190000
DESCRIPTION:
LOCATION:Marshall Board Room
SUMMARY:WCCS School Board Meeting
END:VEVENT
END:VCALENDAR
