BEGIN:VCALENDAR
VERSION:2.0
PRODID:icalendar-ruby
CALSCALE:GREGORIAN
BEGIN:VTIMEZONE
TZID:America/New_York
BEGIN:DAYLIGHT
DTSTART:20260308T030000
TZOFFSETFROM:-0500
TZOFFSETTO:-0400
RRULE:FREQ=YEARLY;BYDAY=2SU;BYMONTH=3
TZNAME:EDT
END:DAYLIGHT
BEGIN:STANDARD
DTSTART:20261101T010000
TZOFFSETFROM:-0400
TZOFFSETTO:-0500
RRULE:FREQ=YEARLY;BYDAY=1SU;BYMONTH=11
TZNAME:EST
END:STANDARD
END:VTIMEZONE
BEGIN:VEVENT
DTSTAMP:20260423T135135Z
UID:50e272a3-4293-42b8-a993-307dff2a1240
DTSTART;VALUE=DATE:20260423
DTEND;VALUE=DATE:20260424
DESCRIPTION:
LOCATION:
SUMMARY:ILEARN Spirit Day: Conquer the Test! (Dress Like s Superhero)
END:VEVENT
BEGIN:VEVENT
DTSTAMP:20260423T135135Z
UID:33c51149-560e-415f-a32b-c9cdade754d7
DTSTART;VALUE=DATE:20260424
DTEND;VALUE=DATE:20260425
DESCRIPTION:
LOCATION:
SUMMARY:ILEARN Spirit Day: Victory Lap! (Show Your ISMS Pride)
END:VEVENT
BEGIN:VEVENT
DTSTAMP:20260423T135135Z
UID:cad18081-1b39-426c-9745-f379d465fb7a
DTSTART;VALUE=DATE:20260504
DTEND;VALUE=DATE:20260509
DESCRIPTION:
LOCATION:
SUMMARY:Teacher Appreciation Week 
END:VEVENT
BEGIN:VEVENT
DTSTAMP:20260423T135135Z
UID:37fb322b-565e-47a5-8925-987d6e18f406
DTSTART;VALUE=DATE:20260505
DTEND;VALUE=DATE:20260506
DESCRIPTION:
LOCATION:
SUMMARY:National Teacher Day
END:VEVENT
BEGIN:VEVENT
DTSTAMP:20260423T135135Z
UID:9ef2478a-f8d5-4565-9991-e852027f1307
DTSTART;VALUE=DATE:20260522
DTEND;VALUE=DATE:20260523
DESCRIPTION:
LOCATION:
SUMMARY:8th Grade: Fair Oaks Farms Field Trip
END:VEVENT
BEGIN:VEVENT
DTSTAMP:20260423T135135Z
UID:13d932e0-733c-4f80-a8d2-3f8f8d267620
DTSTART;VALUE=DATE:20260525
DTEND;VALUE=DATE:20260526
DESCRIPTION:
LOCATION:
SUMMARY:Memorial Day / NO SCHOOL
END:VEVENT
BEGIN:VEVENT
DTSTAMP:20260423T135135Z
UID:40605f8e-b473-4e21-b512-60fee82a584e
DTSTART;VALUE=DATE:20260528
DTEND;VALUE=DATE:20260529
DESCRIPTION:
LOCATION:
SUMMARY:Last Student Day
END:VEVENT
BEGIN:VEVENT
DTSTAMP:20260423T135135Z
UID:f17dee0c-4188-4081-87d1-5d69a555ad5b
DTSTART;VALUE=DATE:20260529
DTEND;VALUE=DATE:20260530
DESCRIPTION:
LOCATION:
SUMMARY:Teacher Records Day / NO STUDENTS
END:VEVENT
END:VCALENDAR
