BEGIN:VCALENDAR
VERSION:2.0
PRODID:icalendar-ruby
CALSCALE:GREGORIAN
BEGIN:VTIMEZONE
TZID:America/New_York
BEGIN:DAYLIGHT
DTSTART:20260308T030000
TZOFFSETFROM:-0500
TZOFFSETTO:-0400
RRULE:FREQ=YEARLY;BYDAY=2SU;BYMONTH=3
TZNAME:EDT
END:DAYLIGHT
BEGIN:STANDARD
DTSTART:20261101T010000
TZOFFSETFROM:-0400
TZOFFSETTO:-0500
RRULE:FREQ=YEARLY;BYDAY=1SU;BYMONTH=11
TZNAME:EST
END:STANDARD
END:VTIMEZONE
BEGIN:VEVENT
DTSTAMP:20260422T172221Z
UID:8a7711aa-d6f9-41a8-a8f3-34642f597069
DTSTART;VALUE=DATE:20260501
DTEND;VALUE=DATE:20260502
DESCRIPTION:
LOCATION:
SUMMARY:1/2 DAY FOR STUDENTS
END:VEVENT
BEGIN:VEVENT
DTSTAMP:20260422T172221Z
UID:ff87aece-3b66-4584-b472-23fb3b65895b
DTSTART;VALUE=DATE:20260501
DTEND;VALUE=DATE:20260502
DESCRIPTION:
LOCATION:
SUMMARY:LAST and 1/2 DAY FOR STUDENTS
END:VEVENT
BEGIN:VEVENT
DTSTAMP:20260422T172221Z
UID:e52adc90-bc25-4724-a7e1-6c03014c3e49
DTSTART;VALUE=DATE:20260501
DTEND;VALUE=DATE:20260502
DESCRIPTION:
LOCATION:
SUMMARY:TEACHER WORK DAY
END:VEVENT
BEGIN:VEVENT
DTSTAMP:20260422T172221Z
UID:85a60ccf-c6a5-4217-b551-37b69e3cce85
DTSTART;VALUE=DATE:20260525
DTEND;VALUE=DATE:20260526
DESCRIPTION:
LOCATION:
SUMMARY:MEMORIAL DAY/SCHOOLS CLOSED
END:VEVENT
BEGIN:VEVENT
DTSTAMP:20260422T172221Z
UID:084924e2-6602-4983-b6fc-f84c9248d151
DTSTART;VALUE=DATE:20260527
DTEND;VALUE=DATE:20260528
DESCRIPTION:
LOCATION:
SUMMARY:1/2 DAY FOR STUDENTS
END:VEVENT
BEGIN:VEVENT
DTSTAMP:20260422T172221Z
UID:4700d304-9164-45b5-bb02-23a1b1166151
DTSTART;VALUE=DATE:20260528
DTEND;VALUE=DATE:20260529
DESCRIPTION:
LOCATION:
SUMMARY:LAST and 1/2 DAY FOR STUDENTS
END:VEVENT
BEGIN:VEVENT
DTSTAMP:20260422T172221Z
UID:ef9e2e56-bbe4-47ef-9bac-6b1b4275b0b0
DTSTART;VALUE=DATE:20260529
DTEND;VALUE=DATE:20260530
DESCRIPTION:
LOCATION:
SUMMARY:TEACHER WORK DAY
END:VEVENT
END:VCALENDAR
